{"text_format":"1","workbook":"xlsx","n_sheets":5,"sheets":["Notice","Listes de choix","Consignes Organisationnelles et","Evaluation de la mission","Synthèse de l'évaluation"],"not_rendered":{"charts":0,"images":0,"macros":1,"external_links":0,"defined_names":10,"comments":0,"pivot_tables":0},"unopened":[],"bounds":{"document_bytes":16777216,"sheet_cells":100000,"rows_first":2000,"rows_last":500,"rows_between":2000,"halvings":0,"cell_chars":16384,"cell_head_chars":4096},"cells_cut":0,"cells_raw":0,"read":"whole","date_system":"1900"}

{"sheet":"Notice","index":0,"n_rows":30,"n_cols":5,"rows_kept":30,"cut":false,"hidden":false,"merged":[[2,4,10,4],[15,2,15,4]]}
[]
[null,"CODE COULEURS DU TABLEAU",null,null,"Notice d'utilisation"]
[null,null,null,null,"Sur la feuille \"Evaluation des risques\", il faut saisir préalablement le nom du responsable de misssion  et ensuite les différents protagonistes de la mission, le lieu et dates de la mission et, correspondant aux participants, les compétences.           Saisir ensuite les facteurs risques et les facteurs agravants ainsi que les obligations par le chef de mission.                                 Passer en suite sur la feuille de résultats qui synthétise vos réponses et exportez cette feuille de synthèse : \"Ficher/Exporter/\"."]
[]
[null,"Validité"]
[]
[null,"Non","Pas de formation réalisée"]
[]
[null,"Plus","Formation plus valide, en attente de renouvellement"]
[]
[null,"Oui","Formation valide"]
[]
[]
[]
[]
[null,null,"Conditions particulières"]
[]
[null,null,"Pour Zdt = 1",null,"Temps de déplament dans l'eau = Aucun"]
[null,null,null,null,"Durée de la mission = Prélèvement rapide uniquement"]
[null,null,null,null,"Conditions de mission = Sans objet"]
[null,null,null,null,"Température de l'eau = Sans objet"]
[null,null,null,null,"Tous les facteurs agravants à 1"]
[]
[null,null,"Pour Zdt= 5",null,"Tdepl autorisés : moins de deux minutes/ max 300 m du bord"]
[null,null,null,null,"Conditions de mission autorisés :eaux calme ou léger courant"]
[null,null,null,null,"Si Temps Mission (TM) <=2 (prélèvement rapide ou 1 heure)) alors Température d'Eau (TE) autorisées :  plus de 5°"]
[null,null,null,null,"Si  3<=Tm =<5 ( plus d'une demi journée) alors TE autorisées plus de 11°"]
[]
[null,null,"Pour Zdt=60 et cote =4 sinon =5",null,"Uniquement pour : Tdepl <=5 et pour les Cdm<=3 "]
[null,null,null,null,"Et TE <=6 (10° et +)"]

{"sheet":"Listes de choix","index":1,"n_rows":58,"n_cols":6,"rows_kept":58,"cut":false,"hidden":false,"merged":[]}
["Non","Pas de formation réalisée"]
["Plus","Formation plus valide à renouveler"]
["Oui","Formation valide"]
["-"]
[]
[]
[]
["Non","Non"]
["Oui","Oui"]
[]
[]
[{"$f":"TODAY()","v":"2025-11-26"}]
[]
[]
["Participants à la mission"]
["Opérateur qualifié"]
["Opérateur non qualifié"]
["Responsable scientifique de la mission"]
["Autres"]
["Facteurs de risque",null,null,null,"Facteurs agravants"]
["Colonne1","Colonne2",null,null,"Distance au véhicule"]
["Pente Maximale empruntée (PM)",null,null,null,"Colonne1","Colonne2"]
["Pente inférieure à 14%",1,null,null,"A proximité",1]
["Pente comprise entre 15 et 34%",2,null,null,"Jusqu'à 1 km",1]
["Pente comprise entre 35 et 54%",3,null,null,"Entre 1 et 5 km",1]
["Pente comprise entre 55 et 83%",4,null,null,"Entre5 et 10 km",3]
["Pente comprise supérieure à 84%",5,null,null,"Plus de 10 km",4]
["Nature du terrain (NT), Type de terrain le plus contraignant",null,null,null,"Conditions de portage"]
["Colonne1","Colonne2",null,null,"Colonne1","Colonne2"]
["Parking",1,null,null,"Pas de portage",1]
["Chemin",2,null,null,"Léger et peu encombrant",1]
["Hors chemin",3,null,null,"Léger et emcombrant",1]
["Eboulis",4,null,null,"Lourd et peu encombrant",3]
["Paroi rocheuse / Glacier",5,null,null,"Lourd et encombrant",5]
["Conditions de progression ou de travail (CPT)"]
["Colonne1","Colonne2"]
["Sec",1]
["Humide",2]
["Détrempé",3]
["Enneigé",4]
["Glacé",5]
[]
[]
[]
[]
[]
[]
[null,null,null,null,"Case à cocher"]
[null,null,null,null,"Colonne1","Colonne2"]
[null,null,null,null,"Sans objet",1]
[null,null,null,null,"Oui",1]
[null,null,null,null,"Non ",0]
[]
[]
[null,null,null,null,"Case à cocher"]
[null,null,null,null,"Colonne1","Colonne2"]
[null,null,null,null,"Oui",1]
[null,null,null,null,"Non ",0]

{"sheet":"Consignes Organisationnelles et","index":2,"n_rows":38,"n_cols":20,"rows_kept":38,"cut":false,"hidden":false,"merged":[]}
[]
[null,null,null,null,null,null,null,null,null,null,null,null,null,null,null,null,null,null,null,"Conditions de la mission"]
["Côte","Consignes Organisationnelle"]
[1,"Ordre de mission."]
[2,"Ordre de mission. + Travail isolé interdit +  Nécessité d’organiser la mission / Moyens de communication adaptés pour l’appel  éventuel des secours / Formations spécifiques sur le milieu / SST obligatoire des participants."]
[3,"Ordre de mission. + Nécessité d’organiser la mission / Moyens de communication adaptés pour l’appel  éventuel des secours / Formations spécifiques sur le milieu / SST obligatoire des participants. + Préparation de la mission en amont : préconisations par le responsable de mission. Présence obligatoire de deux personnes pour l’ensemble de la mission, moyens de communication entre membres de l’équipe.\nSonnette terrain"]
[4,"Ordre de mission. + Nécessité d’organiser la mission / Moyens de communication adaptés pour l’appel  éventuel des secours / Formations spécifiques sur le milieu / SST obligatoire des participants. + Préparation de la mission en amont : préconisations par le responsable de mission. Présence obligatoire de deux personnes pour l’ensemble de la mission, moyens de communication entre membres de l’équipe. + Validation des équipements par le responsable de mission, prise en compte des problèmes de charge pour les portages, vérifications par le responsable de mission.\nSonnette terrain"]
[5,"Ordre de mission. + Nécessité d’organiser la mission / Moyens de communication adaptés pour l’appel  éventuel des secours / Formations spécifiques sur le milieu / SST obligatoire des participants. + Préparation de la mission en amont : préconisations par le responsable de mission. Présence obligatoire de deux personnes pour l’ensemble de la mission, moyens de communication entre membres de l’équipe. + Validation des équipements par le responsable de mission, prise en compte des problèmes de charge pour les portages, vérifications par le responsable de mission. + Accompagnement soit par une personne du labo ayant les compétences nécessaires et la connaissance du terrain soit par un professionnel (voir remarques).\nSonnette terrain"]
[]
[]
["Côte ","Consignes techniques","Colonne1"]
[1,"Adaptés aux conditions météo de la mission : Veste/teeshirt, pantalon/short, baskets, lunettes de soleil, casquette/couvre-chef/bonnet léger."]
[2,"Adaptés aux conditions météo de la mission : Veste/teeshirt, pantalon/short, baskets, lunettes de soleil, casquette/couvre-chef/bonnet léger. + Adaptés au terrain: Chaussures de sport ou montantes. "]
[3,"Adaptés aux conditions météo de la mission : Veste/teeshirt, pantalon/short, baskets, lunettes de soleil, casquette/couvre-chef/bonnet léger. + Adaptés au terrain: Chaussures de sport ou montantes. + Spécifiques au terrain : Chaussures de marche, gants, sous-vêtements chauds, pantalon léger, veste coupe-vent, tee-shirt respirant ou en laine,  gourde, casque et guêtres."]
[4,"Adaptés aux conditions météo de la mission : Veste/teeshirt, pantalon/short, baskets, lunettes de soleil, casquette/couvre-chef/bonnet léger. + Adaptés au terrain: Chaussures de sport ou montantes. + Spécifiques au terrain : Chaussures de marche, gants, sous-vêtements chauds, pantalon léger, veste coupe-vent, tee-shirt respirant ou en laine,  gourde, casque et guêtres. + Techniques et équipements de protection individuel: Cordes, baudriers, eau, caleçon long respirant."]
[5,"Adaptés aux conditions météo de la mission : Veste/teeshirt, pantalon/short, baskets, lunettes de soleil, casquette/couvre-chef/bonnet léger. + Adaptés au terrain: Chaussures de sport ou montantes. + Spécifiques au terrain : Chaussures de marche, gants, sous-vêtements chauds, pantalon léger, veste coupe-vent, tee-shirt respirant ou en laine,  gourde, casque et guêtres. + Techniques et équipements de protection individuel: Cordes, baudriers, eau, caleçon long respirant. + Spécifiques à la haute montagne : Ski, matériels de paroi, crampons, piolet, pantalon de haute montagne, polaire ou pull, veste Gore-Tex, paire de gants/bonnet, chaussures de montagne."]
[]
[]
[]
[]
[]
[null,null,null,null,null,null,null,null,null,null,null,null,null,null,null,null,{"$f":"VBAProject.Module2.MaCondition(Q6,R10)","v":"Conditions non valides"}]
[]
[]
[]
[]
[]
[]
[]
[]
[]
[]
[]
[]
[]
[]
[]
[null,"Cote"]

{"sheet":"Evaluation de la mission","index":3,"n_rows":1805,"n_cols":39,"rows_kept":1805,"cut":false,"hidden":false,"merged":[[28,17,29,19],[0,24,0,38],[0,21,0,22],[1,24,1,29],[1,30,1,33],[1,34,1,35],[1,36,1,38],[14,17,14,19],[0,17,0,19],[25,0,27,6],[9,17,9,19],[15,17,15,19],[0,14,0,15],[1,0,1,6],[0,8,0,12],[0,0,0,6],[8,17,8,19]]}
[null,null,null,null,null,null,null,null,"PERMIS",null,null,null,null,null,"SST",null,null,"Critères d'évaluation des risques avant mission",null,null,null,"Facteurs Aggravants",null,null,"Obligations du chef de mission (le chef de mission valide ou pas les obligations)"]
[null,null,null,null,null,null,null,null,null,null,null,null,null,null,null,null,null,"Pente maximale empruntée","Type de terrain le plus contraignant","Conditions de progression et /ou de travail",null,"Distance au véhicule","Conditions de portage",null,"Obligations du chef de mission avant le départ de la mission ",null,null,null,null,null,"Obligations du chef de mission durant la mission",null,null,null,"Intervention de personnels extérieurs au labo",null,"Incidents / Accidents"]
["Niveau de responsabilité","Nom  Prénom","Date de saisie","Date début de mission","Date fin de mission","Nature de la mission","Lieu de la mission",null,"B","C","E(B)","Guide ","Accompagnateur",null,"SST","SST Milieux hostiles",null,"Pente comprise supérieure à 84%","Hors chemin","Enneigé",null,"Plus de 10 km","Lourd et encombrant",null,"Une information spécifique à la mission a été dispensée. : consignes chaque jour avant le départ de mission (place et mission de chacun…)","Vérification du bon état du matériel et des EPI des participants.","Check de la compatibilité de la fatigue des personnelles avec la mission chaque jour.","Vérification des conditions météorologiques et du BRA (Bulletin de risque avalanche) dans le cas de présence de neige",null,"Trousse de secours terrain.","Il s’engage à vérifier le matériel durant la mission et à modifier celui-ci ou la mission si besoin.","S’assure en permanence de la sécurité","S’engage à arrêter la mission, à revenir dans un lieu sécurisé, ou à mettre en place une procédure d’urgence. Il a la seule autorité pour ces choix.","S’engage en cas d’accident à mettre en attente de la victime, à déclencher l’alerte. Il alerte sans délai le DU, l’AP.\nIl établit un rapport circonstancié auprès du DU au retour de la mission.","Travail en commun : une convention a été signée","Travaux en co-activité : un plan de prévention a-t-il été signé?","Moyen de communication prévus.","Les membres du groupe sont SST.","Pour les missions hors UE: S assurer de moyen de sauvetage mobilisable."]
[]
["Responsable technique de la mission*","tutu","2025-10-22","2025-10-23","2025-10-23","test mission","Moye",null,"Oui","Oui","Oui","Non","Plus",null,"Oui","Plus",null,"PM","NT","CPT",null,"DV","CP"]
["Opérateur non qualifié","toto",null,null,null,null,null,null,"Oui","Non","Non","Plus","Plus",null,"Plus","Plus",null,{"$f":"VLOOKUP(R3,'Listes de choix'!A23:B27,2,FALSE)","v":5},{"$f":"VLOOKUP(S3,'Listes de choix'!A30:B34,2,FALSE)","v":3},{"$f":"VLOOKUP(T3,'Listes de choix'!A37:B41,2,FALSE)","v":4},null,{"$f":"VLOOKUP(V3,'Listes de choix'!E23:F27,2,FALSE)","v":4},{"$f":"VLOOKUP(W3,Tableau7[],2,FALSE)","v":5},null,"Oui","Sans objet","Non ","Oui","Sans objet","Sans objet","Sans objet","Oui","Non ","Oui","Sans objet","Sans objet","Sans objet","Sans objet","Non "]
["Responsable scientifique de la mission","titi",null,null,null,null,null,null,"Plus","Plus","Plus","Plus","Oui",null,"Oui","Oui",null,null,null,null,null,null,null,null,{"$f":"VLOOKUP(Y6,Tableau13[],2,FALSE)","v":1},{"$f":"VLOOKUP(Z6,Tableau13[],2,FALSE)","v":1},{"$f":"VLOOKUP(AA6,Tableau13[],2,FALSE)","v":0},{"$f":"VLOOKUP(AB6,Tableau13[],2,FALSE)","v":1},null,{"$f":"VLOOKUP(AD6,Tableau13[],2,FALSE)","v":1},{"$f":"VLOOKUP(AE6,Tableau13[],2,FALSE)","v":1},{"$f":"VLOOKUP(AF6,Tableau13[],2,FALSE)","v":1},{"$f":"VLOOKUP(AG6,Tableau13[],2,FALSE)","v":0},{"$f":"VLOOKUP(AH6,Tableau13[],2,FALSE)","v":1},{"$f":"VLOOKUP(AI6,Tableau13[],2,FALSE)","v":1},{"$f":"VLOOKUP(AJ6,Tableau13[],2,FALSE)","v":1},{"$f":"VLOOKUP(AK6,Tableau13[],2,FALSE)","v":1},{"$f":"VLOOKUP(AL6,Tableau13[],2,FALSE)","v":1},{"$f":"VLOOKUP(AM6,Tableau13[],2,FALSE)","v":0}]
[]
[null,null,null,null,null,null,null,null,null,null,null,null,null,null,null,null,null,"Niveau de risque avant application des obligations"]
[null,null,null,null,null,null,null,null,null,null,null,null,null,null,null,null,null,{"$f":"PRODUCT(POWER(PRODUCT(R6,S6,T6),1/3),V6,W6)","v":78.297352823377267}]
[]
[null,null,null,null,null,null,null,null,null,null,null,null,null,null,null,null,null,null,null," "]
[]
[]
[null,null,null,null,null,null,null,null,null,null,null,null,null,null,null,null,null,"Niveau de risque après application des obligations"]
[null,null,null,null,null,null,null,null,null,null,null,null,null,null,null,null,null,{"$f":"(R10-SUM(Y7:AM7)*2)","v":56.297352823377267}]
[]
[]
[]
[null,null,null,null,null,null,null,null,null,null,null,null,null,null,null,null,null,{"$f":"MAX(R6:T6)","v":5},null,"Côte"]
[null,null,null,null,null,null,null,null,null,null,null,null,null,null,null,null,null,null,null,{"$f":"R20","v":5}]
[]
[]
[]
[]
[" * Les responsable technique de la mission est la personne qui sur le terrain, prend la responsabilité d'engager les hommes et le matériel. Il construit sa décision en fonction de l'état de fatigue du groupe et l'évoluation des conditions météorologiques."]
[]
[]
[null,null,null,null,null,null,null,null,null,null,null,null,null,null,null,null,null,"Si la côte affiche  \"erreur\" c’est que certains critères choisis sont interdits pour ce type de mission (cf onglet règle)."]
[]
[]
[]
[]
[]
[]
[]
[]
[]
[]
[]
[]
[]
[]
[]
[]
[]
[]
[]
[]
[]
[]
[]
[]
[]
[]
[]
[]
[]
[]
[]
[]
[]
[]
[]
[]
[]
[]
[]
[]
[]
[]
[]
[]
[]
[]
[]
[]
[]
[]
[]
[]
[]
[]
[]
[]
[]
[]
[]
[]
[]
[]
[]
[]
[]
[]
[]
[]
[]
[]
[]
[]
[]
[]
[]
[]
[]
[]
[]
[]
[]
[]
[]
[]
[]
[]
[]
[]
[]
[]
[]
[]
[]
[]
[]
[]
[]
[]
[]
[]
[]
[]
[]
[]
[]
[]
[]
[]
[]
[]
[]
[]
[]
[]
[]
[]
[]
[]
[]
[]
[]
[]
[]
[]
[]
[]
[]
[]
[]
[]
[]
[]
[]
[]
[]
[]
[]
[]
[]
[]
[]
[]
[]
[]
[]
[]
[]
[]
[]
[]
[]
[]
[]
[]
[]
[]
[]
[]
[]
[]
[]
[]
[]
[]
[]
[]
[]
[]
[]
[]
[]
[]
[]
[]
[]
[]
[]
[]
[]
[]
[]
[]
[]
[]
[]
[]
[]
[]
[]
[]
[]
[]
[]
[]
[]
[]
[]
[]
[]
[]
[]
[]
[]
[]
[]
[]
[]
[]
[]
[]
[]
[]
[]
[]
[]
[]
[]
[]
[]
[]
[]
[]
[]
[]
[]
[]
[]
[]
[]
[]
[]
[]
[]
[]
[]
[]
[]
[]
[]
[]
[]
[]
[]
[]
[]
[]
[]
[]
[]
[]
[]
[]
[]
[]
[]
[]
[]
[]
[]
[]
[]
[]
[]
[]
[]
[]
[]
[]
[]
[]
[]
[]
[]
[]
[]
[]
[]
[]
[]
[]
[]
[]
[]
[]
[]
[]
[]
[]
[]
[]
[]
[]
[]
[]
[]
[]
[]
[]
[]
[]
[]
[]
[]
[]
[]
[]
[]
[]
[]
[]
[]
[]
[]
[]
[]
[]
[null,null,null,null,null,null,null,null,null,null,null,null,null,null,{"$f":"IF(#REF!=\"\",\"\",IF(#REF!<TODAY(),0,IF(#REF!<(TODAY()+365),1,\"X\")))","v":{"$error":"#REF!"}},{"$f":"IF(#REF!=\"\",\"\",\"X\")","v":{"$error":"#REF!"}}]
[null,null,null,null,null,null,null,null,null,null,null,null,null,null,{"$f":"IF(#REF!=\"\",\"\",IF(#REF!<TODAY(),0,IF(#REF!<(TODAY()+365),1,\"X\")))","v":{"$error":"#REF!"}},{"$f":"IF(#REF!=\"\",\"\",\"X\")","v":{"$error":"#REF!"}}]
[null,null,null,null,null,null,null,null,null,null,null,null,null,null,{"$f":"IF(#REF!=\"\",\"\",IF(#REF!<TODAY(),0,IF(#REF!<(TODAY()+365),1,\"X\")))","v":{"$error":"#REF!"}},{"$f":"IF(#REF!=\"\",\"\",\"X\")","v":{"$error":"#REF!"}}]
[null,null,null,null,null,null,null,null,null,null,null,null,null,null,{"$f":"IF(#REF!=\"\",\"\",IF(#REF!<TODAY(),0,IF(#REF!<(TODAY()+365),1,\"X\")))","v":{"$error":"#REF!"}},{"$f":"IF(#REF!=\"\",\"\",\"X\")","v":{"$error":"#REF!"}}]
[null,null,null,null,null,null,null,null,null,null,null,null,null,null,{"$f":"IF(#REF!=\"\",\"\",IF(#REF!<TODAY(),0,IF(#REF!<(TODAY()+365),1,\"X\")))","v":{"$error":"#REF!"}},{"$f":"IF(#REF!=\"\",\"\",\"X\")","v":{"$error":"#REF!"}}]
[null,null,null,null,null,null,null,null,null,null,null,null,null,null,{"$f":"IF(#REF!=\"\",\"\",IF(#REF!<TODAY(),0,IF(#REF!<(TODAY()+365),1,\"X\")))","v":{"$error":"#REF!"}},{"$f":"IF(#REF!=\"\",\"\",\"X\")","v":{"$error":"#REF!"}}]
[null,null,null,null,null,null,null,null,null,null,null,null,null,null,{"$f":"IF(#REF!=\"\",\"\",IF(#REF!<TODAY(),0,IF(#REF!<(TODAY()+365),1,\"X\")))","v":{"$error":"#REF!"}},{"$f":"IF(#REF!=\"\",\"\",\"X\")","v":{"$error":"#REF!"}}]
[null,null,null,null,null,null,null,null,null,null,null,null,null,null,{"$f":"IF(#REF!=\"\",\"\",IF(#REF!<TODAY(),0,IF(#REF!<(TODAY()+365),1,\"X\")))","v":{"$error":"#REF!"}},{"$f":"IF(#REF!=\"\",\"\",\"X\")","v":{"$error":"#REF!"}}]
[null,null,null,null,null,null,null,null,null,null,null,null,null,null,{"$f":"IF(#REF!=\"\",\"\",IF(#REF!<TODAY(),0,IF(#REF!<(TODAY()+365),1,\"X\")))","v":{"$error":"#REF!"}},{"$f":"IF(#REF!=\"\",\"\",\"X\")","v":{"$error":"#REF!"}}]
[null,null,null,null,null,null,null,null,null,null,null,null,null,null,{"$f":"IF(#REF!=\"\",\"\",IF(#REF!<TODAY(),0,IF(#REF!<(TODAY()+365),1,\"X\")))","v":{"$error":"#REF!"}},{"$f":"IF(#REF!=\"\",\"\",\"X\")","v":{"$error":"#REF!"}}]
[null,null,null,null,null,null,null,null,null,null,null,null,null,null,{"$f":"IF(#REF!=\"\",\"\",IF(#REF!<TODAY(),0,IF(#REF!<(TODAY()+365),1,\"X\")))","v":{"$error":"#REF!"}},{"$f":"IF(#REF!=\"\",\"\",\"X\")","v":{"$error":"#REF!"}}]
[null,null,null,null,null,null,null,null,null,null,null,null,null,null,{"$f":"IF(#REF!=\"\",\"\",IF(#REF!<TODAY(),0,IF(#REF!<(TODAY()+365),1,\"X\")))","v":{"$error":"#REF!"}},{"$f":"IF(#REF!=\"\",\"\",\"X\")","v":{"$error":"#REF!"}}]
[null,null,null,null,null,null,null,null,null,null,null,null,null,null,{"$f":"IF(#REF!=\"\",\"\",IF(#REF!<TODAY(),0,IF(#REF!<(TODAY()+365),1,\"X\")))","v":{"$error":"#REF!"}},{"$f":"IF(#REF!=\"\",\"\",\"X\")","v":{"$error":"#REF!"}}]
[null,null,null,null,null,null,null,null,null,null,null,null,null,null,{"$f":"IF(#REF!=\"\",\"\",IF(#REF!<TODAY(),0,IF(#REF!<(TODAY()+365),1,\"X\")))","v":{"$error":"#REF!"}},{"$f":"IF(#REF!=\"\",\"\",\"X\")","v":{"$error":"#REF!"}}]
[null,null,null,null,null,null,null,null,null,null,null,null,null,null,{"$f":"IF(#REF!=\"\",\"\",IF(#REF!<TODAY(),0,IF(#REF!<(TODAY()+365),1,\"X\")))","v":{"$error":"#REF!"}},{"$f":"IF(#REF!=\"\",\"\",\"X\")","v":{"$error":"#REF!"}}]
[null,null,null,null,null,null,null,null,null,null,null,null,null,null,{"$f":"IF(#REF!=\"\",\"\",IF(#REF!<TODAY(),0,IF(#REF!<(TODAY()+365),1,\"X\")))","v":{"$error":"#REF!"}},{"$f":"IF(#REF!=\"\",\"\",\"X\")","v":{"$error":"#REF!"}}]
[null,null,null,null,null,null,null,null,null,null,null,null,null,null,{"$f":"IF(#REF!=\"\",\"\",IF(#REF!<TODAY(),0,IF(#REF!<(TODAY()+365),1,\"X\")))","v":{"$error":"#REF!"}},{"$f":"IF(#REF!=\"\",\"\",\"X\")","v":{"$error":"#REF!"}}]
[null,null,null,null,null,null,null,null,null,null,null,null,null,null,{"$f":"IF(#REF!=\"\",\"\",IF(#REF!<TODAY(),0,IF(#REF!<(TODAY()+365),1,\"X\")))","v":{"$error":"#REF!"}},{"$f":"IF(#REF!=\"\",\"\",\"X\")","v":{"$error":"#REF!"}}]
[null,null,null,null,null,null,null,null,null,null,null,null,null,null,{"$f":"IF(#REF!=\"\",\"\",IF(#REF!<TODAY(),0,IF(#REF!<(TODAY()+365),1,\"X\")))","v":{"$error":"#REF!"}},{"$f":"IF(#REF!=\"\",\"\",\"X\")","v":{"$error":"#REF!"}}]
[null,null,null,null,null,null,null,null,null,null,null,null,null,null,{"$f":"IF(#REF!=\"\",\"\",IF(#REF!<TODAY(),0,IF(#REF!<(TODAY()+365),1,\"X\")))","v":{"$error":"#REF!"}},{"$f":"IF(#REF!=\"\",\"\",\"X\")","v":{"$error":"#REF!"}}]
[null,null,null,null,null,null,null,null,null,null,null,null,null,null,{"$f":"IF(#REF!=\"\",\"\",IF(#REF!<TODAY(),0,IF(#REF!<(TODAY()+365),1,\"X\")))","v":{"$error":"#REF!"}},{"$f":"IF(#REF!=\"\",\"\",\"X\")","v":{"$error":"#REF!"}}]
[null,null,null,null,null,null,null,null,null,null,null,null,null,null,{"$f":"IF(#REF!=\"\",\"\",IF(#REF!<TODAY(),0,IF(#REF!<(TODAY()+365),1,\"X\")))","v":{"$error":"#REF!"}},{"$f":"IF(#REF!=\"\",\"\",\"X\")","v":{"$error":"#REF!"}}]
[null,null,null,null,null,null,null,null,null,null,null,null,null,null,{"$f":"IF(#REF!=\"\",\"\",IF(#REF!<TODAY(),0,IF(#REF!<(TODAY()+365),1,\"X\")))","v":{"$error":"#REF!"}},{"$f":"IF(#REF!=\"\",\"\",\"X\")","v":{"$error":"#REF!"}}]
[null,null,null,null,null,null,null,null,null,null,null,null,null,null,{"$f":"IF(#REF!=\"\",\"\",IF(#REF!<TODAY(),0,IF(#REF!<(TODAY()+365),1,\"X\")))","v":{"$error":"#REF!"}},{"$f":"IF(#REF!=\"\",\"\",\"X\")","v":{"$error":"#REF!"}}]
[null,null,null,null,null,null,null,null,null,null,null,null,null,null,{"$f":"IF(#REF!=\"\",\"\",IF(#REF!<TODAY(),0,IF(#REF!<(TODAY()+365),1,\"X\")))","v":{"$error":"#REF!"}},{"$f":"IF(#REF!=\"\",\"\",\"X\")","v":{"$error":"#REF!"}}]
[null,null,null,null,null,null,null,null,null,null,null,null,null,null,{"$f":"IF(#REF!=\"\",\"\",IF(#REF!<TODAY(),0,IF(#REF!<(TODAY()+365),1,\"X\")))","v":{"$error":"#REF!"}},{"$f":"IF(#REF!=\"\",\"\",\"X\")","v":{"$error":"#REF!"}}]
[null,null,null,null,null,null,null,null,null,null,null,null,null,null,{"$f":"IF(#REF!=\"\",\"\",IF(#REF!<TODAY(),0,IF(#REF!<(TODAY()+365),1,\"X\")))","v":{"$error":"#REF!"}},{"$f":"IF(#REF!=\"\",\"\",\"X\")","v":{"$error":"#REF!"}}]
[null,null,null,null,null,null,null,null,null,null,null,null,null,null,{"$f":"IF(#REF!=\"\",\"\",IF(#REF!<TODAY(),0,IF(#REF!<(TODAY()+365),1,\"X\")))","v":{"$error":"#REF!"}},{"$f":"IF(#REF!=\"\",\"\",\"X\")","v":{"$error":"#REF!"}}]
[null,null,null,null,null,null,null,null,null,null,null,null,null,null,{"$f":"IF(#REF!=\"\",\"\",IF(#REF!<TODAY(),0,IF(#REF!<(TODAY()+365),1,\"X\")))","v":{"$error":"#REF!"}},{"$f":"IF(#REF!=\"\",\"\",\"X\")","v":{"$error":"#REF!"}}]
[null,null,null,null,null,null,null,null,null,null,null,null,null,null,{"$f":"IF(#REF!=\"\",\"\",IF(#REF!<TODAY(),0,IF(#REF!<(TODAY()+365),1,\"X\")))","v":{"$error":"#REF!"}},{"$f":"IF(#REF!=\"\",\"\",\"X\")","v":{"$error":"#REF!"}}]
[null,null,null,null,null,null,null,null,null,null,null,null,null,null,{"$f":"IF(#REF!=\"\",\"\",IF(#REF!<TODAY(),0,IF(#REF!<(TODAY()+365),1,\"X\")))","v":{"$error":"#REF!"}},{"$f":"IF(#REF!=\"\",\"\",\"X\")","v":{"$error":"#REF!"}}]
[null,null,null,null,null,null,null,null,null,null,null,null,null,null,{"$f":"IF(#REF!=\"\",\"\",IF(#REF!<TODAY(),0,IF(#REF!<(TODAY()+365),1,\"X\")))","v":{"$error":"#REF!"}},{"$f":"IF(#REF!=\"\",\"\",\"X\")","v":{"$error":"#REF!"}}]
[null,null,null,null,null,null,null,null,null,null,null,null,null,null,{"$f":"IF(#REF!=\"\",\"\",IF(#REF!<TODAY(),0,IF(#REF!<(TODAY()+365),1,\"X\")))","v":{"$error":"#REF!"}},{"$f":"IF(#REF!=\"\",\"\",\"X\")","v":{"$error":"#REF!"}}]
[null,null,null,null,null,null,null,null,null,null,null,null,null,null,{"$f":"IF(#REF!=\"\",\"\",IF(#REF!<TODAY(),0,IF(#REF!<(TODAY()+365),1,\"X\")))","v":{"$error":"#REF!"}},{"$f":"IF(#REF!=\"\",\"\",\"X\")","v":{"$error":"#REF!"}}]
[null,null,null,null,null,null,null,null,null,null,null,null,null,null,{"$f":"IF(#REF!=\"\",\"\",IF(#REF!<TODAY(),0,IF(#REF!<(TODAY()+365),1,\"X\")))","v":{"$error":"#REF!"}},{"$f":"IF(#REF!=\"\",\"\",\"X\")","v":{"$error":"#REF!"}}]
[null,null,null,null,null,null,null,null,null,null,null,null,null,null,{"$f":"IF(#REF!=\"\",\"\",IF(#REF!<TODAY(),0,IF(#REF!<(TODAY()+365),1,\"X\")))","v":{"$error":"#REF!"}},{"$f":"IF(#REF!=\"\",\"\",\"X\")","v":{"$error":"#REF!"}}]
[null,null,null,null,null,null,null,null,null,null,null,null,null,null,{"$f":"IF(#REF!=\"\",\"\",IF(#REF!<TODAY(),0,IF(#REF!<(TODAY()+365),1,\"X\")))","v":{"$error":"#REF!"}},{"$f":"IF(#REF!=\"\",\"\",\"X\")","v":{"$error":"#REF!"}}]
[null,null,null,null,null,null,null,null,null,null,null,null,null,null,{"$f":"IF(#REF!=\"\",\"\",IF(#REF!<TODAY(),0,IF(#REF!<(TODAY()+365),1,\"X\")))","v":{"$error":"#REF!"}},{"$f":"IF(#REF!=\"\",\"\",\"X\")","v":{"$error":"#REF!"}}]
[null,null,null,null,null,null,null,null,null,null,null,null,null,null,{"$f":"IF(#REF!=\"\",\"\",IF(#REF!<TODAY(),0,IF(#REF!<(TODAY()+365),1,\"X\")))","v":{"$error":"#REF!"}},{"$f":"IF(#REF!=\"\",\"\",\"X\")","v":{"$error":"#REF!"}}]
[null,null,null,null,null,null,null,null,null,null,null,null,null,null,{"$f":"IF(#REF!=\"\",\"\",IF(#REF!<TODAY(),0,IF(#REF!<(TODAY()+365),1,\"X\")))","v":{"$error":"#REF!"}},{"$f":"IF(#REF!=\"\",\"\",\"X\")","v":{"$error":"#REF!"}}]
[null,null,null,null,null,null,null,null,null,null,null,null,null,null,{"$f":"IF(#REF!=\"\",\"\",IF(#REF!<TODAY(),0,IF(#REF!<(TODAY()+365),1,\"X\")))","v":{"$error":"#REF!"}},{"$f":"IF(#REF!=\"\",\"\",\"X\")","v":{"$error":"#REF!"}}]
[null,null,null,null,null,null,null,null,null,null,null,null,null,null,{"$f":"IF(#REF!=\"\",\"\",IF(#REF!<TODAY(),0,IF(#REF!<(TODAY()+365),1,\"X\")))","v":{"$error":"#REF!"}},{"$f":"IF(#REF!=\"\",\"\",\"X\")","v":{"$error":"#REF!"}}]
[null,null,null,null,null,null,null,null,null,null,null,null,null,null,{"$f":"IF(#REF!=\"\",\"\",IF(#REF!<TODAY(),0,IF(#REF!<(TODAY()+365),1,\"X\")))","v":{"$error":"#REF!"}},{"$f":"IF(#REF!=\"\",\"\",\"X\")","v":{"$error":"#REF!"}}]
[null,null,null,null,null,null,null,null,null,null,null,null,null,null,{"$f":"IF(#REF!=\"\",\"\",IF(#REF!<TODAY(),0,IF(#REF!<(TODAY()+365),1,\"X\")))","v":{"$error":"#REF!"}},{"$f":"IF(#REF!=\"\",\"\",\"X\")","v":{"$error":"#REF!"}}]
[null,null,null,null,null,null,null,null,null,null,null,null,null,null,{"$f":"IF(#REF!=\"\",\"\",IF(#REF!<TODAY(),0,IF(#REF!<(TODAY()+365),1,\"X\")))","v":{"$error":"#REF!"}},{"$f":"IF(#REF!=\"\",\"\",\"X\")","v":{"$error":"#REF!"}}]
[null,null,null,null,null,null,null,null,null,null,null,null,null,null,{"$f":"IF(#REF!=\"\",\"\",IF(#REF!<TODAY(),0,IF(#REF!<(TODAY()+365),1,\"X\")))","v":{"$error":"#REF!"}},{"$f":"IF(#REF!=\"\",\"\",\"X\")","v":{"$error":"#REF!"}}]
[null,null,null,null,null,null,null,null,null,null,null,null,null,null,{"$f":"IF(#REF!=\"\",\"\",IF(#REF!<TODAY(),0,IF(#REF!<(TODAY()+365),1,\"X\")))","v":{"$error":"#REF!"}},{"$f":"IF(#REF!=\"\",\"\",\"X\")","v":{"$error":"#REF!"}}]
[null,null,null,null,null,null,null,null,null,null,null,null,null,null,{"$f":"IF(#REF!=\"\",\"\",IF(#REF!<TODAY(),0,IF(#REF!<(TODAY()+365),1,\"X\")))","v":{"$error":"#REF!"}},{"$f":"IF(#REF!=\"\",\"\",\"X\")","v":{"$error":"#REF!"}}]
[null,null,null,null,null,null,null,null,null,null,null,null,null,null,{"$f":"IF(#REF!=\"\",\"\",IF(#REF!<TODAY(),0,IF(#REF!<(TODAY()+365),1,\"X\")))","v":{"$error":"#REF!"}},{"$f":"IF(#REF!=\"\",\"\",\"X\")","v":{"$error":"#REF!"}}]
[null,null,null,null,null,null,null,null,null,null,null,null,null,null,{"$f":"IF(#REF!=\"\",\"\",IF(#REF!<TODAY(),0,IF(#REF!<(TODAY()+365),1,\"X\")))","v":{"$error":"#REF!"}},{"$f":"IF(#REF!=\"\",\"\",\"X\")","v":{"$error":"#REF!"}}]
[null,null,null,null,null,null,null,null,null,null,null,null,null,null,{"$f":"IF(#REF!=\"\",\"\",IF(#REF!<TODAY(),0,IF(#REF!<(TODAY()+365),1,\"X\")))","v":{"$error":"#REF!"}},{"$f":"IF(#REF!=\"\",\"\",\"X\")","v":{"$error":"#REF!"}}]
[null,null,null,null,null,null,null,null,null,null,null,null,null,null,{"$f":"IF(#REF!=\"\",\"\",IF(#REF!<TODAY(),0,IF(#REF!<(TODAY()+365),1,\"X\")))","v":{"$error":"#REF!"}},{"$f":"IF(#REF!=\"\",\"\",\"X\")","v":{"$error":"#REF!"}}]
[null,null,null,null,null,null,null,null,null,null,null,null,null,null,{"$f":"IF(#REF!=\"\",\"\",IF(#REF!<TODAY(),0,IF(#REF!<(TODAY()+365),1,\"X\")))","v":{"$error":"#REF!"}},{"$f":"IF(#REF!=\"\",\"\",\"X\")","v":{"$error":"#REF!"}}]
[null,null,null,null,null,null,null,null,null,null,null,null,null,null,{"$f":"IF(#REF!=\"\",\"\",IF(#REF!<TODAY(),0,IF(#REF!<(TODAY()+365),1,\"X\")))","v":{"$error":"#REF!"}},{"$f":"IF(#REF!=\"\",\"\",\"X\")","v":{"$error":"#REF!"}}]
[null,null,null,null,null,null,null,null,null,null,null,null,null,null,{"$f":"IF(#REF!=\"\",\"\",IF(#REF!<TODAY(),0,IF(#REF!<(TODAY()+365),1,\"X\")))","v":{"$error":"#REF!"}},{"$f":"IF(#REF!=\"\",\"\",\"X\")","v":{"$error":"#REF!"}}]
[null,null,null,null,null,null,null,null,null,null,null,null,null,null,{"$f":"IF(#REF!=\"\",\"\",IF(#REF!<TODAY(),0,IF(#REF!<(TODAY()+365),1,\"X\")))","v":{"$error":"#REF!"}},{"$f":"IF(#REF!=\"\",\"\",\"X\")","v":{"$error":"#REF!"}}]
[null,null,null,null,null,null,null,null,null,null,null,null,null,null,{"$f":"IF(#REF!=\"\",\"\",IF(#REF!<TODAY(),0,IF(#REF!<(TODAY()+365),1,\"X\")))","v":{"$error":"#REF!"}},{"$f":"IF(#REF!=\"\",\"\",\"X\")","v":{"$error":"#REF!"}}]
[null,null,null,null,null,null,null,null,null,null,null,null,null,null,{"$f":"IF(#REF!=\"\",\"\",IF(#REF!<TODAY(),0,IF(#REF!<(TODAY()+365),1,\"X\")))","v":{"$error":"#REF!"}},{"$f":"IF(#REF!=\"\",\"\",\"X\")","v":{"$error":"#REF!"}}]
[null,null,null,null,null,null,null,null,null,null,null,null,null,null,{"$f":"IF(#REF!=\"\",\"\",IF(#REF!<TODAY(),0,IF(#REF!<(TODAY()+365),1,\"X\")))","v":{"$error":"#REF!"}},{"$f":"IF(#REF!=\"\",\"\",\"X\")","v":{"$error":"#REF!"}}]
[null,null,null,null,null,null,null,null,null,null,null,null,null,null,{"$f":"IF(#REF!=\"\",\"\",IF(#REF!<TODAY(),0,IF(#REF!<(TODAY()+365),1,\"X\")))","v":{"$error":"#REF!"}},{"$f":"IF(#REF!=\"\",\"\",\"X\")","v":{"$error":"#REF!"}}]
[null,null,null,null,null,null,null,null,null,null,null,null,null,null,{"$f":"IF(#REF!=\"\",\"\",IF(#REF!<TODAY(),0,IF(#REF!<(TODAY()+365),1,\"X\")))","v":{"$error":"#REF!"}},{"$f":"IF(#REF!=\"\",\"\",\"X\")","v":{"$error":"#REF!"}}]
[null,null,null,null,null,null,null,null,null,null,null,null,null,null,{"$f":"IF(#REF!=\"\",\"\",IF(#REF!<TODAY(),0,IF(#REF!<(TODAY()+365),1,\"X\")))","v":{"$error":"#REF!"}},{"$f":"IF(#REF!=\"\",\"\",\"X\")","v":{"$error":"#REF!"}}]
[null,null,null,null,null,null,null,null,null,null,null,null,null,null,{"$f":"IF(#REF!=\"\",\"\",IF(#REF!<TODAY(),0,IF(#REF!<(TODAY()+365),1,\"X\")))","v":{"$error":"#REF!"}},{"$f":"IF(#REF!=\"\",\"\",\"X\")","v":{"$error":"#REF!"}}]
[null,null,null,null,null,null,null,null,null,null,null,null,null,null,{"$f":"IF(#REF!=\"\",\"\",IF(#REF!<TODAY(),0,IF(#REF!<(TODAY()+365),1,\"X\")))","v":{"$error":"#REF!"}},{"$f":"IF(#REF!=\"\",\"\",\"X\")","v":{"$error":"#REF!"}}]
[null,null,null,null,null,null,null,null,null,null,null,null,null,null,{"$f":"IF(#REF!=\"\",\"\",IF(#REF!<TODAY(),0,IF(#REF!<(TODAY()+365),1,\"X\")))","v":{"$error":"#REF!"}},{"$f":"IF(#REF!=\"\",\"\",\"X\")","v":{"$error":"#REF!"}}]
[null,null,null,null,null,null,null,null,null,null,null,null,null,null,{"$f":"IF(#REF!=\"\",\"\",IF(#REF!<TODAY(),0,IF(#REF!<(TODAY()+365),1,\"X\")))","v":{"$error":"#REF!"}},{"$f":"IF(#REF!=\"\",\"\",\"X\")","v":{"$error":"#REF!"}}]
[null,null,null,null,null,null,null,null,null,null,null,null,null,null,{"$f":"IF(#REF!=\"\",\"\",IF(#REF!<TODAY(),0,IF(#REF!<(TODAY()+365),1,\"X\")))","v":{"$error":"#REF!"}},{"$f":"IF(#REF!=\"\",\"\",\"X\")","v":{"$error":"#REF!"}}]
[null,null,null,null,null,null,null,null,null,null,null,null,null,null,{"$f":"IF(#REF!=\"\",\"\",IF(#REF!<TODAY(),0,IF(#REF!<(TODAY()+365),1,\"X\")))","v":{"$error":"#REF!"}},{"$f":"IF(#REF!=\"\",\"\",\"X\")","v":{"$error":"#REF!"}}]
[null,null,null,null,null,null,null,null,null,null,null,null,null,null,{"$f":"IF(#REF!=\"\",\"\",IF(#REF!<TODAY(),0,IF(#REF!<(TODAY()+365),1,\"X\")))","v":{"$error":"#REF!"}},{"$f":"IF(#REF!=\"\",\"\",\"X\")","v":{"$error":"#REF!"}}]
[null,null,null,null,null,null,null,null,null,null,null,null,null,null,{"$f":"IF(#REF!=\"\",\"\",IF(#REF!<TODAY(),0,IF(#REF!<(TODAY()+365),1,\"X\")))","v":{"$error":"#REF!"}},{"$f":"IF(#REF!=\"\",\"\",\"X\")","v":{"$error":"#REF!"}}]
[null,null,null,null,null,null,null,null,null,null,null,null,null,null,{"$f":"IF(#REF!=\"\",\"\",IF(#REF!<TODAY(),0,IF(#REF!<(TODAY()+365),1,\"X\")))","v":{"$error":"#REF!"}},{"$f":"IF(#REF!=\"\",\"\",\"X\")","v":{"$error":"#REF!"}}]
[null,null,null,null,null,null,null,null,null,null,null,null,null,null,{"$f":"IF(#REF!=\"\",\"\",IF(#REF!<TODAY(),0,IF(#REF!<(TODAY()+365),1,\"X\")))","v":{"$error":"#REF!"}},{"$f":"IF(#REF!=\"\",\"\",\"X\")","v":{"$error":"#REF!"}}]
[null,null,null,null,null,null,null,null,null,null,null,null,null,null,{"$f":"IF(#REF!=\"\",\"\",IF(#REF!<TODAY(),0,IF(#REF!<(TODAY()+365),1,\"X\")))","v":{"$error":"#REF!"}},{"$f":"IF(#REF!=\"\",\"\",\"X\")","v":{"$error":"#REF!"}}]
[null,null,null,null,null,null,null,null,null,null,null,null,null,null,{"$f":"IF(#REF!=\"\",\"\",IF(#REF!<TODAY(),0,IF(#REF!<(TODAY()+365),1,\"X\")))","v":{"$error":"#REF!"}},{"$f":"IF(#REF!=\"\",\"\",\"X\")","v":{"$error":"#REF!"}}]
[null,null,null,null,null,null,null,null,null,null,null,null,null,null,{"$f":"IF(#REF!=\"\",\"\",IF(#REF!<TODAY(),0,IF(#REF!<(TODAY()+365),1,\"X\")))","v":{"$error":"#REF!"}},{"$f":"IF(#REF!=\"\",\"\",\"X\")","v":{"$error":"#REF!"}}]
[null,null,null,null,null,null,null,null,null,null,null,null,null,null,{"$f":"IF(#REF!=\"\",\"\",IF(#REF!<TODAY(),0,IF(#REF!<(TODAY()+365),1,\"X\")))","v":{"$error":"#REF!"}},{"$f":"IF(#REF!=\"\",\"\",\"X\")","v":{"$error":"#REF!"}}]
[null,null,null,null,null,null,null,null,null,null,null,null,null,null,{"$f":"IF(#REF!=\"\",\"\",IF(#REF!<TODAY(),0,IF(#REF!<(TODAY()+365),1,\"X\")))","v":{"$error":"#REF!"}},{"$f":"IF(#REF!=\"\",\"\",\"X\")","v":{"$error":"#REF!"}}]
[null,null,null,null,null,null,null,null,null,null,null,null,null,null,{"$f":"IF(#REF!=\"\",\"\",IF(#REF!<TODAY(),0,IF(#REF!<(TODAY()+365),1,\"X\")))","v":{"$error":"#REF!"}},{"$f":"IF(#REF!=\"\",\"\",\"X\")","v":{"$error":"#REF!"}}]
[null,null,null,null,null,null,null,null,null,null,null,null,null,null,{"$f":"IF(#REF!=\"\",\"\",IF(#REF!<TODAY(),0,IF(#REF!<(TODAY()+365),1,\"X\")))","v":{"$error":"#REF!"}},{"$f":"IF(#REF!=\"\",\"\",\"X\")","v":{"$error":"#REF!"}}]
[null,null,null,null,null,null,null,null,null,null,null,null,null,null,{"$f":"IF(#REF!=\"\",\"\",IF(#REF!<TODAY(),0,IF(#REF!<(TODAY()+365),1,\"X\")))","v":{"$error":"#REF!"}},{"$f":"IF(#REF!=\"\",\"\",\"X\")","v":{"$error":"#REF!"}}]
[null,null,null,null,null,null,null,null,null,null,null,null,null,null,{"$f":"IF(#REF!=\"\",\"\",IF(#REF!<TODAY(),0,IF(#REF!<(TODAY()+365),1,\"X\")))","v":{"$error":"#REF!"}},{"$f":"IF(#REF!=\"\",\"\",\"X\")","v":{"$error":"#REF!"}}]
[null,null,null,null,null,null,null,null,null,null,null,null,null,null,{"$f":"IF(#REF!=\"\",\"\",IF(#REF!<TODAY(),0,IF(#REF!<(TODAY()+365),1,\"X\")))","v":{"$error":"#REF!"}},{"$f":"IF(#REF!=\"\",\"\",\"X\")","v":{"$error":"#REF!"}}]
[null,null,null,null,null,null,null,null,null,null,null,null,null,null,{"$f":"IF(#REF!=\"\",\"\",IF(#REF!<TODAY(),0,IF(#REF!<(TODAY()+365),1,\"X\")))","v":{"$error":"#REF!"}},{"$f":"IF(#REF!=\"\",\"\",\"X\")","v":{"$error":"#REF!"}}]
[null,null,null,null,null,null,null,null,null,null,null,null,null,null,{"$f":"IF(#REF!=\"\",\"\",IF(#REF!<TODAY(),0,IF(#REF!<(TODAY()+365),1,\"X\")))","v":{"$error":"#REF!"}},{"$f":"IF(#REF!=\"\",\"\",\"X\")","v":{"$error":"#REF!"}}]
[null,null,null,null,null,null,null,null,null,null,null,null,null,null,{"$f":"IF(#REF!=\"\",\"\",IF(#REF!<TODAY(),0,IF(#REF!<(TODAY()+365),1,\"X\")))","v":{"$error":"#REF!"}},{"$f":"IF(#REF!=\"\",\"\",\"X\")","v":{"$error":"#REF!"}}]
[null,null,null,null,null,null,null,null,null,null,null,null,null,null,{"$f":"IF(#REF!=\"\",\"\",IF(#REF!<TODAY(),0,IF(#REF!<(TODAY()+365),1,\"X\")))","v":{"$error":"#REF!"}},{"$f":"IF(#REF!=\"\",\"\",\"X\")","v":{"$error":"#REF!"}}]
[null,null,null,null,null,null,null,null,null,null,null,null,null,null,{"$f":"IF(#REF!=\"\",\"\",IF(#REF!<TODAY(),0,IF(#REF!<(TODAY()+365),1,\"X\")))","v":{"$error":"#REF!"}},{"$f":"IF(#REF!=\"\",\"\",\"X\")","v":{"$error":"#REF!"}}]
[null,null,null,null,null,null,null,null,null,null,null,null,null,null,{"$f":"IF(#REF!=\"\",\"\",IF(#REF!<TODAY(),0,IF(#REF!<(TODAY()+365),1,\"X\")))","v":{"$error":"#REF!"}},{"$f":"IF(#REF!=\"\",\"\",\"X\")","v":{"$error":"#REF!"}}]
[null,null,null,null,null,null,null,null,null,null,null,null,null,null,{"$f":"IF(#REF!=\"\",\"\",IF(#REF!<TODAY(),0,IF(#REF!<(TODAY()+365),1,\"X\")))","v":{"$error":"#REF!"}},{"$f":"IF(#REF!=\"\",\"\",\"X\")","v":{"$error":"#REF!"}}]
[null,null,null,null,null,null,null,null,null,null,null,null,null,null,{"$f":"IF(#REF!=\"\",\"\",IF(#REF!<TODAY(),0,IF(#REF!<(TODAY()+365),1,\"X\")))","v":{"$error":"#REF!"}},{"$f":"IF(#REF!=\"\",\"\",\"X\")","v":{"$error":"#REF!"}}]
[null,null,null,null,null,null,null,null,null,null,null,null,null,null,{"$f":"IF(#REF!=\"\",\"\",IF(#REF!<TODAY(),0,IF(#REF!<(TODAY()+365),1,\"X\")))","v":{"$error":"#REF!"}},{"$f":"IF(#REF!=\"\",\"\",\"X\")","v":{"$error":"#REF!"}}]
[null,null,null,null,null,null,null,null,null,null,null,null,null,null,{"$f":"IF(#REF!=\"\",\"\",IF(#REF!<TODAY(),0,IF(#REF!<(TODAY()+365),1,\"X\")))","v":{"$error":"#REF!"}},{"$f":"IF(#REF!=\"\",\"\",\"X\")","v":{"$error":"#REF!"}}]
[null,null,null,null,null,null,null,null,null,null,null,null,null,null,{"$f":"IF(#REF!=\"\",\"\",IF(#REF!<TODAY(),0,IF(#REF!<(TODAY()+365),1,\"X\")))","v":{"$error":"#REF!"}},{"$f":"IF(#REF!=\"\",\"\",\"X\")","v":{"$error":"#REF!"}}]
[null,null,null,null,null,null,null,null,null,null,null,null,null,null,{"$f":"IF(#REF!=\"\",\"\",IF(#REF!<TODAY(),0,IF(#REF!<(TODAY()+365),1,\"X\")))","v":{"$error":"#REF!"}},{"$f":"IF(#REF!=\"\",\"\",\"X\")","v":{"$error":"#REF!"}}]
[null,null,null,null,null,null,null,null,null,null,null,null,null,null,{"$f":"IF(#REF!=\"\",\"\",IF(#REF!<TODAY(),0,IF(#REF!<(TODAY()+365),1,\"X\")))","v":{"$error":"#REF!"}},{"$f":"IF(#REF!=\"\",\"\",\"X\")","v":{"$error":"#REF!"}}]
[null,null,null,null,null,null,null,null,null,null,null,null,null,null,{"$f":"IF(#REF!=\"\",\"\",IF(#REF!<TODAY(),0,IF(#REF!<(TODAY()+365),1,\"X\")))","v":{"$error":"#REF!"}},{"$f":"IF(#REF!=\"\",\"\",\"X\")","v":{"$error":"#REF!"}}]
[null,null,null,null,null,null,null,null,null,null,null,null,null,null,{"$f":"IF(#REF!=\"\",\"\",IF(#REF!<TODAY(),0,IF(#REF!<(TODAY()+365),1,\"X\")))","v":{"$error":"#REF!"}},{"$f":"IF(#REF!=\"\",\"\",\"X\")","v":{"$error":"#REF!"}}]
[null,null,null,null,null,null,null,null,null,null,null,null,null,null,{"$f":"IF(#REF!=\"\",\"\",IF(#REF!<TODAY(),0,IF(#REF!<(TODAY()+365),1,\"X\")))","v":{"$error":"#REF!"}},{"$f":"IF(#REF!=\"\",\"\",\"X\")","v":{"$error":"#REF!"}}]
[null,null,null,null,null,null,null,null,null,null,null,null,null,null,{"$f":"IF(#REF!=\"\",\"\",IF(#REF!<TODAY(),0,IF(#REF!<(TODAY()+365),1,\"X\")))","v":{"$error":"#REF!"}},{"$f":"IF(#REF!=\"\",\"\",\"X\")","v":{"$error":"#REF!"}}]
[null,null,null,null,null,null,null,null,null,null,null,null,null,null,{"$f":"IF(#REF!=\"\",\"\",IF(#REF!<TODAY(),0,IF(#REF!<(TODAY()+365),1,\"X\")))","v":{"$error":"#REF!"}},{"$f":"IF(#REF!=\"\",\"\",\"X\")","v":{"$error":"#REF!"}}]
[null,null,null,null,null,null,null,null,null,null,null,null,null,null,{"$f":"IF(#REF!=\"\",\"\",IF(#REF!<TODAY(),0,IF(#REF!<(TODAY()+365),1,\"X\")))","v":{"$error":"#REF!"}},{"$f":"IF(#REF!=\"\",\"\",\"X\")","v":{"$error":"#REF!"}}]
[null,null,null,null,null,null,null,null,null,null,null,null,null,null,{"$f":"IF(#REF!=\"\",\"\",IF(#REF!<TODAY(),0,IF(#REF!<(TODAY()+365),1,\"X\")))","v":{"$error":"#REF!"}},{"$f":"IF(#REF!=\"\",\"\",\"X\")","v":{"$error":"#REF!"}}]
[null,null,null,null,null,null,null,null,null,null,null,null,null,null,{"$f":"IF(#REF!=\"\",\"\",IF(#REF!<TODAY(),0,IF(#REF!<(TODAY()+365),1,\"X\")))","v":{"$error":"#REF!"}},{"$f":"IF(#REF!=\"\",\"\",\"X\")","v":{"$error":"#REF!"}}]
[null,null,null,null,null,null,null,null,null,null,null,null,null,null,{"$f":"IF(#REF!=\"\",\"\",IF(#REF!<TODAY(),0,IF(#REF!<(TODAY()+365),1,\"X\")))","v":{"$error":"#REF!"}},{"$f":"IF(#REF!=\"\",\"\",\"X\")","v":{"$error":"#REF!"}}]
[null,null,null,null,null,null,null,null,null,null,null,null,null,null,{"$f":"IF(#REF!=\"\",\"\",IF(#REF!<TODAY(),0,IF(#REF!<(TODAY()+365),1,\"X\")))","v":{"$error":"#REF!"}},{"$f":"IF(#REF!=\"\",\"\",\"X\")","v":{"$error":"#REF!"}}]
[null,null,null,null,null,null,null,null,null,null,null,null,null,null,{"$f":"IF(#REF!=\"\",\"\",IF(#REF!<TODAY(),0,IF(#REF!<(TODAY()+365),1,\"X\")))","v":{"$error":"#REF!"}},{"$f":"IF(#REF!=\"\",\"\",\"X\")","v":{"$error":"#REF!"}}]
[null,null,null,null,null,null,null,null,null,null,null,null,null,null,{"$f":"IF(#REF!=\"\",\"\",IF(#REF!<TODAY(),0,IF(#REF!<(TODAY()+365),1,\"X\")))","v":{"$error":"#REF!"}},{"$f":"IF(#REF!=\"\",\"\",\"X\")","v":{"$error":"#REF!"}}]
[null,null,null,null,null,null,null,null,null,null,null,null,null,null,{"$f":"IF(#REF!=\"\",\"\",IF(#REF!<TODAY(),0,IF(#REF!<(TODAY()+365),1,\"X\")))","v":{"$error":"#REF!"}},{"$f":"IF(#REF!=\"\",\"\",\"X\")","v":{"$error":"#REF!"}}]
[null,null,null,null,null,null,null,null,null,null,null,null,null,null,{"$f":"IF(#REF!=\"\",\"\",IF(#REF!<TODAY(),0,IF(#REF!<(TODAY()+365),1,\"X\")))","v":{"$error":"#REF!"}},{"$f":"IF(#REF!=\"\",\"\",\"X\")","v":{"$error":"#REF!"}}]
[null,null,null,null,null,null,null,null,null,null,null,null,null,null,{"$f":"IF(#REF!=\"\",\"\",IF(#REF!<TODAY(),0,IF(#REF!<(TODAY()+365),1,\"X\")))","v":{"$error":"#REF!"}},{"$f":"IF(#REF!=\"\",\"\",\"X\")","v":{"$error":"#REF!"}}]
[null,null,null,null,null,null,null,null,null,null,null,null,null,null,{"$f":"IF(#REF!=\"\",\"\",IF(#REF!<TODAY(),0,IF(#REF!<(TODAY()+365),1,\"X\")))","v":{"$error":"#REF!"}},{"$f":"IF(#REF!=\"\",\"\",\"X\")","v":{"$error":"#REF!"}}]
[null,null,null,null,null,null,null,null,null,null,null,null,null,null,{"$f":"IF(#REF!=\"\",\"\",IF(#REF!<TODAY(),0,IF(#REF!<(TODAY()+365),1,\"X\")))","v":{"$error":"#REF!"}},{"$f":"IF(#REF!=\"\",\"\",\"X\")","v":{"$error":"#REF!"}}]
[null,null,null,null,null,null,null,null,null,null,null,null,null,null,{"$f":"IF(#REF!=\"\",\"\",IF(#REF!<TODAY(),0,IF(#REF!<(TODAY()+365),1,\"X\")))","v":{"$error":"#REF!"}},{"$f":"IF(#REF!=\"\",\"\",\"X\")","v":{"$error":"#REF!"}}]
[null,null,null,null,null,null,null,null,null,null,null,null,null,null,{"$f":"IF(#REF!=\"\",\"\",IF(#REF!<TODAY(),0,IF(#REF!<(TODAY()+365),1,\"X\")))","v":{"$error":"#REF!"}},{"$f":"IF(#REF!=\"\",\"\",\"X\")","v":{"$error":"#REF!"}}]
[null,null,null,null,null,null,null,null,null,null,null,null,null,null,{"$f":"IF(#REF!=\"\",\"\",IF(#REF!<TODAY(),0,IF(#REF!<(TODAY()+365),1,\"X\")))","v":{"$error":"#REF!"}},{"$f":"IF(#REF!=\"\",\"\",\"X\")","v":{"$error":"#REF!"}}]
[null,null,null,null,null,null,null,null,null,null,null,null,null,null,{"$f":"IF(#REF!=\"\",\"\",IF(#REF!<TODAY(),0,IF(#REF!<(TODAY()+365),1,\"X\")))","v":{"$error":"#REF!"}},{"$f":"IF(#REF!=\"\",\"\",\"X\")","v":{"$error":"#REF!"}}]
[null,null,null,null,null,null,null,null,null,null,null,null,null,null,{"$f":"IF(#REF!=\"\",\"\",IF(#REF!<TODAY(),0,IF(#REF!<(TODAY()+365),1,\"X\")))","v":{"$error":"#REF!"}},{"$f":"IF(#REF!=\"\",\"\",\"X\")","v":{"$error":"#REF!"}}]
[null,null,null,null,null,null,null,null,null,null,null,null,null,null,{"$f":"IF(#REF!=\"\",\"\",IF(#REF!<TODAY(),0,IF(#REF!<(TODAY()+365),1,\"X\")))","v":{"$error":"#REF!"}},{"$f":"IF(#REF!=\"\",\"\",\"X\")","v":{"$error":"#REF!"}}]
[null,null,null,null,null,null,null,null,null,null,null,null,null,null,{"$f":"IF(#REF!=\"\",\"\",IF(#REF!<TODAY(),0,IF(#REF!<(TODAY()+365),1,\"X\")))","v":{"$error":"#REF!"}},{"$f":"IF(#REF!=\"\",\"\",\"X\")","v":{"$error":"#REF!"}}]
[null,null,null,null,null,null,null,null,null,null,null,null,null,null,{"$f":"IF(#REF!=\"\",\"\",IF(#REF!<TODAY(),0,IF(#REF!<(TODAY()+365),1,\"X\")))","v":{"$error":"#REF!"}},{"$f":"IF(#REF!=\"\",\"\",\"X\")","v":{"$error":"#REF!"}}]
[null,null,null,null,null,null,null,null,null,null,null,null,null,null,{"$f":"IF(#REF!=\"\",\"\",IF(#REF!<TODAY(),0,IF(#REF!<(TODAY()+365),1,\"X\")))","v":{"$error":"#REF!"}},{"$f":"IF(#REF!=\"\",\"\",\"X\")","v":{"$error":"#REF!"}}]
[null,null,null,null,null,null,null,null,null,null,null,null,null,null,{"$f":"IF(#REF!=\"\",\"\",IF(#REF!<TODAY(),0,IF(#REF!<(TODAY()+365),1,\"X\")))","v":{"$error":"#REF!"}},{"$f":"IF(#REF!=\"\",\"\",\"X\")","v":{"$error":"#REF!"}}]
[null,null,null,null,null,null,null,null,null,null,null,null,null,null,{"$f":"IF(#REF!=\"\",\"\",IF(#REF!<TODAY(),0,IF(#REF!<(TODAY()+365),1,\"X\")))","v":{"$error":"#REF!"}},{"$f":"IF(#REF!=\"\",\"\",\"X\")","v":{"$error":"#REF!"}}]
[null,null,null,null,null,null,null,null,null,null,null,null,null,null,{"$f":"IF(#REF!=\"\",\"\",IF(#REF!<TODAY(),0,IF(#REF!<(TODAY()+365),1,\"X\")))","v":{"$error":"#REF!"}},{"$f":"IF(#REF!=\"\",\"\",\"X\")","v":{"$error":"#REF!"}}]
[null,null,null,null,null,null,null,null,null,null,null,null,null,null,{"$f":"IF(#REF!=\"\",\"\",IF(#REF!<TODAY(),0,IF(#REF!<(TODAY()+365),1,\"X\")))","v":{"$error":"#REF!"}},{"$f":"IF(#REF!=\"\",\"\",\"X\")","v":{"$error":"#REF!"}}]
[null,null,null,null,null,null,null,null,null,null,null,null,null,null,{"$f":"IF(#REF!=\"\",\"\",IF(#REF!<TODAY(),0,IF(#REF!<(TODAY()+365),1,\"X\")))","v":{"$error":"#REF!"}},{"$f":"IF(#REF!=\"\",\"\",\"X\")","v":{"$error":"#REF!"}}]
[null,null,null,null,null,null,null,null,null,null,null,null,null,null,{"$f":"IF(#REF!=\"\",\"\",IF(#REF!<TODAY(),0,IF(#REF!<(TODAY()+365),1,\"X\")))","v":{"$error":"#REF!"}},{"$f":"IF(#REF!=\"\",\"\",\"X\")","v":{"$error":"#REF!"}}]
[null,null,null,null,null,null,null,null,null,null,null,null,null,null,{"$f":"IF(#REF!=\"\",\"\",IF(#REF!<TODAY(),0,IF(#REF!<(TODAY()+365),1,\"X\")))","v":{"$error":"#REF!"}},{"$f":"IF(#REF!=\"\",\"\",\"X\")","v":{"$error":"#REF!"}}]
[null,null,null,null,null,null,null,null,null,null,null,null,null,null,{"$f":"IF(#REF!=\"\",\"\",IF(#REF!<TODAY(),0,IF(#REF!<(TODAY()+365),1,\"X\")))","v":{"$error":"#REF!"}},{"$f":"IF(#REF!=\"\",\"\",\"X\")","v":{"$error":"#REF!"}}]
[null,null,null,null,null,null,null,null,null,null,null,null,null,null,{"$f":"IF(#REF!=\"\",\"\",IF(#REF!<TODAY(),0,IF(#REF!<(TODAY()+365),1,\"X\")))","v":{"$error":"#REF!"}},{"$f":"IF(#REF!=\"\",\"\",\"X\")","v":{"$error":"#REF!"}}]
[null,null,null,null,null,null,null,null,null,null,null,null,null,null,{"$f":"IF(#REF!=\"\",\"\",IF(#REF!<TODAY(),0,IF(#REF!<(TODAY()+365),1,\"X\")))","v":{"$error":"#REF!"}},{"$f":"IF(#REF!=\"\",\"\",\"X\")","v":{"$error":"#REF!"}}]
[null,null,null,null,null,null,null,null,null,null,null,null,null,null,{"$f":"IF(#REF!=\"\",\"\",IF(#REF!<TODAY(),0,IF(#REF!<(TODAY()+365),1,\"X\")))","v":{"$error":"#REF!"}},{"$f":"IF(#REF!=\"\",\"\",\"X\")","v":{"$error":"#REF!"}}]
[null,null,null,null,null,null,null,null,null,null,null,null,null,null,{"$f":"IF(#REF!=\"\",\"\",IF(#REF!<TODAY(),0,IF(#REF!<(TODAY()+365),1,\"X\")))","v":{"$error":"#REF!"}},{"$f":"IF(#REF!=\"\",\"\",\"X\")","v":{"$error":"#REF!"}}]
[null,null,null,null,null,null,null,null,null,null,null,null,null,null,{"$f":"IF(#REF!=\"\",\"\",IF(#REF!<TODAY(),0,IF(#REF!<(TODAY()+365),1,\"X\")))","v":{"$error":"#REF!"}},{"$f":"IF(#REF!=\"\",\"\",\"X\")","v":{"$error":"#REF!"}}]
[null,null,null,null,null,null,null,null,null,null,null,null,null,null,{"$f":"IF(#REF!=\"\",\"\",IF(#REF!<TODAY(),0,IF(#REF!<(TODAY()+365),1,\"X\")))","v":{"$error":"#REF!"}},{"$f":"IF(#REF!=\"\",\"\",\"X\")","v":{"$error":"#REF!"}}]
[null,null,null,null,null,null,null,null,null,null,null,null,null,null,{"$f":"IF(#REF!=\"\",\"\",IF(#REF!<TODAY(),0,IF(#REF!<(TODAY()+365),1,\"X\")))","v":{"$error":"#REF!"}},{"$f":"IF(#REF!=\"\",\"\",\"X\")","v":{"$error":"#REF!"}}]
[null,null,null,null,null,null,null,null,null,null,null,null,null,null,{"$f":"IF(#REF!=\"\",\"\",IF(#REF!<TODAY(),0,IF(#REF!<(TODAY()+365),1,\"X\")))","v":{"$error":"#REF!"}},{"$f":"IF(#REF!=\"\",\"\",\"X\")","v":{"$error":"#REF!"}}]
[null,null,null,null,null,null,null,null,null,null,null,null,null,null,{"$f":"IF(#REF!=\"\",\"\",IF(#REF!<TODAY(),0,IF(#REF!<(TODAY()+365),1,\"X\")))","v":{"$error":"#REF!"}},{"$f":"IF(#REF!=\"\",\"\",\"X\")","v":{"$error":"#REF!"}}]
[null,null,null,null,null,null,null,null,null,null,null,null,null,null,{"$f":"IF(#REF!=\"\",\"\",IF(#REF!<TODAY(),0,IF(#REF!<(TODAY()+365),1,\"X\")))","v":{"$error":"#REF!"}},{"$f":"IF(#REF!=\"\",\"\",\"X\")","v":{"$error":"#REF!"}}]
[null,null,null,null,null,null,null,null,null,null,null,null,null,null,{"$f":"IF(#REF!=\"\",\"\",IF(#REF!<TODAY(),0,IF(#REF!<(TODAY()+365),1,\"X\")))","v":{"$error":"#REF!"}},{"$f":"IF(#REF!=\"\",\"\",\"X\")","v":{"$error":"#REF!"}}]
[null,null,null,null,null,null,null,null,null,null,null,null,null,null,{"$f":"IF(#REF!=\"\",\"\",IF(#REF!<TODAY(),0,IF(#REF!<(TODAY()+365),1,\"X\")))","v":{"$error":"#REF!"}},{"$f":"IF(#REF!=\"\",\"\",\"X\")","v":{"$error":"#REF!"}}]
[null,null,null,null,null,null,null,null,null,null,null,null,null,null,{"$f":"IF(#REF!=\"\",\"\",IF(#REF!<TODAY(),0,IF(#REF!<(TODAY()+365),1,\"X\")))","v":{"$error":"#REF!"}},{"$f":"IF(#REF!=\"\",\"\",\"X\")","v":{"$error":"#REF!"}}]
[null,null,null,null,null,null,null,null,null,null,null,null,null,null,{"$f":"IF(#REF!=\"\",\"\",IF(#REF!<TODAY(),0,IF(#REF!<(TODAY()+365),1,\"X\")))","v":{"$error":"#REF!"}},{"$f":"IF(#REF!=\"\",\"\",\"X\")","v":{"$error":"#REF!"}}]
[null,null,null,null,null,null,null,null,null,null,null,null,null,null,{"$f":"IF(#REF!=\"\",\"\",IF(#REF!<TODAY(),0,IF(#REF!<(TODAY()+365),1,\"X\")))","v":{"$error":"#REF!"}},{"$f":"IF(#REF!=\"\",\"\",\"X\")","v":{"$error":"#REF!"}}]
[null,null,null,null,null,null,null,null,null,null,null,null,null,null,{"$f":"IF(#REF!=\"\",\"\",IF(#REF!<TODAY(),0,IF(#REF!<(TODAY()+365),1,\"X\")))","v":{"$error":"#REF!"}},{"$f":"IF(#REF!=\"\",\"\",\"X\")","v":{"$error":"#REF!"}}]
[null,null,null,null,null,null,null,null,null,null,null,null,null,null,{"$f":"IF(#REF!=\"\",\"\",IF(#REF!<TODAY(),0,IF(#REF!<(TODAY()+365),1,\"X\")))","v":{"$error":"#REF!"}},{"$f":"IF(#REF!=\"\",\"\",\"X\")","v":{"$error":"#REF!"}}]
[null,null,null,null,null,null,null,null,null,null,null,null,null,null,{"$f":"IF(#REF!=\"\",\"\",IF(#REF!<TODAY(),0,IF(#REF!<(TODAY()+365),1,\"X\")))","v":{"$error":"#REF!"}},{"$f":"IF(#REF!=\"\",\"\",\"X\")","v":{"$error":"#REF!"}}]
[null,null,null,null,null,null,null,null,null,null,null,null,null,null,{"$f":"IF(#REF!=\"\",\"\",IF(#REF!<TODAY(),0,IF(#REF!<(TODAY()+365),1,\"X\")))","v":{"$error":"#REF!"}},{"$f":"IF(#REF!=\"\",\"\",\"X\")","v":{"$error":"#REF!"}}]
[null,null,null,null,null,null,null,null,null,null,null,null,null,null,{"$f":"IF(#REF!=\"\",\"\",IF(#REF!<TODAY(),0,IF(#REF!<(TODAY()+365),1,\"X\")))","v":{"$error":"#REF!"}},{"$f":"IF(#REF!=\"\",\"\",\"X\")","v":{"$error":"#REF!"}}]
[null,null,null,null,null,null,null,null,null,null,null,null,null,null,{"$f":"IF(#REF!=\"\",\"\",IF(#REF!<TODAY(),0,IF(#REF!<(TODAY()+365),1,\"X\")))","v":{"$error":"#REF!"}},{"$f":"IF(#REF!=\"\",\"\",\"X\")","v":{"$error":"#REF!"}}]
[null,null,null,null,null,null,null,null,null,null,null,null,null,null,{"$f":"IF(#REF!=\"\",\"\",IF(#REF!<TODAY(),0,IF(#REF!<(TODAY()+365),1,\"X\")))","v":{"$error":"#REF!"}},{"$f":"IF(#REF!=\"\",\"\",\"X\")","v":{"$error":"#REF!"}}]
[null,null,null,null,null,null,null,null,null,null,null,null,null,null,{"$f":"IF(#REF!=\"\",\"\",IF(#REF!<TODAY(),0,IF(#REF!<(TODAY()+365),1,\"X\")))","v":{"$error":"#REF!"}},{"$f":"IF(#REF!=\"\",\"\",\"X\")","v":{"$error":"#REF!"}}]
[null,null,null,null,null,null,null,null,null,null,null,null,null,null,{"$f":"IF(#REF!=\"\",\"\",IF(#REF!<TODAY(),0,IF(#REF!<(TODAY()+365),1,\"X\")))","v":{"$error":"#REF!"}},{"$f":"IF(#REF!=\"\",\"\",\"X\")","v":{"$error":"#REF!"}}]
[null,null,null,null,null,null,null,null,null,null,null,null,null,null,{"$f":"IF(#REF!=\"\",\"\",IF(#REF!<TODAY(),0,IF(#REF!<(TODAY()+365),1,\"X\")))","v":{"$error":"#REF!"}},{"$f":"IF(#REF!=\"\",\"\",\"X\")","v":{"$error":"#REF!"}}]
[null,null,null,null,null,null,null,null,null,null,null,null,null,null,{"$f":"IF(#REF!=\"\",\"\",IF(#REF!<TODAY(),0,IF(#REF!<(TODAY()+365),1,\"X\")))","v":{"$error":"#REF!"}},{"$f":"IF(#REF!=\"\",\"\",\"X\")","v":{"$error":"#REF!"}}]
[null,null,null,null,null,null,null,null,null,null,null,null,null,null,{"$f":"IF(#REF!=\"\",\"\",IF(#REF!<TODAY(),0,IF(#REF!<(TODAY()+365),1,\"X\")))","v":{"$error":"#REF!"}},{"$f":"IF(#REF!=\"\",\"\",\"X\")","v":{"$error":"#REF!"}}]
[null,null,null,null,null,null,null,null,null,null,null,null,null,null,{"$f":"IF(#REF!=\"\",\"\",IF(#REF!<TODAY(),0,IF(#REF!<(TODAY()+365),1,\"X\")))","v":{"$error":"#REF!"}},{"$f":"IF(#REF!=\"\",\"\",\"X\")","v":{"$error":"#REF!"}}]
[null,null,null,null,null,null,null,null,null,null,null,null,null,null,{"$f":"IF(#REF!=\"\",\"\",IF(#REF!<TODAY(),0,IF(#REF!<(TODAY()+365),1,\"X\")))","v":{"$error":"#REF!"}},{"$f":"IF(#REF!=\"\",\"\",\"X\")","v":{"$error":"#REF!"}}]
[null,null,null,null,null,null,null,null,null,null,null,null,null,null,{"$f":"IF(#REF!=\"\",\"\",IF(#REF!<TODAY(),0,IF(#REF!<(TODAY()+365),1,\"X\")))","v":{"$error":"#REF!"}},{"$f":"IF(#REF!=\"\",\"\",\"X\")","v":{"$error":"#REF!"}}]
[null,null,null,null,null,null,null,null,null,null,null,null,null,null,{"$f":"IF(#REF!=\"\",\"\",IF(#REF!<TODAY(),0,IF(#REF!<(TODAY()+365),1,\"X\")))","v":{"$error":"#REF!"}},{"$f":"IF(#REF!=\"\",\"\",\"X\")","v":{"$error":"#REF!"}}]
[null,null,null,null,null,null,null,null,null,null,null,null,null,null,{"$f":"IF(#REF!=\"\",\"\",IF(#REF!<TODAY(),0,IF(#REF!<(TODAY()+365),1,\"X\")))","v":{"$error":"#REF!"}},{"$f":"IF(#REF!=\"\",\"\",\"X\")","v":{"$error":"#REF!"}}]
[null,null,null,null,null,null,null,null,null,null,null,null,null,null,{"$f":"IF(#REF!=\"\",\"\",IF(#REF!<TODAY(),0,IF(#REF!<(TODAY()+365),1,\"X\")))","v":{"$error":"#REF!"}},{"$f":"IF(#REF!=\"\",\"\",\"X\")","v":{"$error":"#REF!"}}]
[null,null,null,null,null,null,null,null,null,null,null,null,null,null,{"$f":"IF(#REF!=\"\",\"\",IF(#REF!<TODAY(),0,IF(#REF!<(TODAY()+365),1,\"X\")))","v":{"$error":"#REF!"}},{"$f":"IF(#REF!=\"\",\"\",\"X\")","v":{"$error":"#REF!"}}]
[null,null,null,null,null,null,null,null,null,null,null,null,null,null,{"$f":"IF(#REF!=\"\",\"\",IF(#REF!<TODAY(),0,IF(#REF!<(TODAY()+365),1,\"X\")))","v":{"$error":"#REF!"}},{"$f":"IF(#REF!=\"\",\"\",\"X\")","v":{"$error":"#REF!"}}]
[null,null,null,null,null,null,null,null,null,null,null,null,null,null,{"$f":"IF(#REF!=\"\",\"\",IF(#REF!<TODAY(),0,IF(#REF!<(TODAY()+365),1,\"X\")))","v":{"$error":"#REF!"}},{"$f":"IF(#REF!=\"\",\"\",\"X\")","v":{"$error":"#REF!"}}]
[null,null,null,null,null,null,null,null,null,null,null,null,null,null,{"$f":"IF(#REF!=\"\",\"\",IF(#REF!<TODAY(),0,IF(#REF!<(TODAY()+365),1,\"X\")))","v":{"$error":"#REF!"}},{"$f":"IF(#REF!=\"\",\"\",\"X\")","v":{"$error":"#REF!"}}]
[null,null,null,null,null,null,null,null,null,null,null,null,null,null,{"$f":"IF(#REF!=\"\",\"\",IF(#REF!<TODAY(),0,IF(#REF!<(TODAY()+365),1,\"X\")))","v":{"$error":"#REF!"}},{"$f":"IF(#REF!=\"\",\"\",\"X\")","v":{"$error":"#REF!"}}]
[null,null,null,null,null,null,null,null,null,null,null,null,null,null,{"$f":"IF(#REF!=\"\",\"\",IF(#REF!<TODAY(),0,IF(#REF!<(TODAY()+365),1,\"X\")))","v":{"$error":"#REF!"}},{"$f":"IF(#REF!=\"\",\"\",\"X\")","v":{"$error":"#REF!"}}]
[null,null,null,null,null,null,null,null,null,null,null,null,null,null,{"$f":"IF(#REF!=\"\",\"\",IF(#REF!<TODAY(),0,IF(#REF!<(TODAY()+365),1,\"X\")))","v":{"$error":"#REF!"}},{"$f":"IF(#REF!=\"\",\"\",\"X\")","v":{"$error":"#REF!"}}]
[null,null,null,null,null,null,null,null,null,null,null,null,null,null,{"$f":"IF(#REF!=\"\",\"\",IF(#REF!<TODAY(),0,IF(#REF!<(TODAY()+365),1,\"X\")))","v":{"$error":"#REF!"}},{"$f":"IF(#REF!=\"\",\"\",\"X\")","v":{"$error":"#REF!"}}]
[null,null,null,null,null,null,null,null,null,null,null,null,null,null,{"$f":"IF(#REF!=\"\",\"\",IF(#REF!<TODAY(),0,IF(#REF!<(TODAY()+365),1,\"X\")))","v":{"$error":"#REF!"}},{"$f":"IF(#REF!=\"\",\"\",\"X\")","v":{"$error":"#REF!"}}]
[null,null,null,null,null,null,null,null,null,null,null,null,null,null,{"$f":"IF(#REF!=\"\",\"\",IF(#REF!<TODAY(),0,IF(#REF!<(TODAY()+365),1,\"X\")))","v":{"$error":"#REF!"}},{"$f":"IF(#REF!=\"\",\"\",\"X\")","v":{"$error":"#REF!"}}]
[null,null,null,null,null,null,null,null,null,null,null,null,null,null,{"$f":"IF(#REF!=\"\",\"\",IF(#REF!<TODAY(),0,IF(#REF!<(TODAY()+365),1,\"X\")))","v":{"$error":"#REF!"}},{"$f":"IF(#REF!=\"\",\"\",\"X\")","v":{"$error":"#REF!"}}]
[null,null,null,null,null,null,null,null,null,null,null,null,null,null,{"$f":"IF(#REF!=\"\",\"\",IF(#REF!<TODAY(),0,IF(#REF!<(TODAY()+365),1,\"X\")))","v":{"$error":"#REF!"}},{"$f":"IF(#REF!=\"\",\"\",\"X\")","v":{"$error":"#REF!"}}]
[null,null,null,null,null,null,null,null,null,null,null,null,null,null,{"$f":"IF(#REF!=\"\",\"\",IF(#REF!<TODAY(),0,IF(#REF!<(TODAY()+365),1,\"X\")))","v":{"$error":"#REF!"}},{"$f":"IF(#REF!=\"\",\"\",\"X\")","v":{"$error":"#REF!"}}]
[null,null,null,null,null,null,null,null,null,null,null,null,null,null,{"$f":"IF(#REF!=\"\",\"\",IF(#REF!<TODAY(),0,IF(#REF!<(TODAY()+365),1,\"X\")))","v":{"$error":"#REF!"}},{"$f":"IF(#REF!=\"\",\"\",\"X\")","v":{"$error":"#REF!"}}]
[null,null,null,null,null,null,null,null,null,null,null,null,null,null,{"$f":"IF(#REF!=\"\",\"\",IF(#REF!<TODAY(),0,IF(#REF!<(TODAY()+365),1,\"X\")))","v":{"$error":"#REF!"}},{"$f":"IF(#REF!=\"\",\"\",\"X\")","v":{"$error":"#REF!"}}]
[null,null,null,null,null,null,null,null,null,null,null,null,null,null,{"$f":"IF(#REF!=\"\",\"\",IF(#REF!<TODAY(),0,IF(#REF!<(TODAY()+365),1,\"X\")))","v":{"$error":"#REF!"}},{"$f":"IF(#REF!=\"\",\"\",\"X\")","v":{"$error":"#REF!"}}]
[null,null,null,null,null,null,null,null,null,null,null,null,null,null,{"$f":"IF(#REF!=\"\",\"\",IF(#REF!<TODAY(),0,IF(#REF!<(TODAY()+365),1,\"X\")))","v":{"$error":"#REF!"}},{"$f":"IF(#REF!=\"\",\"\",\"X\")","v":{"$error":"#REF!"}}]
[null,null,null,null,null,null,null,null,null,null,null,null,null,null,{"$f":"IF(#REF!=\"\",\"\",IF(#REF!<TODAY(),0,IF(#REF!<(TODAY()+365),1,\"X\")))","v":{"$error":"#REF!"}},{"$f":"IF(#REF!=\"\",\"\",\"X\")","v":{"$error":"#REF!"}}]
[null,null,null,null,null,null,null,null,null,null,null,null,null,null,{"$f":"IF(#REF!=\"\",\"\",IF(#REF!<TODAY(),0,IF(#REF!<(TODAY()+365),1,\"X\")))","v":{"$error":"#REF!"}},{"$f":"IF(#REF!=\"\",\"\",\"X\")","v":{"$error":"#REF!"}}]
[null,null,null,null,null,null,null,null,null,null,null,null,null,null,{"$f":"IF(#REF!=\"\",\"\",IF(#REF!<TODAY(),0,IF(#REF!<(TODAY()+365),1,\"X\")))","v":{"$error":"#REF!"}},{"$f":"IF(#REF!=\"\",\"\",\"X\")","v":{"$error":"#REF!"}}]
[null,null,null,null,null,null,null,null,null,null,null,null,null,null,{"$f":"IF(#REF!=\"\",\"\",IF(#REF!<TODAY(),0,IF(#REF!<(TODAY()+365),1,\"X\")))","v":{"$error":"#REF!"}},{"$f":"IF(#REF!=\"\",\"\",\"X\")","v":{"$error":"#REF!"}}]
[null,null,null,null,null,null,null,null,null,null,null,null,null,null,{"$f":"IF(#REF!=\"\",\"\",IF(#REF!<TODAY(),0,IF(#REF!<(TODAY()+365),1,\"X\")))","v":{"$error":"#REF!"}},{"$f":"IF(#REF!=\"\",\"\",\"X\")","v":{"$error":"#REF!"}}]
[null,null,null,null,null,null,null,null,null,null,null,null,null,null,{"$f":"IF(#REF!=\"\",\"\",IF(#REF!<TODAY(),0,IF(#REF!<(TODAY()+365),1,\"X\")))","v":{"$error":"#REF!"}},{"$f":"IF(#REF!=\"\",\"\",\"X\")","v":{"$error":"#REF!"}}]
[null,null,null,null,null,null,null,null,null,null,null,null,null,null,{"$f":"IF(#REF!=\"\",\"\",IF(#REF!<TODAY(),0,IF(#REF!<(TODAY()+365),1,\"X\")))","v":{"$error":"#REF!"}},{"$f":"IF(#REF!=\"\",\"\",\"X\")","v":{"$error":"#REF!"}}]
[null,null,null,null,null,null,null,null,null,null,null,null,null,null,{"$f":"IF(#REF!=\"\",\"\",IF(#REF!<TODAY(),0,IF(#REF!<(TODAY()+365),1,\"X\")))","v":{"$error":"#REF!"}},{"$f":"IF(#REF!=\"\",\"\",\"X\")","v":{"$error":"#REF!"}}]
[null,null,null,null,null,null,null,null,null,null,null,null,null,null,{"$f":"IF(#REF!=\"\",\"\",IF(#REF!<TODAY(),0,IF(#REF!<(TODAY()+365),1,\"X\")))","v":{"$error":"#REF!"}},{"$f":"IF(#REF!=\"\",\"\",\"X\")","v":{"$error":"#REF!"}}]
[null,null,null,null,null,null,null,null,null,null,null,null,null,null,{"$f":"IF(#REF!=\"\",\"\",IF(#REF!<TODAY(),0,IF(#REF!<(TODAY()+365),1,\"X\")))","v":{"$error":"#REF!"}},{"$f":"IF(#REF!=\"\",\"\",\"X\")","v":{"$error":"#REF!"}}]
[null,null,null,null,null,null,null,null,null,null,null,null,null,null,{"$f":"IF(#REF!=\"\",\"\",IF(#REF!<TODAY(),0,IF(#REF!<(TODAY()+365),1,\"X\")))","v":{"$error":"#REF!"}},{"$f":"IF(#REF!=\"\",\"\",\"X\")","v":{"$error":"#REF!"}}]
[null,null,null,null,null,null,null,null,null,null,null,null,null,null,{"$f":"IF(#REF!=\"\",\"\",IF(#REF!<TODAY(),0,IF(#REF!<(TODAY()+365),1,\"X\")))","v":{"$error":"#REF!"}},{"$f":"IF(#REF!=\"\",\"\",\"X\")","v":{"$error":"#REF!"}}]
[null,null,null,null,null,null,null,null,null,null,null,null,null,null,{"$f":"IF(#REF!=\"\",\"\",IF(#REF!<TODAY(),0,IF(#REF!<(TODAY()+365),1,\"X\")))","v":{"$error":"#REF!"}},{"$f":"IF(#REF!=\"\",\"\",\"X\")","v":{"$error":"#REF!"}}]
[null,null,null,null,null,null,null,null,null,null,null,null,null,null,{"$f":"IF(#REF!=\"\",\"\",IF(#REF!<TODAY(),0,IF(#REF!<(TODAY()+365),1,\"X\")))","v":{"$error":"#REF!"}},{"$f":"IF(#REF!=\"\",\"\",\"X\")","v":{"$error":"#REF!"}}]
[null,null,null,null,null,null,null,null,null,null,null,null,null,null,{"$f":"IF(#REF!=\"\",\"\",IF(#REF!<TODAY(),0,IF(#REF!<(TODAY()+365),1,\"X\")))","v":{"$error":"#REF!"}},{"$f":"IF(#REF!=\"\",\"\",\"X\")","v":{"$error":"#REF!"}}]
[null,null,null,null,null,null,null,null,null,null,null,null,null,null,{"$f":"IF(#REF!=\"\",\"\",IF(#REF!<TODAY(),0,IF(#REF!<(TODAY()+365),1,\"X\")))","v":{"$error":"#REF!"}},{"$f":"IF(#REF!=\"\",\"\",\"X\")","v":{"$error":"#REF!"}}]
[null,null,null,null,null,null,null,null,null,null,null,null,null,null,{"$f":"IF(#REF!=\"\",\"\",IF(#REF!<TODAY(),0,IF(#REF!<(TODAY()+365),1,\"X\")))","v":{"$error":"#REF!"}},{"$f":"IF(#REF!=\"\",\"\",\"X\")","v":{"$error":"#REF!"}}]
[null,null,null,null,null,null,null,null,null,null,null,null,null,null,{"$f":"IF(#REF!=\"\",\"\",IF(#REF!<TODAY(),0,IF(#REF!<(TODAY()+365),1,\"X\")))","v":{"$error":"#REF!"}},{"$f":"IF(#REF!=\"\",\"\",\"X\")","v":{"$error":"#REF!"}}]
[null,null,null,null,null,null,null,null,null,null,null,null,null,null,{"$f":"IF(#REF!=\"\",\"\",IF(#REF!<TODAY(),0,IF(#REF!<(TODAY()+365),1,\"X\")))","v":{"$error":"#REF!"}},{"$f":"IF(#REF!=\"\",\"\",\"X\")","v":{"$error":"#REF!"}}]
[null,null,null,null,null,null,null,null,null,null,null,null,null,null,{"$f":"IF(#REF!=\"\",\"\",IF(#REF!<TODAY(),0,IF(#REF!<(TODAY()+365),1,\"X\")))","v":{"$error":"#REF!"}},{"$f":"IF(#REF!=\"\",\"\",\"X\")","v":{"$error":"#REF!"}}]
[null,null,null,null,null,null,null,null,null,null,null,null,null,null,{"$f":"IF(#REF!=\"\",\"\",IF(#REF!<TODAY(),0,IF(#REF!<(TODAY()+365),1,\"X\")))","v":{"$error":"#REF!"}},{"$f":"IF(#REF!=\"\",\"\",\"X\")","v":{"$error":"#REF!"}}]
[null,null,null,null,null,null,null,null,null,null,null,null,null,null,{"$f":"IF(#REF!=\"\",\"\",IF(#REF!<TODAY(),0,IF(#REF!<(TODAY()+365),1,\"X\")))","v":{"$error":"#REF!"}},{"$f":"IF(#REF!=\"\",\"\",\"X\")","v":{"$error":"#REF!"}}]
[null,null,null,null,null,null,null,null,null,null,null,null,null,null,{"$f":"IF(#REF!=\"\",\"\",IF(#REF!<TODAY(),0,IF(#REF!<(TODAY()+365),1,\"X\")))","v":{"$error":"#REF!"}},{"$f":"IF(#REF!=\"\",\"\",\"X\")","v":{"$error":"#REF!"}}]
[null,null,null,null,null,null,null,null,null,null,null,null,null,null,{"$f":"IF(#REF!=\"\",\"\",IF(#REF!<TODAY(),0,IF(#REF!<(TODAY()+365),1,\"X\")))","v":{"$error":"#REF!"}},{"$f":"IF(#REF!=\"\",\"\",\"X\")","v":{"$error":"#REF!"}}]
[null,null,null,null,null,null,null,null,null,null,null,null,null,null,{"$f":"IF(#REF!=\"\",\"\",IF(#REF!<TODAY(),0,IF(#REF!<(TODAY()+365),1,\"X\")))","v":{"$error":"#REF!"}},{"$f":"IF(#REF!=\"\",\"\",\"X\")","v":{"$error":"#REF!"}}]
[null,null,null,null,null,null,null,null,null,null,null,null,null,null,{"$f":"IF(#REF!=\"\",\"\",IF(#REF!<TODAY(),0,IF(#REF!<(TODAY()+365),1,\"X\")))","v":{"$error":"#REF!"}},{"$f":"IF(#REF!=\"\",\"\",\"X\")","v":{"$error":"#REF!"}}]
[null,null,null,null,null,null,null,null,null,null,null,null,null,null,{"$f":"IF(#REF!=\"\",\"\",IF(#REF!<TODAY(),0,IF(#REF!<(TODAY()+365),1,\"X\")))","v":{"$error":"#REF!"}},{"$f":"IF(#REF!=\"\",\"\",\"X\")","v":{"$error":"#REF!"}}]
[null,null,null,null,null,null,null,null,null,null,null,null,null,null,{"$f":"IF(#REF!=\"\",\"\",IF(#REF!<TODAY(),0,IF(#REF!<(TODAY()+365),1,\"X\")))","v":{"$error":"#REF!"}},{"$f":"IF(#REF!=\"\",\"\",\"X\")","v":{"$error":"#REF!"}}]
[null,null,null,null,null,null,null,null,null,null,null,null,null,null,{"$f":"IF(#REF!=\"\",\"\",IF(#REF!<TODAY(),0,IF(#REF!<(TODAY()+365),1,\"X\")))","v":{"$error":"#REF!"}},{"$f":"IF(#REF!=\"\",\"\",\"X\")","v":{"$error":"#REF!"}}]
[null,null,null,null,null,null,null,null,null,null,null,null,null,null,{"$f":"IF(#REF!=\"\",\"\",IF(#REF!<TODAY(),0,IF(#REF!<(TODAY()+365),1,\"X\")))","v":{"$error":"#REF!"}},{"$f":"IF(#REF!=\"\",\"\",\"X\")","v":{"$error":"#REF!"}}]
[null,null,null,null,null,null,null,null,null,null,null,null,null,null,{"$f":"IF(#REF!=\"\",\"\",IF(#REF!<TODAY(),0,IF(#REF!<(TODAY()+365),1,\"X\")))","v":{"$error":"#REF!"}},{"$f":"IF(#REF!=\"\",\"\",\"X\")","v":{"$error":"#REF!"}}]
[null,null,null,null,null,null,null,null,null,null,null,null,null,null,{"$f":"IF(#REF!=\"\",\"\",IF(#REF!<TODAY(),0,IF(#REF!<(TODAY()+365),1,\"X\")))","v":{"$error":"#REF!"}},{"$f":"IF(#REF!=\"\",\"\",\"X\")","v":{"$error":"#REF!"}}]
[null,null,null,null,null,null,null,null,null,null,null,null,null,null,{"$f":"IF(#REF!=\"\",\"\",IF(#REF!<TODAY(),0,IF(#REF!<(TODAY()+365),1,\"X\")))","v":{"$error":"#REF!"}},{"$f":"IF(#REF!=\"\",\"\",\"X\")","v":{"$error":"#REF!"}}]
[null,null,null,null,null,null,null,null,null,null,null,null,null,null,{"$f":"IF(#REF!=\"\",\"\",IF(#REF!<TODAY(),0,IF(#REF!<(TODAY()+365),1,\"X\")))","v":{"$error":"#REF!"}},{"$f":"IF(#REF!=\"\",\"\",\"X\")","v":{"$error":"#REF!"}}]
[null,null,null,null,null,null,null,null,null,null,null,null,null,null,{"$f":"IF(#REF!=\"\",\"\",IF(#REF!<TODAY(),0,IF(#REF!<(TODAY()+365),1,\"X\")))","v":{"$error":"#REF!"}},{"$f":"IF(#REF!=\"\",\"\",\"X\")","v":{"$error":"#REF!"}}]
[null,null,null,null,null,null,null,null,null,null,null,null,null,null,{"$f":"IF(#REF!=\"\",\"\",IF(#REF!<TODAY(),0,IF(#REF!<(TODAY()+365),1,\"X\")))","v":{"$error":"#REF!"}},{"$f":"IF(#REF!=\"\",\"\",\"X\")","v":{"$error":"#REF!"}}]
[null,null,null,null,null,null,null,null,null,null,null,null,null,null,{"$f":"IF(#REF!=\"\",\"\",IF(#REF!<TODAY(),0,IF(#REF!<(TODAY()+365),1,\"X\")))","v":{"$error":"#REF!"}},{"$f":"IF(#REF!=\"\",\"\",\"X\")","v":{"$error":"#REF!"}}]
[null,null,null,null,null,null,null,null,null,null,null,null,null,null,{"$f":"IF(#REF!=\"\",\"\",IF(#REF!<TODAY(),0,IF(#REF!<(TODAY()+365),1,\"X\")))","v":{"$error":"#REF!"}},{"$f":"IF(#REF!=\"\",\"\",\"X\")","v":{"$error":"#REF!"}}]
[null,null,null,null,null,null,null,null,null,null,null,null,null,null,{"$f":"IF(#REF!=\"\",\"\",IF(#REF!<TODAY(),0,IF(#REF!<(TODAY()+365),1,\"X\")))","v":{"$error":"#REF!"}},{"$f":"IF(#REF!=\"\",\"\",\"X\")","v":{"$error":"#REF!"}}]
[null,null,null,null,null,null,null,null,null,null,null,null,null,null,{"$f":"IF(#REF!=\"\",\"\",IF(#REF!<TODAY(),0,IF(#REF!<(TODAY()+365),1,\"X\")))","v":{"$error":"#REF!"}},{"$f":"IF(#REF!=\"\",\"\",\"X\")","v":{"$error":"#REF!"}}]
[null,null,null,null,null,null,null,null,null,null,null,null,null,null,{"$f":"IF(#REF!=\"\",\"\",IF(#REF!<TODAY(),0,IF(#REF!<(TODAY()+365),1,\"X\")))","v":{"$error":"#REF!"}},{"$f":"IF(#REF!=\"\",\"\",\"X\")","v":{"$error":"#REF!"}}]
[null,null,null,null,null,null,null,null,null,null,null,null,null,null,{"$f":"IF(#REF!=\"\",\"\",IF(#REF!<TODAY(),0,IF(#REF!<(TODAY()+365),1,\"X\")))","v":{"$error":"#REF!"}},{"$f":"IF(#REF!=\"\",\"\",\"X\")","v":{"$error":"#REF!"}}]
[null,null,null,null,null,null,null,null,null,null,null,null,null,null,{"$f":"IF(#REF!=\"\",\"\",IF(#REF!<TODAY(),0,IF(#REF!<(TODAY()+365),1,\"X\")))","v":{"$error":"#REF!"}},{"$f":"IF(#REF!=\"\",\"\",\"X\")","v":{"$error":"#REF!"}}]
[null,null,null,null,null,null,null,null,null,null,null,null,null,null,{"$f":"IF(#REF!=\"\",\"\",IF(#REF!<TODAY(),0,IF(#REF!<(TODAY()+365),1,\"X\")))","v":{"$error":"#REF!"}},{"$f":"IF(#REF!=\"\",\"\",\"X\")","v":{"$error":"#REF!"}}]
[null,null,null,null,null,null,null,null,null,null,null,null,null,null,{"$f":"IF(#REF!=\"\",\"\",IF(#REF!<TODAY(),0,IF(#REF!<(TODAY()+365),1,\"X\")))","v":{"$error":"#REF!"}},{"$f":"IF(#REF!=\"\",\"\",\"X\")","v":{"$error":"#REF!"}}]
[null,null,null,null,null,null,null,null,null,null,null,null,null,null,{"$f":"IF(#REF!=\"\",\"\",IF(#REF!<TODAY(),0,IF(#REF!<(TODAY()+365),1,\"X\")))","v":{"$error":"#REF!"}},{"$f":"IF(#REF!=\"\",\"\",\"X\")","v":{"$error":"#REF!"}}]
[null,null,null,null,null,null,null,null,null,null,null,null,null,null,{"$f":"IF(#REF!=\"\",\"\",IF(#REF!<TODAY(),0,IF(#REF!<(TODAY()+365),1,\"X\")))","v":{"$error":"#REF!"}},{"$f":"IF(#REF!=\"\",\"\",\"X\")","v":{"$error":"#REF!"}}]
[null,null,null,null,null,null,null,null,null,null,null,null,null,null,{"$f":"IF(#REF!=\"\",\"\",IF(#REF!<TODAY(),0,IF(#REF!<(TODAY()+365),1,\"X\")))","v":{"$error":"#REF!"}},{"$f":"IF(#REF!=\"\",\"\",\"X\")","v":{"$error":"#REF!"}}]
[null,null,null,null,null,null,null,null,null,null,null,null,null,null,{"$f":"IF(#REF!=\"\",\"\",IF(#REF!<TODAY(),0,IF(#REF!<(TODAY()+365),1,\"X\")))","v":{"$error":"#REF!"}},{"$f":"IF(#REF!=\"\",\"\",\"X\")","v":{"$error":"#REF!"}}]
[null,null,null,null,null,null,null,null,null,null,null,null,null,null,{"$f":"IF(#REF!=\"\",\"\",IF(#REF!<TODAY(),0,IF(#REF!<(TODAY()+365),1,\"X\")))","v":{"$error":"#REF!"}},{"$f":"IF(#REF!=\"\",\"\",\"X\")","v":{"$error":"#REF!"}}]
[null,null,null,null,null,null,null,null,null,null,null,null,null,null,{"$f":"IF(#REF!=\"\",\"\",IF(#REF!<TODAY(),0,IF(#REF!<(TODAY()+365),1,\"X\")))","v":{"$error":"#REF!"}},{"$f":"IF(#REF!=\"\",\"\",\"X\")","v":{"$error":"#REF!"}}]
[null,null,null,null,null,null,null,null,null,null,null,null,null,null,{"$f":"IF(#REF!=\"\",\"\",IF(#REF!<TODAY(),0,IF(#REF!<(TODAY()+365),1,\"X\")))","v":{"$error":"#REF!"}},{"$f":"IF(#REF!=\"\",\"\",\"X\")","v":{"$error":"#REF!"}}]
[null,null,null,null,null,null,null,null,null,null,null,null,null,null,{"$f":"IF(#REF!=\"\",\"\",IF(#REF!<TODAY(),0,IF(#REF!<(TODAY()+365),1,\"X\")))","v":{"$error":"#REF!"}},{"$f":"IF(#REF!=\"\",\"\",\"X\")","v":{"$error":"#REF!"}}]
[null,null,null,null,null,null,null,null,null,null,null,null,null,null,{"$f":"IF(#REF!=\"\",\"\",IF(#REF!<TODAY(),0,IF(#REF!<(TODAY()+365),1,\"X\")))","v":{"$error":"#REF!"}},{"$f":"IF(#REF!=\"\",\"\",\"X\")","v":{"$error":"#REF!"}}]
[null,null,null,null,null,null,null,null,null,null,null,null,null,null,{"$f":"IF(#REF!=\"\",\"\",IF(#REF!<TODAY(),0,IF(#REF!<(TODAY()+365),1,\"X\")))","v":{"$error":"#REF!"}},{"$f":"IF(#REF!=\"\",\"\",\"X\")","v":{"$error":"#REF!"}}]
[null,null,null,null,null,null,null,null,null,null,null,null,null,null,{"$f":"IF(#REF!=\"\",\"\",IF(#REF!<TODAY(),0,IF(#REF!<(TODAY()+365),1,\"X\")))","v":{"$error":"#REF!"}},{"$f":"IF(#REF!=\"\",\"\",\"X\")","v":{"$error":"#REF!"}}]
[null,null,null,null,null,null,null,null,null,null,null,null,null,null,{"$f":"IF(#REF!=\"\",\"\",IF(#REF!<TODAY(),0,IF(#REF!<(TODAY()+365),1,\"X\")))","v":{"$error":"#REF!"}},{"$f":"IF(#REF!=\"\",\"\",\"X\")","v":{"$error":"#REF!"}}]
[null,null,null,null,null,null,null,null,null,null,null,null,null,null,{"$f":"IF(#REF!=\"\",\"\",IF(#REF!<TODAY(),0,IF(#REF!<(TODAY()+365),1,\"X\")))","v":{"$error":"#REF!"}},{"$f":"IF(#REF!=\"\",\"\",\"X\")","v":{"$error":"#REF!"}}]
[null,null,null,null,null,null,null,null,null,null,null,null,null,null,{"$f":"IF(#REF!=\"\",\"\",IF(#REF!<TODAY(),0,IF(#REF!<(TODAY()+365),1,\"X\")))","v":{"$error":"#REF!"}},{"$f":"IF(#REF!=\"\",\"\",\"X\")","v":{"$error":"#REF!"}}]
[null,null,null,null,null,null,null,null,null,null,null,null,null,null,{"$f":"IF(#REF!=\"\",\"\",IF(#REF!<TODAY(),0,IF(#REF!<(TODAY()+365),1,\"X\")))","v":{"$error":"#REF!"}},{"$f":"IF(#REF!=\"\",\"\",\"X\")","v":{"$error":"#REF!"}}]
[null,null,null,null,null,null,null,null,null,null,null,null,null,null,{"$f":"IF(#REF!=\"\",\"\",IF(#REF!<TODAY(),0,IF(#REF!<(TODAY()+365),1,\"X\")))","v":{"$error":"#REF!"}},{"$f":"IF(#REF!=\"\",\"\",\"X\")","v":{"$error":"#REF!"}}]
[null,null,null,null,null,null,null,null,null,null,null,null,null,null,{"$f":"IF(#REF!=\"\",\"\",IF(#REF!<TODAY(),0,IF(#REF!<(TODAY()+365),1,\"X\")))","v":{"$error":"#REF!"}},{"$f":"IF(#REF!=\"\",\"\",\"X\")","v":{"$error":"#REF!"}}]
[null,null,null,null,null,null,null,null,null,null,null,null,null,null,{"$f":"IF(#REF!=\"\",\"\",IF(#REF!<TODAY(),0,IF(#REF!<(TODAY()+365),1,\"X\")))","v":{"$error":"#REF!"}},{"$f":"IF(#REF!=\"\",\"\",\"X\")","v":{"$error":"#REF!"}}]
[null,null,null,null,null,null,null,null,null,null,null,null,null,null,{"$f":"IF(#REF!=\"\",\"\",IF(#REF!<TODAY(),0,IF(#REF!<(TODAY()+365),1,\"X\")))","v":{"$error":"#REF!"}},{"$f":"IF(#REF!=\"\",\"\",\"X\")","v":{"$error":"#REF!"}}]
[null,null,null,null,null,null,null,null,null,null,null,null,null,null,{"$f":"IF(#REF!=\"\",\"\",IF(#REF!<TODAY(),0,IF(#REF!<(TODAY()+365),1,\"X\")))","v":{"$error":"#REF!"}},{"$f":"IF(#REF!=\"\",\"\",\"X\")","v":{"$error":"#REF!"}}]
[null,null,null,null,null,null,null,null,null,null,null,null,null,null,{"$f":"IF(#REF!=\"\",\"\",IF(#REF!<TODAY(),0,IF(#REF!<(TODAY()+365),1,\"X\")))","v":{"$error":"#REF!"}},{"$f":"IF(#REF!=\"\",\"\",\"X\")","v":{"$error":"#REF!"}}]
[null,null,null,null,null,null,null,null,null,null,null,null,null,null,{"$f":"IF(#REF!=\"\",\"\",IF(#REF!<TODAY(),0,IF(#REF!<(TODAY()+365),1,\"X\")))","v":{"$error":"#REF!"}},{"$f":"IF(#REF!=\"\",\"\",\"X\")","v":{"$error":"#REF!"}}]
[null,null,null,null,null,null,null,null,null,null,null,null,null,null,{"$f":"IF(#REF!=\"\",\"\",IF(#REF!<TODAY(),0,IF(#REF!<(TODAY()+365),1,\"X\")))","v":{"$error":"#REF!"}},{"$f":"IF(#REF!=\"\",\"\",\"X\")","v":{"$error":"#REF!"}}]
[null,null,null,null,null,null,null,null,null,null,null,null,null,null,{"$f":"IF(#REF!=\"\",\"\",IF(#REF!<TODAY(),0,IF(#REF!<(TODAY()+365),1,\"X\")))","v":{"$error":"#REF!"}},{"$f":"IF(#REF!=\"\",\"\",\"X\")","v":{"$error":"#REF!"}}]
[null,null,null,null,null,null,null,null,null,null,null,null,null,null,{"$f":"IF(#REF!=\"\",\"\",IF(#REF!<TODAY(),0,IF(#REF!<(TODAY()+365),1,\"X\")))","v":{"$error":"#REF!"}},{"$f":"IF(#REF!=\"\",\"\",\"X\")","v":{"$error":"#REF!"}}]
[null,null,null,null,null,null,null,null,null,null,null,null,null,null,{"$f":"IF(#REF!=\"\",\"\",IF(#REF!<TODAY(),0,IF(#REF!<(TODAY()+365),1,\"X\")))","v":{"$error":"#REF!"}},{"$f":"IF(#REF!=\"\",\"\",\"X\")","v":{"$error":"#REF!"}}]
[null,null,null,null,null,null,null,null,null,null,null,null,null,null,{"$f":"IF(#REF!=\"\",\"\",IF(#REF!<TODAY(),0,IF(#REF!<(TODAY()+365),1,\"X\")))","v":{"$error":"#REF!"}},{"$f":"IF(#REF!=\"\",\"\",\"X\")","v":{"$error":"#REF!"}}]
[null,null,null,null,null,null,null,null,null,null,null,null,null,null,{"$f":"IF(#REF!=\"\",\"\",IF(#REF!<TODAY(),0,IF(#REF!<(TODAY()+365),1,\"X\")))","v":{"$error":"#REF!"}},{"$f":"IF(#REF!=\"\",\"\",\"X\")","v":{"$error":"#REF!"}}]
[null,null,null,null,null,null,null,null,null,null,null,null,null,null,{"$f":"IF(#REF!=\"\",\"\",IF(#REF!<TODAY(),0,IF(#REF!<(TODAY()+365),1,\"X\")))","v":{"$error":"#REF!"}},{"$f":"IF(#REF!=\"\",\"\",\"X\")","v":{"$error":"#REF!"}}]
[null,null,null,null,null,null,null,null,null,null,null,null,null,null,{"$f":"IF(#REF!=\"\",\"\",IF(#REF!<TODAY(),0,IF(#REF!<(TODAY()+365),1,\"X\")))","v":{"$error":"#REF!"}},{"$f":"IF(#REF!=\"\",\"\",\"X\")","v":{"$error":"#REF!"}}]
[null,null,null,null,null,null,null,null,null,null,null,null,null,null,{"$f":"IF(#REF!=\"\",\"\",IF(#REF!<TODAY(),0,IF(#REF!<(TODAY()+365),1,\"X\")))","v":{"$error":"#REF!"}},{"$f":"IF(#REF!=\"\",\"\",\"X\")","v":{"$error":"#REF!"}}]
[null,null,null,null,null,null,null,null,null,null,null,null,null,null,{"$f":"IF(#REF!=\"\",\"\",IF(#REF!<TODAY(),0,IF(#REF!<(TODAY()+365),1,\"X\")))","v":{"$error":"#REF!"}},{"$f":"IF(#REF!=\"\",\"\",\"X\")","v":{"$error":"#REF!"}}]
[null,null,null,null,null,null,null,null,null,null,null,null,null,null,{"$f":"IF(#REF!=\"\",\"\",IF(#REF!<TODAY(),0,IF(#REF!<(TODAY()+365),1,\"X\")))","v":{"$error":"#REF!"}},{"$f":"IF(#REF!=\"\",\"\",\"X\")","v":{"$error":"#REF!"}}]
[null,null,null,null,null,null,null,null,null,null,null,null,null,null,{"$f":"IF(#REF!=\"\",\"\",IF(#REF!<TODAY(),0,IF(#REF!<(TODAY()+365),1,\"X\")))","v":{"$error":"#REF!"}},{"$f":"IF(#REF!=\"\",\"\",\"X\")","v":{"$error":"#REF!"}}]
[null,null,null,null,null,null,null,null,null,null,null,null,null,null,{"$f":"IF(#REF!=\"\",\"\",IF(#REF!<TODAY(),0,IF(#REF!<(TODAY()+365),1,\"X\")))","v":{"$error":"#REF!"}},{"$f":"IF(#REF!=\"\",\"\",\"X\")","v":{"$error":"#REF!"}}]
[null,null,null,null,null,null,null,null,null,null,null,null,null,null,{"$f":"IF(#REF!=\"\",\"\",IF(#REF!<TODAY(),0,IF(#REF!<(TODAY()+365),1,\"X\")))","v":{"$error":"#REF!"}},{"$f":"IF(#REF!=\"\",\"\",\"X\")","v":{"$error":"#REF!"}}]
[null,null,null,null,null,null,null,null,null,null,null,null,null,null,{"$f":"IF(#REF!=\"\",\"\",IF(#REF!<TODAY(),0,IF(#REF!<(TODAY()+365),1,\"X\")))","v":{"$error":"#REF!"}},{"$f":"IF(#REF!=\"\",\"\",\"X\")","v":{"$error":"#REF!"}}]
[null,null,null,null,null,null,null,null,null,null,null,null,null,null,{"$f":"IF(#REF!=\"\",\"\",IF(#REF!<TODAY(),0,IF(#REF!<(TODAY()+365),1,\"X\")))","v":{"$error":"#REF!"}},{"$f":"IF(#REF!=\"\",\"\",\"X\")","v":{"$error":"#REF!"}}]
[null,null,null,null,null,null,null,null,null,null,null,null,null,null,{"$f":"IF(#REF!=\"\",\"\",IF(#REF!<TODAY(),0,IF(#REF!<(TODAY()+365),1,\"X\")))","v":{"$error":"#REF!"}},{"$f":"IF(#REF!=\"\",\"\",\"X\")","v":{"$error":"#REF!"}}]
[null,null,null,null,null,null,null,null,null,null,null,null,null,null,{"$f":"IF(#REF!=\"\",\"\",IF(#REF!<TODAY(),0,IF(#REF!<(TODAY()+365),1,\"X\")))","v":{"$error":"#REF!"}},{"$f":"IF(#REF!=\"\",\"\",\"X\")","v":{"$error":"#REF!"}}]
[null,null,null,null,null,null,null,null,null,null,null,null,null,null,{"$f":"IF(#REF!=\"\",\"\",IF(#REF!<TODAY(),0,IF(#REF!<(TODAY()+365),1,\"X\")))","v":{"$error":"#REF!"}},{"$f":"IF(#REF!=\"\",\"\",\"X\")","v":{"$error":"#REF!"}}]
[null,null,null,null,null,null,null,null,null,null,null,null,null,null,{"$f":"IF(#REF!=\"\",\"\",IF(#REF!<TODAY(),0,IF(#REF!<(TODAY()+365),1,\"X\")))","v":{"$error":"#REF!"}},{"$f":"IF(#REF!=\"\",\"\",\"X\")","v":{"$error":"#REF!"}}]
[null,null,null,null,null,null,null,null,null,null,null,null,null,null,{"$f":"IF(#REF!=\"\",\"\",IF(#REF!<TODAY(),0,IF(#REF!<(TODAY()+365),1,\"X\")))","v":{"$error":"#REF!"}},{"$f":"IF(#REF!=\"\",\"\",\"X\")","v":{"$error":"#REF!"}}]
[null,null,null,null,null,null,null,null,null,null,null,null,null,null,{"$f":"IF(#REF!=\"\",\"\",IF(#REF!<TODAY(),0,IF(#REF!<(TODAY()+365),1,\"X\")))","v":{"$error":"#REF!"}},{"$f":"IF(#REF!=\"\",\"\",\"X\")","v":{"$error":"#REF!"}}]
[null,null,null,null,null,null,null,null,null,null,null,null,null,null,{"$f":"IF(#REF!=\"\",\"\",IF(#REF!<TODAY(),0,IF(#REF!<(TODAY()+365),1,\"X\")))","v":{"$error":"#REF!"}},{"$f":"IF(#REF!=\"\",\"\",\"X\")","v":{"$error":"#REF!"}}]
[null,null,null,null,null,null,null,null,null,null,null,null,null,null,{"$f":"IF(#REF!=\"\",\"\",IF(#REF!<TODAY(),0,IF(#REF!<(TODAY()+365),1,\"X\")))","v":{"$error":"#REF!"}},{"$f":"IF(#REF!=\"\",\"\",\"X\")","v":{"$error":"#REF!"}}]
[null,null,null,null,null,null,null,null,null,null,null,null,null,null,{"$f":"IF(#REF!=\"\",\"\",IF(#REF!<TODAY(),0,IF(#REF!<(TODAY()+365),1,\"X\")))","v":{"$error":"#REF!"}},{"$f":"IF(#REF!=\"\",\"\",\"X\")","v":{"$error":"#REF!"}}]
[null,null,null,null,null,null,null,null,null,null,null,null,null,null,{"$f":"IF(#REF!=\"\",\"\",IF(#REF!<TODAY(),0,IF(#REF!<(TODAY()+365),1,\"X\")))","v":{"$error":"#REF!"}},{"$f":"IF(#REF!=\"\",\"\",\"X\")","v":{"$error":"#REF!"}}]
[null,null,null,null,null,null,null,null,null,null,null,null,null,null,{"$f":"IF(#REF!=\"\",\"\",IF(#REF!<TODAY(),0,IF(#REF!<(TODAY()+365),1,\"X\")))","v":{"$error":"#REF!"}},{"$f":"IF(#REF!=\"\",\"\",\"X\")","v":{"$error":"#REF!"}}]
[null,null,null,null,null,null,null,null,null,null,null,null,null,null,{"$f":"IF(#REF!=\"\",\"\",IF(#REF!<TODAY(),0,IF(#REF!<(TODAY()+365),1,\"X\")))","v":{"$error":"#REF!"}},{"$f":"IF(#REF!=\"\",\"\",\"X\")","v":{"$error":"#REF!"}}]
[null,null,null,null,null,null,null,null,null,null,null,null,null,null,{"$f":"IF(#REF!=\"\",\"\",IF(#REF!<TODAY(),0,IF(#REF!<(TODAY()+365),1,\"X\")))","v":{"$error":"#REF!"}},{"$f":"IF(#REF!=\"\",\"\",\"X\")","v":{"$error":"#REF!"}}]
[null,null,null,null,null,null,null,null,null,null,null,null,null,null,{"$f":"IF(#REF!=\"\",\"\",IF(#REF!<TODAY(),0,IF(#REF!<(TODAY()+365),1,\"X\")))","v":{"$error":"#REF!"}},{"$f":"IF(#REF!=\"\",\"\",\"X\")","v":{"$error":"#REF!"}}]
[null,null,null,null,null,null,null,null,null,null,null,null,null,null,{"$f":"IF(#REF!=\"\",\"\",IF(#REF!<TODAY(),0,IF(#REF!<(TODAY()+365),1,\"X\")))","v":{"$error":"#REF!"}},{"$f":"IF(#REF!=\"\",\"\",\"X\")","v":{"$error":"#REF!"}}]
[null,null,null,null,null,null,null,null,null,null,null,null,null,null,{"$f":"IF(#REF!=\"\",\"\",IF(#REF!<TODAY(),0,IF(#REF!<(TODAY()+365),1,\"X\")))","v":{"$error":"#REF!"}},{"$f":"IF(#REF!=\"\",\"\",\"X\")","v":{"$error":"#REF!"}}]
[null,null,null,null,null,null,null,null,null,null,null,null,null,null,{"$f":"IF(#REF!=\"\",\"\",IF(#REF!<TODAY(),0,IF(#REF!<(TODAY()+365),1,\"X\")))","v":{"$error":"#REF!"}},{"$f":"IF(#REF!=\"\",\"\",\"X\")","v":{"$error":"#REF!"}}]
[null,null,null,null,null,null,null,null,null,null,null,null,null,null,{"$f":"IF(#REF!=\"\",\"\",IF(#REF!<TODAY(),0,IF(#REF!<(TODAY()+365),1,\"X\")))","v":{"$error":"#REF!"}},{"$f":"IF(#REF!=\"\",\"\",\"X\")","v":{"$error":"#REF!"}}]
[null,null,null,null,null,null,null,null,null,null,null,null,null,null,{"$f":"IF(#REF!=\"\",\"\",IF(#REF!<TODAY(),0,IF(#REF!<(TODAY()+365),1,\"X\")))","v":{"$error":"#REF!"}},{"$f":"IF(#REF!=\"\",\"\",\"X\")","v":{"$error":"#REF!"}}]
[null,null,null,null,null,null,null,null,null,null,null,null,null,null,{"$f":"IF(#REF!=\"\",\"\",IF(#REF!<TODAY(),0,IF(#REF!<(TODAY()+365),1,\"X\")))","v":{"$error":"#REF!"}},{"$f":"IF(#REF!=\"\",\"\",\"X\")","v":{"$error":"#REF!"}}]
[null,null,null,null,null,null,null,null,null,null,null,null,null,null,{"$f":"IF(#REF!=\"\",\"\",IF(#REF!<TODAY(),0,IF(#REF!<(TODAY()+365),1,\"X\")))","v":{"$error":"#REF!"}},{"$f":"IF(#REF!=\"\",\"\",\"X\")","v":{"$error":"#REF!"}}]
[null,null,null,null,null,null,null,null,null,null,null,null,null,null,{"$f":"IF(#REF!=\"\",\"\",IF(#REF!<TODAY(),0,IF(#REF!<(TODAY()+365),1,\"X\")))","v":{"$error":"#REF!"}},{"$f":"IF(#REF!=\"\",\"\",\"X\")","v":{"$error":"#REF!"}}]
[null,null,null,null,null,null,null,null,null,null,null,null,null,null,{"$f":"IF(#REF!=\"\",\"\",IF(#REF!<TODAY(),0,IF(#REF!<(TODAY()+365),1,\"X\")))","v":{"$error":"#REF!"}},{"$f":"IF(#REF!=\"\",\"\",\"X\")","v":{"$error":"#REF!"}}]
[null,null,null,null,null,null,null,null,null,null,null,null,null,null,{"$f":"IF(#REF!=\"\",\"\",IF(#REF!<TODAY(),0,IF(#REF!<(TODAY()+365),1,\"X\")))","v":{"$error":"#REF!"}},{"$f":"IF(#REF!=\"\",\"\",\"X\")","v":{"$error":"#REF!"}}]
[null,null,null,null,null,null,null,null,null,null,null,null,null,null,{"$f":"IF(#REF!=\"\",\"\",IF(#REF!<TODAY(),0,IF(#REF!<(TODAY()+365),1,\"X\")))","v":{"$error":"#REF!"}},{"$f":"IF(#REF!=\"\",\"\",\"X\")","v":{"$error":"#REF!"}}]
[null,null,null,null,null,null,null,null,null,null,null,null,null,null,{"$f":"IF(#REF!=\"\",\"\",IF(#REF!<TODAY(),0,IF(#REF!<(TODAY()+365),1,\"X\")))","v":{"$error":"#REF!"}},{"$f":"IF(#REF!=\"\",\"\",\"X\")","v":{"$error":"#REF!"}}]
[null,null,null,null,null,null,null,null,null,null,null,null,null,null,{"$f":"IF(#REF!=\"\",\"\",IF(#REF!<TODAY(),0,IF(#REF!<(TODAY()+365),1,\"X\")))","v":{"$error":"#REF!"}},{"$f":"IF(#REF!=\"\",\"\",\"X\")","v":{"$error":"#REF!"}}]
[null,null,null,null,null,null,null,null,null,null,null,null,null,null,{"$f":"IF(#REF!=\"\",\"\",IF(#REF!<TODAY(),0,IF(#REF!<(TODAY()+365),1,\"X\")))","v":{"$error":"#REF!"}},{"$f":"IF(#REF!=\"\",\"\",\"X\")","v":{"$error":"#REF!"}}]
[null,null,null,null,null,null,null,null,null,null,null,null,null,null,{"$f":"IF(#REF!=\"\",\"\",IF(#REF!<TODAY(),0,IF(#REF!<(TODAY()+365),1,\"X\")))","v":{"$error":"#REF!"}},{"$f":"IF(#REF!=\"\",\"\",\"X\")","v":{"$error":"#REF!"}}]
[null,null,null,null,null,null,null,null,null,null,null,null,null,null,{"$f":"IF(#REF!=\"\",\"\",IF(#REF!<TODAY(),0,IF(#REF!<(TODAY()+365),1,\"X\")))","v":{"$error":"#REF!"}},{"$f":"IF(#REF!=\"\",\"\",\"X\")","v":{"$error":"#REF!"}}]
[null,null,null,null,null,null,null,null,null,null,null,null,null,null,{"$f":"IF(#REF!=\"\",\"\",IF(#REF!<TODAY(),0,IF(#REF!<(TODAY()+365),1,\"X\")))","v":{"$error":"#REF!"}},{"$f":"IF(#REF!=\"\",\"\",\"X\")","v":{"$error":"#REF!"}}]
[null,null,null,null,null,null,null,null,null,null,null,null,null,null,{"$f":"IF(#REF!=\"\",\"\",IF(#REF!<TODAY(),0,IF(#REF!<(TODAY()+365),1,\"X\")))","v":{"$error":"#REF!"}},{"$f":"IF(#REF!=\"\",\"\",\"X\")","v":{"$error":"#REF!"}}]
[null,null,null,null,null,null,null,null,null,null,null,null,null,null,{"$f":"IF(#REF!=\"\",\"\",IF(#REF!<TODAY(),0,IF(#REF!<(TODAY()+365),1,\"X\")))","v":{"$error":"#REF!"}},{"$f":"IF(#REF!=\"\",\"\",\"X\")","v":{"$error":"#REF!"}}]
[null,null,null,null,null,null,null,null,null,null,null,null,null,null,{"$f":"IF(#REF!=\"\",\"\",IF(#REF!<TODAY(),0,IF(#REF!<(TODAY()+365),1,\"X\")))","v":{"$error":"#REF!"}},{"$f":"IF(#REF!=\"\",\"\",\"X\")","v":{"$error":"#REF!"}}]
[null,null,null,null,null,null,null,null,null,null,null,null,null,null,{"$f":"IF(#REF!=\"\",\"\",IF(#REF!<TODAY(),0,IF(#REF!<(TODAY()+365),1,\"X\")))","v":{"$error":"#REF!"}},{"$f":"IF(#REF!=\"\",\"\",\"X\")","v":{"$error":"#REF!"}}]
[null,null,null,null,null,null,null,null,null,null,null,null,null,null,{"$f":"IF(#REF!=\"\",\"\",IF(#REF!<TODAY(),0,IF(#REF!<(TODAY()+365),1,\"X\")))","v":{"$error":"#REF!"}},{"$f":"IF(#REF!=\"\",\"\",\"X\")","v":{"$error":"#REF!"}}]
[null,null,null,null,null,null,null,null,null,null,null,null,null,null,{"$f":"IF(#REF!=\"\",\"\",IF(#REF!<TODAY(),0,IF(#REF!<(TODAY()+365),1,\"X\")))","v":{"$error":"#REF!"}},{"$f":"IF(#REF!=\"\",\"\",\"X\")","v":{"$error":"#REF!"}}]
[null,null,null,null,null,null,null,null,null,null,null,null,null,null,{"$f":"IF(#REF!=\"\",\"\",IF(#REF!<TODAY(),0,IF(#REF!<(TODAY()+365),1,\"X\")))","v":{"$error":"#REF!"}},{"$f":"IF(#REF!=\"\",\"\",\"X\")","v":{"$error":"#REF!"}}]
[null,null,null,null,null,null,null,null,null,null,null,null,null,null,{"$f":"IF(#REF!=\"\",\"\",IF(#REF!<TODAY(),0,IF(#REF!<(TODAY()+365),1,\"X\")))","v":{"$error":"#REF!"}},{"$f":"IF(#REF!=\"\",\"\",\"X\")","v":{"$error":"#REF!"}}]
[null,null,null,null,null,null,null,null,null,null,null,null,null,null,{"$f":"IF(#REF!=\"\",\"\",IF(#REF!<TODAY(),0,IF(#REF!<(TODAY()+365),1,\"X\")))","v":{"$error":"#REF!"}},{"$f":"IF(#REF!=\"\",\"\",\"X\")","v":{"$error":"#REF!"}}]
[null,null,null,null,null,null,null,null,null,null,null,null,null,null,{"$f":"IF(#REF!=\"\",\"\",IF(#REF!<TODAY(),0,IF(#REF!<(TODAY()+365),1,\"X\")))","v":{"$error":"#REF!"}},{"$f":"IF(#REF!=\"\",\"\",\"X\")","v":{"$error":"#REF!"}}]
[null,null,null,null,null,null,null,null,null,null,null,null,null,null,{"$f":"IF(#REF!=\"\",\"\",IF(#REF!<TODAY(),0,IF(#REF!<(TODAY()+365),1,\"X\")))","v":{"$error":"#REF!"}},{"$f":"IF(#REF!=\"\",\"\",\"X\")","v":{"$error":"#REF!"}}]
[null,null,null,null,null,null,null,null,null,null,null,null,null,null,{"$f":"IF(#REF!=\"\",\"\",IF(#REF!<TODAY(),0,IF(#REF!<(TODAY()+365),1,\"X\")))","v":{"$error":"#REF!"}},{"$f":"IF(#REF!=\"\",\"\",\"X\")","v":{"$error":"#REF!"}}]
[null,null,null,null,null,null,null,null,null,null,null,null,null,null,{"$f":"IF(#REF!=\"\",\"\",IF(#REF!<TODAY(),0,IF(#REF!<(TODAY()+365),1,\"X\")))","v":{"$error":"#REF!"}},{"$f":"IF(#REF!=\"\",\"\",\"X\")","v":{"$error":"#REF!"}}]
[null,null,null,null,null,null,null,null,null,null,null,null,null,null,{"$f":"IF(#REF!=\"\",\"\",IF(#REF!<TODAY(),0,IF(#REF!<(TODAY()+365),1,\"X\")))","v":{"$error":"#REF!"}},{"$f":"IF(#REF!=\"\",\"\",\"X\")","v":{"$error":"#REF!"}}]
[null,null,null,null,null,null,null,null,null,null,null,null,null,null,{"$f":"IF(#REF!=\"\",\"\",IF(#REF!<TODAY(),0,IF(#REF!<(TODAY()+365),1,\"X\")))","v":{"$error":"#REF!"}},{"$f":"IF(#REF!=\"\",\"\",\"X\")","v":{"$error":"#REF!"}}]
[null,null,null,null,null,null,null,null,null,null,null,null,null,null,{"$f":"IF(#REF!=\"\",\"\",IF(#REF!<TODAY(),0,IF(#REF!<(TODAY()+365),1,\"X\")))","v":{"$error":"#REF!"}},{"$f":"IF(#REF!=\"\",\"\",\"X\")","v":{"$error":"#REF!"}}]
[null,null,null,null,null,null,null,null,null,null,null,null,null,null,{"$f":"IF(#REF!=\"\",\"\",IF(#REF!<TODAY(),0,IF(#REF!<(TODAY()+365),1,\"X\")))","v":{"$error":"#REF!"}},{"$f":"IF(#REF!=\"\",\"\",\"X\")","v":{"$error":"#REF!"}}]
[null,null,null,null,null,null,null,null,null,null,null,null,null,null,{"$f":"IF(#REF!=\"\",\"\",IF(#REF!<TODAY(),0,IF(#REF!<(TODAY()+365),1,\"X\")))","v":{"$error":"#REF!"}},{"$f":"IF(#REF!=\"\",\"\",\"X\")","v":{"$error":"#REF!"}}]
[null,null,null,null,null,null,null,null,null,null,null,null,null,null,{"$f":"IF(#REF!=\"\",\"\",IF(#REF!<TODAY(),0,IF(#REF!<(TODAY()+365),1,\"X\")))","v":{"$error":"#REF!"}},{"$f":"IF(#REF!=\"\",\"\",\"X\")","v":{"$error":"#REF!"}}]
[null,null,null,null,null,null,null,null,null,null,null,null,null,null,{"$f":"IF(#REF!=\"\",\"\",IF(#REF!<TODAY(),0,IF(#REF!<(TODAY()+365),1,\"X\")))","v":{"$error":"#REF!"}},{"$f":"IF(#REF!=\"\",\"\",\"X\")","v":{"$error":"#REF!"}}]
[null,null,null,null,null,null,null,null,null,null,null,null,null,null,{"$f":"IF(#REF!=\"\",\"\",IF(#REF!<TODAY(),0,IF(#REF!<(TODAY()+365),1,\"X\")))","v":{"$error":"#REF!"}},{"$f":"IF(#REF!=\"\",\"\",\"X\")","v":{"$error":"#REF!"}}]
[null,null,null,null,null,null,null,null,null,null,null,null,null,null,{"$f":"IF(#REF!=\"\",\"\",IF(#REF!<TODAY(),0,IF(#REF!<(TODAY()+365),1,\"X\")))","v":{"$error":"#REF!"}},{"$f":"IF(#REF!=\"\",\"\",\"X\")","v":{"$error":"#REF!"}}]
[null,null,null,null,null,null,null,null,null,null,null,null,null,null,{"$f":"IF(#REF!=\"\",\"\",IF(#REF!<TODAY(),0,IF(#REF!<(TODAY()+365),1,\"X\")))","v":{"$error":"#REF!"}},{"$f":"IF(#REF!=\"\",\"\",\"X\")","v":{"$error":"#REF!"}}]
[null,null,null,null,null,null,null,null,null,null,null,null,null,null,{"$f":"IF(#REF!=\"\",\"\",IF(#REF!<TODAY(),0,IF(#REF!<(TODAY()+365),1,\"X\")))","v":{"$error":"#REF!"}},{"$f":"IF(#REF!=\"\",\"\",\"X\")","v":{"$error":"#REF!"}}]
[null,null,null,null,null,null,null,null,null,null,null,null,null,null,{"$f":"IF(#REF!=\"\",\"\",IF(#REF!<TODAY(),0,IF(#REF!<(TODAY()+365),1,\"X\")))","v":{"$error":"#REF!"}},{"$f":"IF(#REF!=\"\",\"\",\"X\")","v":{"$error":"#REF!"}}]
[null,null,null,null,null,null,null,null,null,null,null,null,null,null,{"$f":"IF(#REF!=\"\",\"\",IF(#REF!<TODAY(),0,IF(#REF!<(TODAY()+365),1,\"X\")))","v":{"$error":"#REF!"}},{"$f":"IF(#REF!=\"\",\"\",\"X\")","v":{"$error":"#REF!"}}]
[null,null,null,null,null,null,null,null,null,null,null,null,null,null,{"$f":"IF(#REF!=\"\",\"\",IF(#REF!<TODAY(),0,IF(#REF!<(TODAY()+365),1,\"X\")))","v":{"$error":"#REF!"}},{"$f":"IF(#REF!=\"\",\"\",\"X\")","v":{"$error":"#REF!"}}]
[null,null,null,null,null,null,null,null,null,null,null,null,null,null,{"$f":"IF(#REF!=\"\",\"\",IF(#REF!<TODAY(),0,IF(#REF!<(TODAY()+365),1,\"X\")))","v":{"$error":"#REF!"}},{"$f":"IF(#REF!=\"\",\"\",\"X\")","v":{"$error":"#REF!"}}]
[null,null,null,null,null,null,null,null,null,null,null,null,null,null,{"$f":"IF(#REF!=\"\",\"\",IF(#REF!<TODAY(),0,IF(#REF!<(TODAY()+365),1,\"X\")))","v":{"$error":"#REF!"}},{"$f":"IF(#REF!=\"\",\"\",\"X\")","v":{"$error":"#REF!"}}]
[null,null,null,null,null,null,null,null,null,null,null,null,null,null,{"$f":"IF(#REF!=\"\",\"\",IF(#REF!<TODAY(),0,IF(#REF!<(TODAY()+365),1,\"X\")))","v":{"$error":"#REF!"}},{"$f":"IF(#REF!=\"\",\"\",\"X\")","v":{"$error":"#REF!"}}]
[null,null,null,null,null,null,null,null,null,null,null,null,null,null,{"$f":"IF(#REF!=\"\",\"\",IF(#REF!<TODAY(),0,IF(#REF!<(TODAY()+365),1,\"X\")))","v":{"$error":"#REF!"}},{"$f":"IF(#REF!=\"\",\"\",\"X\")","v":{"$error":"#REF!"}}]
[null,null,null,null,null,null,null,null,null,null,null,null,null,null,{"$f":"IF(#REF!=\"\",\"\",IF(#REF!<TODAY(),0,IF(#REF!<(TODAY()+365),1,\"X\")))","v":{"$error":"#REF!"}},{"$f":"IF(#REF!=\"\",\"\",\"X\")","v":{"$error":"#REF!"}}]
[null,null,null,null,null,null,null,null,null,null,null,null,null,null,{"$f":"IF(#REF!=\"\",\"\",IF(#REF!<TODAY(),0,IF(#REF!<(TODAY()+365),1,\"X\")))","v":{"$error":"#REF!"}},{"$f":"IF(#REF!=\"\",\"\",\"X\")","v":{"$error":"#REF!"}}]
[null,null,null,null,null,null,null,null,null,null,null,null,null,null,{"$f":"IF(#REF!=\"\",\"\",IF(#REF!<TODAY(),0,IF(#REF!<(TODAY()+365),1,\"X\")))","v":{"$error":"#REF!"}},{"$f":"IF(#REF!=\"\",\"\",\"X\")","v":{"$error":"#REF!"}}]
[null,null,null,null,null,null,null,null,null,null,null,null,null,null,{"$f":"IF(#REF!=\"\",\"\",IF(#REF!<TODAY(),0,IF(#REF!<(TODAY()+365),1,\"X\")))","v":{"$error":"#REF!"}},{"$f":"IF(#REF!=\"\",\"\",\"X\")","v":{"$error":"#REF!"}}]
[null,null,null,null,null,null,null,null,null,null,null,null,null,null,{"$f":"IF(#REF!=\"\",\"\",IF(#REF!<TODAY(),0,IF(#REF!<(TODAY()+365),1,\"X\")))","v":{"$error":"#REF!"}},{"$f":"IF(#REF!=\"\",\"\",\"X\")","v":{"$error":"#REF!"}}]
[null,null,null,null,null,null,null,null,null,null,null,null,null,null,{"$f":"IF(#REF!=\"\",\"\",IF(#REF!<TODAY(),0,IF(#REF!<(TODAY()+365),1,\"X\")))","v":{"$error":"#REF!"}},{"$f":"IF(#REF!=\"\",\"\",\"X\")","v":{"$error":"#REF!"}}]
[null,null,null,null,null,null,null,null,null,null,null,null,null,null,{"$f":"IF(#REF!=\"\",\"\",IF(#REF!<TODAY(),0,IF(#REF!<(TODAY()+365),1,\"X\")))","v":{"$error":"#REF!"}},{"$f":"IF(#REF!=\"\",\"\",\"X\")","v":{"$error":"#REF!"}}]
[null,null,null,null,null,null,null,null,null,null,null,null,null,null,{"$f":"IF(#REF!=\"\",\"\",IF(#REF!<TODAY(),0,IF(#REF!<(TODAY()+365),1,\"X\")))","v":{"$error":"#REF!"}},{"$f":"IF(#REF!=\"\",\"\",\"X\")","v":{"$error":"#REF!"}}]
[null,null,null,null,null,null,null,null,null,null,null,null,null,null,{"$f":"IF(#REF!=\"\",\"\",IF(#REF!<TODAY(),0,IF(#REF!<(TODAY()+365),1,\"X\")))","v":{"$error":"#REF!"}},{"$f":"IF(#REF!=\"\",\"\",\"X\")","v":{"$error":"#REF!"}}]
[null,null,null,null,null,null,null,null,null,null,null,null,null,null,{"$f":"IF(#REF!=\"\",\"\",IF(#REF!<TODAY(),0,IF(#REF!<(TODAY()+365),1,\"X\")))","v":{"$error":"#REF!"}},{"$f":"IF(#REF!=\"\",\"\",\"X\")","v":{"$error":"#REF!"}}]
[null,null,null,null,null,null,null,null,null,null,null,null,null,null,{"$f":"IF(#REF!=\"\",\"\",IF(#REF!<TODAY(),0,IF(#REF!<(TODAY()+365),1,\"X\")))","v":{"$error":"#REF!"}},{"$f":"IF(#REF!=\"\",\"\",\"X\")","v":{"$error":"#REF!"}}]
[null,null,null,null,null,null,null,null,null,null,null,null,null,null,{"$f":"IF(#REF!=\"\",\"\",IF(#REF!<TODAY(),0,IF(#REF!<(TODAY()+365),1,\"X\")))","v":{"$error":"#REF!"}},{"$f":"IF(#REF!=\"\",\"\",\"X\")","v":{"$error":"#REF!"}}]
[null,null,null,null,null,null,null,null,null,null,null,null,null,null,{"$f":"IF(#REF!=\"\",\"\",IF(#REF!<TODAY(),0,IF(#REF!<(TODAY()+365),1,\"X\")))","v":{"$error":"#REF!"}},{"$f":"IF(#REF!=\"\",\"\",\"X\")","v":{"$error":"#REF!"}}]
[null,null,null,null,null,null,null,null,null,null,null,null,null,null,{"$f":"IF(#REF!=\"\",\"\",IF(#REF!<TODAY(),0,IF(#REF!<(TODAY()+365),1,\"X\")))","v":{"$error":"#REF!"}},{"$f":"IF(#REF!=\"\",\"\",\"X\")","v":{"$error":"#REF!"}}]
[null,null,null,null,null,null,null,null,null,null,null,null,null,null,{"$f":"IF(#REF!=\"\",\"\",IF(#REF!<TODAY(),0,IF(#REF!<(TODAY()+365),1,\"X\")))","v":{"$error":"#REF!"}},{"$f":"IF(#REF!=\"\",\"\",\"X\")","v":{"$error":"#REF!"}}]
[null,null,null,null,null,null,null,null,null,null,null,null,null,null,{"$f":"IF(#REF!=\"\",\"\",IF(#REF!<TODAY(),0,IF(#REF!<(TODAY()+365),1,\"X\")))","v":{"$error":"#REF!"}},{"$f":"IF(#REF!=\"\",\"\",\"X\")","v":{"$error":"#REF!"}}]
[null,null,null,null,null,null,null,null,null,null,null,null,null,null,{"$f":"IF(#REF!=\"\",\"\",IF(#REF!<TODAY(),0,IF(#REF!<(TODAY()+365),1,\"X\")))","v":{"$error":"#REF!"}},{"$f":"IF(#REF!=\"\",\"\",\"X\")","v":{"$error":"#REF!"}}]
[null,null,null,null,null,null,null,null,null,null,null,null,null,null,{"$f":"IF(#REF!=\"\",\"\",IF(#REF!<TODAY(),0,IF(#REF!<(TODAY()+365),1,\"X\")))","v":{"$error":"#REF!"}},{"$f":"IF(#REF!=\"\",\"\",\"X\")","v":{"$error":"#REF!"}}]
[null,null,null,null,null,null,null,null,null,null,null,null,null,null,{"$f":"IF(#REF!=\"\",\"\",IF(#REF!<TODAY(),0,IF(#REF!<(TODAY()+365),1,\"X\")))","v":{"$error":"#REF!"}},{"$f":"IF(#REF!=\"\",\"\",\"X\")","v":{"$error":"#REF!"}}]
[null,null,null,null,null,null,null,null,null,null,null,null,null,null,{"$f":"IF(#REF!=\"\",\"\",IF(#REF!<TODAY(),0,IF(#REF!<(TODAY()+365),1,\"X\")))","v":{"$error":"#REF!"}},{"$f":"IF(#REF!=\"\",\"\",\"X\")","v":{"$error":"#REF!"}}]
[null,null,null,null,null,null,null,null,null,null,null,null,null,null,{"$f":"IF(#REF!=\"\",\"\",IF(#REF!<TODAY(),0,IF(#REF!<(TODAY()+365),1,\"X\")))","v":{"$error":"#REF!"}},{"$f":"IF(#REF!=\"\",\"\",\"X\")","v":{"$error":"#REF!"}}]
[null,null,null,null,null,null,null,null,null,null,null,null,null,null,{"$f":"IF(#REF!=\"\",\"\",IF(#REF!<TODAY(),0,IF(#REF!<(TODAY()+365),1,\"X\")))","v":{"$error":"#REF!"}},{"$f":"IF(#REF!=\"\",\"\",\"X\")","v":{"$error":"#REF!"}}]
[null,null,null,null,null,null,null,null,null,null,null,null,null,null,{"$f":"IF(#REF!=\"\",\"\",IF(#REF!<TODAY(),0,IF(#REF!<(TODAY()+365),1,\"X\")))","v":{"$error":"#REF!"}},{"$f":"IF(#REF!=\"\",\"\",\"X\")","v":{"$error":"#REF!"}}]
[null,null,null,null,null,null,null,null,null,null,null,null,null,null,{"$f":"IF(#REF!=\"\",\"\",IF(#REF!<TODAY(),0,IF(#REF!<(TODAY()+365),1,\"X\")))","v":{"$error":"#REF!"}},{"$f":"IF(#REF!=\"\",\"\",\"X\")","v":{"$error":"#REF!"}}]
[null,null,null,null,null,null,null,null,null,null,null,null,null,null,{"$f":"IF(#REF!=\"\",\"\",IF(#REF!<TODAY(),0,IF(#REF!<(TODAY()+365),1,\"X\")))","v":{"$error":"#REF!"}},{"$f":"IF(#REF!=\"\",\"\",\"X\")","v":{"$error":"#REF!"}}]
[null,null,null,null,null,null,null,null,null,null,null,null,null,null,{"$f":"IF(#REF!=\"\",\"\",IF(#REF!<TODAY(),0,IF(#REF!<(TODAY()+365),1,\"X\")))","v":{"$error":"#REF!"}},{"$f":"IF(#REF!=\"\",\"\",\"X\")","v":{"$error":"#REF!"}}]
[null,null,null,null,null,null,null,null,null,null,null,null,null,null,{"$f":"IF(#REF!=\"\",\"\",IF(#REF!<TODAY(),0,IF(#REF!<(TODAY()+365),1,\"X\")))","v":{"$error":"#REF!"}},{"$f":"IF(#REF!=\"\",\"\",\"X\")","v":{"$error":"#REF!"}}]
[null,null,null,null,null,null,null,null,null,null,null,null,null,null,{"$f":"IF(#REF!=\"\",\"\",IF(#REF!<TODAY(),0,IF(#REF!<(TODAY()+365),1,\"X\")))","v":{"$error":"#REF!"}},{"$f":"IF(#REF!=\"\",\"\",\"X\")","v":{"$error":"#REF!"}}]
[null,null,null,null,null,null,null,null,null,null,null,null,null,null,{"$f":"IF(#REF!=\"\",\"\",IF(#REF!<TODAY(),0,IF(#REF!<(TODAY()+365),1,\"X\")))","v":{"$error":"#REF!"}},{"$f":"IF(#REF!=\"\",\"\",\"X\")","v":{"$error":"#REF!"}}]
[null,null,null,null,null,null,null,null,null,null,null,null,null,null,{"$f":"IF(#REF!=\"\",\"\",IF(#REF!<TODAY(),0,IF(#REF!<(TODAY()+365),1,\"X\")))","v":{"$error":"#REF!"}},{"$f":"IF(#REF!=\"\",\"\",\"X\")","v":{"$error":"#REF!"}}]
[null,null,null,null,null,null,null,null,null,null,null,null,null,null,{"$f":"IF(#REF!=\"\",\"\",IF(#REF!<TODAY(),0,IF(#REF!<(TODAY()+365),1,\"X\")))","v":{"$error":"#REF!"}},{"$f":"IF(#REF!=\"\",\"\",\"X\")","v":{"$error":"#REF!"}}]
[null,null,null,null,null,null,null,null,null,null,null,null,null,null,{"$f":"IF(#REF!=\"\",\"\",IF(#REF!<TODAY(),0,IF(#REF!<(TODAY()+365),1,\"X\")))","v":{"$error":"#REF!"}},{"$f":"IF(#REF!=\"\",\"\",\"X\")","v":{"$error":"#REF!"}}]
[null,null,null,null,null,null,null,null,null,null,null,null,null,null,{"$f":"IF(#REF!=\"\",\"\",IF(#REF!<TODAY(),0,IF(#REF!<(TODAY()+365),1,\"X\")))","v":{"$error":"#REF!"}},{"$f":"IF(#REF!=\"\",\"\",\"X\")","v":{"$error":"#REF!"}}]
[null,null,null,null,null,null,null,null,null,null,null,null,null,null,{"$f":"IF(#REF!=\"\",\"\",IF(#REF!<TODAY(),0,IF(#REF!<(TODAY()+365),1,\"X\")))","v":{"$error":"#REF!"}},{"$f":"IF(#REF!=\"\",\"\",\"X\")","v":{"$error":"#REF!"}}]
[null,null,null,null,null,null,null,null,null,null,null,null,null,null,{"$f":"IF(#REF!=\"\",\"\",IF(#REF!<TODAY(),0,IF(#REF!<(TODAY()+365),1,\"X\")))","v":{"$error":"#REF!"}},{"$f":"IF(#REF!=\"\",\"\",\"X\")","v":{"$error":"#REF!"}}]
[null,null,null,null,null,null,null,null,null,null,null,null,null,null,{"$f":"IF(#REF!=\"\",\"\",IF(#REF!<TODAY(),0,IF(#REF!<(TODAY()+365),1,\"X\")))","v":{"$error":"#REF!"}},{"$f":"IF(#REF!=\"\",\"\",\"X\")","v":{"$error":"#REF!"}}]
[null,null,null,null,null,null,null,null,null,null,null,null,null,null,{"$f":"IF(#REF!=\"\",\"\",IF(#REF!<TODAY(),0,IF(#REF!<(TODAY()+365),1,\"X\")))","v":{"$error":"#REF!"}},{"$f":"IF(#REF!=\"\",\"\",\"X\")","v":{"$error":"#REF!"}}]
[null,null,null,null,null,null,null,null,null,null,null,null,null,null,{"$f":"IF(#REF!=\"\",\"\",IF(#REF!<TODAY(),0,IF(#REF!<(TODAY()+365),1,\"X\")))","v":{"$error":"#REF!"}},{"$f":"IF(#REF!=\"\",\"\",\"X\")","v":{"$error":"#REF!"}}]
[null,null,null,null,null,null,null,null,null,null,null,null,null,null,{"$f":"IF(#REF!=\"\",\"\",IF(#REF!<TODAY(),0,IF(#REF!<(TODAY()+365),1,\"X\")))","v":{"$error":"#REF!"}},{"$f":"IF(#REF!=\"\",\"\",\"X\")","v":{"$error":"#REF!"}}]
[null,null,null,null,null,null,null,null,null,null,null,null,null,null,{"$f":"IF(#REF!=\"\",\"\",IF(#REF!<TODAY(),0,IF(#REF!<(TODAY()+365),1,\"X\")))","v":{"$error":"#REF!"}},{"$f":"IF(#REF!=\"\",\"\",\"X\")","v":{"$error":"#REF!"}}]
[null,null,null,null,null,null,null,null,null,null,null,null,null,null,{"$f":"IF(#REF!=\"\",\"\",IF(#REF!<TODAY(),0,IF(#REF!<(TODAY()+365),1,\"X\")))","v":{"$error":"#REF!"}},{"$f":"IF(#REF!=\"\",\"\",\"X\")","v":{"$error":"#REF!"}}]
[null,null,null,null,null,null,null,null,null,null,null,null,null,null,{"$f":"IF(#REF!=\"\",\"\",IF(#REF!<TODAY(),0,IF(#REF!<(TODAY()+365),1,\"X\")))","v":{"$error":"#REF!"}},{"$f":"IF(#REF!=\"\",\"\",\"X\")","v":{"$error":"#REF!"}}]
[null,null,null,null,null,null,null,null,null,null,null,null,null,null,{"$f":"IF(#REF!=\"\",\"\",IF(#REF!<TODAY(),0,IF(#REF!<(TODAY()+365),1,\"X\")))","v":{"$error":"#REF!"}},{"$f":"IF(#REF!=\"\",\"\",\"X\")","v":{"$error":"#REF!"}}]
[null,null,null,null,null,null,null,null,null,null,null,null,null,null,{"$f":"IF(#REF!=\"\",\"\",IF(#REF!<TODAY(),0,IF(#REF!<(TODAY()+365),1,\"X\")))","v":{"$error":"#REF!"}},{"$f":"IF(#REF!=\"\",\"\",\"X\")","v":{"$error":"#REF!"}}]
[null,null,null,null,null,null,null,null,null,null,null,null,null,null,{"$f":"IF(#REF!=\"\",\"\",IF(#REF!<TODAY(),0,IF(#REF!<(TODAY()+365),1,\"X\")))","v":{"$error":"#REF!"}},{"$f":"IF(#REF!=\"\",\"\",\"X\")","v":{"$error":"#REF!"}}]
[null,null,null,null,null,null,null,null,null,null,null,null,null,null,{"$f":"IF(#REF!=\"\",\"\",IF(#REF!<TODAY(),0,IF(#REF!<(TODAY()+365),1,\"X\")))","v":{"$error":"#REF!"}},{"$f":"IF(#REF!=\"\",\"\",\"X\")","v":{"$error":"#REF!"}}]
[null,null,null,null,null,null,null,null,null,null,null,null,null,null,{"$f":"IF(#REF!=\"\",\"\",IF(#REF!<TODAY(),0,IF(#REF!<(TODAY()+365),1,\"X\")))","v":{"$error":"#REF!"}},{"$f":"IF(#REF!=\"\",\"\",\"X\")","v":{"$error":"#REF!"}}]
[null,null,null,null,null,null,null,null,null,null,null,null,null,null,{"$f":"IF(#REF!=\"\",\"\",IF(#REF!<TODAY(),0,IF(#REF!<(TODAY()+365),1,\"X\")))","v":{"$error":"#REF!"}},{"$f":"IF(#REF!=\"\",\"\",\"X\")","v":{"$error":"#REF!"}}]
[null,null,null,null,null,null,null,null,null,null,null,null,null,null,{"$f":"IF(#REF!=\"\",\"\",IF(#REF!<TODAY(),0,IF(#REF!<(TODAY()+365),1,\"X\")))","v":{"$error":"#REF!"}},{"$f":"IF(#REF!=\"\",\"\",\"X\")","v":{"$error":"#REF!"}}]
[null,null,null,null,null,null,null,null,null,null,null,null,null,null,{"$f":"IF(#REF!=\"\",\"\",IF(#REF!<TODAY(),0,IF(#REF!<(TODAY()+365),1,\"X\")))","v":{"$error":"#REF!"}},{"$f":"IF(#REF!=\"\",\"\",\"X\")","v":{"$error":"#REF!"}}]
[null,null,null,null,null,null,null,null,null,null,null,null,null,null,{"$f":"IF(#REF!=\"\",\"\",IF(#REF!<TODAY(),0,IF(#REF!<(TODAY()+365),1,\"X\")))","v":{"$error":"#REF!"}},{"$f":"IF(#REF!=\"\",\"\",\"X\")","v":{"$error":"#REF!"}}]
[null,null,null,null,null,null,null,null,null,null,null,null,null,null,{"$f":"IF(#REF!=\"\",\"\",IF(#REF!<TODAY(),0,IF(#REF!<(TODAY()+365),1,\"X\")))","v":{"$error":"#REF!"}},{"$f":"IF(#REF!=\"\",\"\",\"X\")","v":{"$error":"#REF!"}}]
[null,null,null,null,null,null,null,null,null,null,null,null,null,null,{"$f":"IF(#REF!=\"\",\"\",IF(#REF!<TODAY(),0,IF(#REF!<(TODAY()+365),1,\"X\")))","v":{"$error":"#REF!"}},{"$f":"IF(#REF!=\"\",\"\",\"X\")","v":{"$error":"#REF!"}}]
[null,null,null,null,null,null,null,null,null,null,null,null,null,null,{"$f":"IF(#REF!=\"\",\"\",IF(#REF!<TODAY(),0,IF(#REF!<(TODAY()+365),1,\"X\")))","v":{"$error":"#REF!"}},{"$f":"IF(#REF!=\"\",\"\",\"X\")","v":{"$error":"#REF!"}}]
[null,null,null,null,null,null,null,null,null,null,null,null,null,null,{"$f":"IF(#REF!=\"\",\"\",IF(#REF!<TODAY(),0,IF(#REF!<(TODAY()+365),1,\"X\")))","v":{"$error":"#REF!"}},{"$f":"IF(#REF!=\"\",\"\",\"X\")","v":{"$error":"#REF!"}}]
[null,null,null,null,null,null,null,null,null,null,null,null,null,null,{"$f":"IF(#REF!=\"\",\"\",IF(#REF!<TODAY(),0,IF(#REF!<(TODAY()+365),1,\"X\")))","v":{"$error":"#REF!"}},{"$f":"IF(#REF!=\"\",\"\",\"X\")","v":{"$error":"#REF!"}}]
[null,null,null,null,null,null,null,null,null,null,null,null,null,null,{"$f":"IF(#REF!=\"\",\"\",IF(#REF!<TODAY(),0,IF(#REF!<(TODAY()+365),1,\"X\")))","v":{"$error":"#REF!"}},{"$f":"IF(#REF!=\"\",\"\",\"X\")","v":{"$error":"#REF!"}}]
[null,null,null,null,null,null,null,null,null,null,null,null,null,null,{"$f":"IF(#REF!=\"\",\"\",IF(#REF!<TODAY(),0,IF(#REF!<(TODAY()+365),1,\"X\")))","v":{"$error":"#REF!"}},{"$f":"IF(#REF!=\"\",\"\",\"X\")","v":{"$error":"#REF!"}}]
[null,null,null,null,null,null,null,null,null,null,null,null,null,null,{"$f":"IF(#REF!=\"\",\"\",IF(#REF!<TODAY(),0,IF(#REF!<(TODAY()+365),1,\"X\")))","v":{"$error":"#REF!"}},{"$f":"IF(#REF!=\"\",\"\",\"X\")","v":{"$error":"#REF!"}}]
[null,null,null,null,null,null,null,null,null,null,null,null,null,null,{"$f":"IF(#REF!=\"\",\"\",IF(#REF!<TODAY(),0,IF(#REF!<(TODAY()+365),1,\"X\")))","v":{"$error":"#REF!"}},{"$f":"IF(#REF!=\"\",\"\",\"X\")","v":{"$error":"#REF!"}}]
[null,null,null,null,null,null,null,null,null,null,null,null,null,null,{"$f":"IF(#REF!=\"\",\"\",IF(#REF!<TODAY(),0,IF(#REF!<(TODAY()+365),1,\"X\")))","v":{"$error":"#REF!"}},{"$f":"IF(#REF!=\"\",\"\",\"X\")","v":{"$error":"#REF!"}}]
[null,null,null,null,null,null,null,null,null,null,null,null,null,null,{"$f":"IF(#REF!=\"\",\"\",IF(#REF!<TODAY(),0,IF(#REF!<(TODAY()+365),1,\"X\")))","v":{"$error":"#REF!"}},{"$f":"IF(#REF!=\"\",\"\",\"X\")","v":{"$error":"#REF!"}}]
[null,null,null,null,null,null,null,null,null,null,null,null,null,null,{"$f":"IF(#REF!=\"\",\"\",IF(#REF!<TODAY(),0,IF(#REF!<(TODAY()+365),1,\"X\")))","v":{"$error":"#REF!"}},{"$f":"IF(#REF!=\"\",\"\",\"X\")","v":{"$error":"#REF!"}}]
[null,null,null,null,null,null,null,null,null,null,null,null,null,null,{"$f":"IF(#REF!=\"\",\"\",IF(#REF!<TODAY(),0,IF(#REF!<(TODAY()+365),1,\"X\")))","v":{"$error":"#REF!"}},{"$f":"IF(#REF!=\"\",\"\",\"X\")","v":{"$error":"#REF!"}}]
[null,null,null,null,null,null,null,null,null,null,null,null,null,null,{"$f":"IF(#REF!=\"\",\"\",IF(#REF!<TODAY(),0,IF(#REF!<(TODAY()+365),1,\"X\")))","v":{"$error":"#REF!"}},{"$f":"IF(#REF!=\"\",\"\",\"X\")","v":{"$error":"#REF!"}}]
[null,null,null,null,null,null,null,null,null,null,null,null,null,null,{"$f":"IF(#REF!=\"\",\"\",IF(#REF!<TODAY(),0,IF(#REF!<(TODAY()+365),1,\"X\")))","v":{"$error":"#REF!"}},{"$f":"IF(#REF!=\"\",\"\",\"X\")","v":{"$error":"#REF!"}}]
[null,null,null,null,null,null,null,null,null,null,null,null,null,null,{"$f":"IF(#REF!=\"\",\"\",IF(#REF!<TODAY(),0,IF(#REF!<(TODAY()+365),1,\"X\")))","v":{"$error":"#REF!"}},{"$f":"IF(#REF!=\"\",\"\",\"X\")","v":{"$error":"#REF!"}}]
[null,null,null,null,null,null,null,null,null,null,null,null,null,null,{"$f":"IF(#REF!=\"\",\"\",IF(#REF!<TODAY(),0,IF(#REF!<(TODAY()+365),1,\"X\")))","v":{"$error":"#REF!"}},{"$f":"IF(#REF!=\"\",\"\",\"X\")","v":{"$error":"#REF!"}}]
[null,null,null,null,null,null,null,null,null,null,null,null,null,null,{"$f":"IF(#REF!=\"\",\"\",IF(#REF!<TODAY(),0,IF(#REF!<(TODAY()+365),1,\"X\")))","v":{"$error":"#REF!"}},{"$f":"IF(#REF!=\"\",\"\",\"X\")","v":{"$error":"#REF!"}}]
[null,null,null,null,null,null,null,null,null,null,null,null,null,null,{"$f":"IF(#REF!=\"\",\"\",IF(#REF!<TODAY(),0,IF(#REF!<(TODAY()+365),1,\"X\")))","v":{"$error":"#REF!"}},{"$f":"IF(#REF!=\"\",\"\",\"X\")","v":{"$error":"#REF!"}}]
[null,null,null,null,null,null,null,null,null,null,null,null,null,null,{"$f":"IF(#REF!=\"\",\"\",IF(#REF!<TODAY(),0,IF(#REF!<(TODAY()+365),1,\"X\")))","v":{"$error":"#REF!"}},{"$f":"IF(#REF!=\"\",\"\",\"X\")","v":{"$error":"#REF!"}}]
[null,null,null,null,null,null,null,null,null,null,null,null,null,null,{"$f":"IF(#REF!=\"\",\"\",IF(#REF!<TODAY(),0,IF(#REF!<(TODAY()+365),1,\"X\")))","v":{"$error":"#REF!"}},{"$f":"IF(#REF!=\"\",\"\",\"X\")","v":{"$error":"#REF!"}}]
[null,null,null,null,null,null,null,null,null,null,null,null,null,null,{"$f":"IF(#REF!=\"\",\"\",IF(#REF!<TODAY(),0,IF(#REF!<(TODAY()+365),1,\"X\")))","v":{"$error":"#REF!"}},{"$f":"IF(#REF!=\"\",\"\",\"X\")","v":{"$error":"#REF!"}}]
[null,null,null,null,null,null,null,null,null,null,null,null,null,null,{"$f":"IF(#REF!=\"\",\"\",IF(#REF!<TODAY(),0,IF(#REF!<(TODAY()+365),1,\"X\")))","v":{"$error":"#REF!"}},{"$f":"IF(#REF!=\"\",\"\",\"X\")","v":{"$error":"#REF!"}}]
[null,null,null,null,null,null,null,null,null,null,null,null,null,null,{"$f":"IF(#REF!=\"\",\"\",IF(#REF!<TODAY(),0,IF(#REF!<(TODAY()+365),1,\"X\")))","v":{"$error":"#REF!"}},{"$f":"IF(#REF!=\"\",\"\",\"X\")","v":{"$error":"#REF!"}}]
[null,null,null,null,null,null,null,null,null,null,null,null,null,null,{"$f":"IF(#REF!=\"\",\"\",IF(#REF!<TODAY(),0,IF(#REF!<(TODAY()+365),1,\"X\")))","v":{"$error":"#REF!"}},{"$f":"IF(#REF!=\"\",\"\",\"X\")","v":{"$error":"#REF!"}}]
[null,null,null,null,null,null,null,null,null,null,null,null,null,null,{"$f":"IF(#REF!=\"\",\"\",IF(#REF!<TODAY(),0,IF(#REF!<(TODAY()+365),1,\"X\")))","v":{"$error":"#REF!"}},{"$f":"IF(#REF!=\"\",\"\",\"X\")","v":{"$error":"#REF!"}}]
[null,null,null,null,null,null,null,null,null,null,null,null,null,null,{"$f":"IF(#REF!=\"\",\"\",IF(#REF!<TODAY(),0,IF(#REF!<(TODAY()+365),1,\"X\")))","v":{"$error":"#REF!"}},{"$f":"IF(#REF!=\"\",\"\",\"X\")","v":{"$error":"#REF!"}}]
[null,null,null,null,null,null,null,null,null,null,null,null,null,null,{"$f":"IF(#REF!=\"\",\"\",IF(#REF!<TODAY(),0,IF(#REF!<(TODAY()+365),1,\"X\")))","v":{"$error":"#REF!"}},{"$f":"IF(#REF!=\"\",\"\",\"X\")","v":{"$error":"#REF!"}}]
[null,null,null,null,null,null,null,null,null,null,null,null,null,null,{"$f":"IF(#REF!=\"\",\"\",IF(#REF!<TODAY(),0,IF(#REF!<(TODAY()+365),1,\"X\")))","v":{"$error":"#REF!"}},{"$f":"IF(#REF!=\"\",\"\",\"X\")","v":{"$error":"#REF!"}}]
[null,null,null,null,null,null,null,null,null,null,null,null,null,null,{"$f":"IF(#REF!=\"\",\"\",IF(#REF!<TODAY(),0,IF(#REF!<(TODAY()+365),1,\"X\")))","v":{"$error":"#REF!"}},{"$f":"IF(#REF!=\"\",\"\",\"X\")","v":{"$error":"#REF!"}}]
[null,null,null,null,null,null,null,null,null,null,null,null,null,null,{"$f":"IF(#REF!=\"\",\"\",IF(#REF!<TODAY(),0,IF(#REF!<(TODAY()+365),1,\"X\")))","v":{"$error":"#REF!"}},{"$f":"IF(#REF!=\"\",\"\",\"X\")","v":{"$error":"#REF!"}}]
[null,null,null,null,null,null,null,null,null,null,null,null,null,null,{"$f":"IF(#REF!=\"\",\"\",IF(#REF!<TODAY(),0,IF(#REF!<(TODAY()+365),1,\"X\")))","v":{"$error":"#REF!"}},{"$f":"IF(#REF!=\"\",\"\",\"X\")","v":{"$error":"#REF!"}}]
[null,null,null,null,null,null,null,null,null,null,null,null,null,null,{"$f":"IF(#REF!=\"\",\"\",IF(#REF!<TODAY(),0,IF(#REF!<(TODAY()+365),1,\"X\")))","v":{"$error":"#REF!"}},{"$f":"IF(#REF!=\"\",\"\",\"X\")","v":{"$error":"#REF!"}}]
[null,null,null,null,null,null,null,null,null,null,null,null,null,null,{"$f":"IF(#REF!=\"\",\"\",IF(#REF!<TODAY(),0,IF(#REF!<(TODAY()+365),1,\"X\")))","v":{"$error":"#REF!"}},{"$f":"IF(#REF!=\"\",\"\",\"X\")","v":{"$error":"#REF!"}}]
[null,null,null,null,null,null,null,null,null,null,null,null,null,null,{"$f":"IF(#REF!=\"\",\"\",IF(#REF!<TODAY(),0,IF(#REF!<(TODAY()+365),1,\"X\")))","v":{"$error":"#REF!"}},{"$f":"IF(#REF!=\"\",\"\",\"X\")","v":{"$error":"#REF!"}}]
[null,null,null,null,null,null,null,null,null,null,null,null,null,null,{"$f":"IF(#REF!=\"\",\"\",IF(#REF!<TODAY(),0,IF(#REF!<(TODAY()+365),1,\"X\")))","v":{"$error":"#REF!"}},{"$f":"IF(#REF!=\"\",\"\",\"X\")","v":{"$error":"#REF!"}}]
[null,null,null,null,null,null,null,null,null,null,null,null,null,null,{"$f":"IF(#REF!=\"\",\"\",IF(#REF!<TODAY(),0,IF(#REF!<(TODAY()+365),1,\"X\")))","v":{"$error":"#REF!"}},{"$f":"IF(#REF!=\"\",\"\",\"X\")","v":{"$error":"#REF!"}}]
[null,null,null,null,null,null,null,null,null,null,null,null,null,null,{"$f":"IF(#REF!=\"\",\"\",IF(#REF!<TODAY(),0,IF(#REF!<(TODAY()+365),1,\"X\")))","v":{"$error":"#REF!"}},{"$f":"IF(#REF!=\"\",\"\",\"X\")","v":{"$error":"#REF!"}}]
[null,null,null,null,null,null,null,null,null,null,null,null,null,null,{"$f":"IF(#REF!=\"\",\"\",IF(#REF!<TODAY(),0,IF(#REF!<(TODAY()+365),1,\"X\")))","v":{"$error":"#REF!"}},{"$f":"IF(#REF!=\"\",\"\",\"X\")","v":{"$error":"#REF!"}}]
[null,null,null,null,null,null,null,null,null,null,null,null,null,null,{"$f":"IF(#REF!=\"\",\"\",IF(#REF!<TODAY(),0,IF(#REF!<(TODAY()+365),1,\"X\")))","v":{"$error":"#REF!"}},{"$f":"IF(#REF!=\"\",\"\",\"X\")","v":{"$error":"#REF!"}}]
[null,null,null,null,null,null,null,null,null,null,null,null,null,null,{"$f":"IF(#REF!=\"\",\"\",IF(#REF!<TODAY(),0,IF(#REF!<(TODAY()+365),1,\"X\")))","v":{"$error":"#REF!"}},{"$f":"IF(#REF!=\"\",\"\",\"X\")","v":{"$error":"#REF!"}}]
[null,null,null,null,null,null,null,null,null,null,null,null,null,null,{"$f":"IF(#REF!=\"\",\"\",IF(#REF!<TODAY(),0,IF(#REF!<(TODAY()+365),1,\"X\")))","v":{"$error":"#REF!"}},{"$f":"IF(#REF!=\"\",\"\",\"X\")","v":{"$error":"#REF!"}}]
[null,null,null,null,null,null,null,null,null,null,null,null,null,null,{"$f":"IF(#REF!=\"\",\"\",IF(#REF!<TODAY(),0,IF(#REF!<(TODAY()+365),1,\"X\")))","v":{"$error":"#REF!"}},{"$f":"IF(#REF!=\"\",\"\",\"X\")","v":{"$error":"#REF!"}}]
[null,null,null,null,null,null,null,null,null,null,null,null,null,null,{"$f":"IF(#REF!=\"\",\"\",IF(#REF!<TODAY(),0,IF(#REF!<(TODAY()+365),1,\"X\")))","v":{"$error":"#REF!"}},{"$f":"IF(#REF!=\"\",\"\",\"X\")","v":{"$error":"#REF!"}}]
[null,null,null,null,null,null,null,null,null,null,null,null,null,null,{"$f":"IF(#REF!=\"\",\"\",IF(#REF!<TODAY(),0,IF(#REF!<(TODAY()+365),1,\"X\")))","v":{"$error":"#REF!"}},{"$f":"IF(#REF!=\"\",\"\",\"X\")","v":{"$error":"#REF!"}}]
[null,null,null,null,null,null,null,null,null,null,null,null,null,null,{"$f":"IF(#REF!=\"\",\"\",IF(#REF!<TODAY(),0,IF(#REF!<(TODAY()+365),1,\"X\")))","v":{"$error":"#REF!"}},{"$f":"IF(#REF!=\"\",\"\",\"X\")","v":{"$error":"#REF!"}}]
[null,null,null,null,null,null,null,null,null,null,null,null,null,null,{"$f":"IF(#REF!=\"\",\"\",IF(#REF!<TODAY(),0,IF(#REF!<(TODAY()+365),1,\"X\")))","v":{"$error":"#REF!"}},{"$f":"IF(#REF!=\"\",\"\",\"X\")","v":{"$error":"#REF!"}}]
[null,null,null,null,null,null,null,null,null,null,null,null,null,null,{"$f":"IF(#REF!=\"\",\"\",IF(#REF!<TODAY(),0,IF(#REF!<(TODAY()+365),1,\"X\")))","v":{"$error":"#REF!"}},{"$f":"IF(#REF!=\"\",\"\",\"X\")","v":{"$error":"#REF!"}}]
[null,null,null,null,null,null,null,null,null,null,null,null,null,null,{"$f":"IF(#REF!=\"\",\"\",IF(#REF!<TODAY(),0,IF(#REF!<(TODAY()+365),1,\"X\")))","v":{"$error":"#REF!"}},{"$f":"IF(#REF!=\"\",\"\",\"X\")","v":{"$error":"#REF!"}}]
[null,null,null,null,null,null,null,null,null,null,null,null,null,null,{"$f":"IF(#REF!=\"\",\"\",IF(#REF!<TODAY(),0,IF(#REF!<(TODAY()+365),1,\"X\")))","v":{"$error":"#REF!"}},{"$f":"IF(#REF!=\"\",\"\",\"X\")","v":{"$error":"#REF!"}}]
[null,null,null,null,null,null,null,null,null,null,null,null,null,null,{"$f":"IF(#REF!=\"\",\"\",IF(#REF!<TODAY(),0,IF(#REF!<(TODAY()+365),1,\"X\")))","v":{"$error":"#REF!"}},{"$f":"IF(#REF!=\"\",\"\",\"X\")","v":{"$error":"#REF!"}}]
[null,null,null,null,null,null,null,null,null,null,null,null,null,null,{"$f":"IF(#REF!=\"\",\"\",IF(#REF!<TODAY(),0,IF(#REF!<(TODAY()+365),1,\"X\")))","v":{"$error":"#REF!"}},{"$f":"IF(#REF!=\"\",\"\",\"X\")","v":{"$error":"#REF!"}}]
[null,null,null,null,null,null,null,null,null,null,null,null,null,null,{"$f":"IF(#REF!=\"\",\"\",IF(#REF!<TODAY(),0,IF(#REF!<(TODAY()+365),1,\"X\")))","v":{"$error":"#REF!"}},{"$f":"IF(#REF!=\"\",\"\",\"X\")","v":{"$error":"#REF!"}}]
[null,null,null,null,null,null,null,null,null,null,null,null,null,null,{"$f":"IF(#REF!=\"\",\"\",IF(#REF!<TODAY(),0,IF(#REF!<(TODAY()+365),1,\"X\")))","v":{"$error":"#REF!"}},{"$f":"IF(#REF!=\"\",\"\",\"X\")","v":{"$error":"#REF!"}}]
[null,null,null,null,null,null,null,null,null,null,null,null,null,null,{"$f":"IF(#REF!=\"\",\"\",IF(#REF!<TODAY(),0,IF(#REF!<(TODAY()+365),1,\"X\")))","v":{"$error":"#REF!"}},{"$f":"IF(#REF!=\"\",\"\",\"X\")","v":{"$error":"#REF!"}}]
[null,null,null,null,null,null,null,null,null,null,null,null,null,null,{"$f":"IF(#REF!=\"\",\"\",IF(#REF!<TODAY(),0,IF(#REF!<(TODAY()+365),1,\"X\")))","v":{"$error":"#REF!"}},{"$f":"IF(#REF!=\"\",\"\",\"X\")","v":{"$error":"#REF!"}}]
[null,null,null,null,null,null,null,null,null,null,null,null,null,null,{"$f":"IF(#REF!=\"\",\"\",IF(#REF!<TODAY(),0,IF(#REF!<(TODAY()+365),1,\"X\")))","v":{"$error":"#REF!"}},{"$f":"IF(#REF!=\"\",\"\",\"X\")","v":{"$error":"#REF!"}}]
[null,null,null,null,null,null,null,null,null,null,null,null,null,null,{"$f":"IF(#REF!=\"\",\"\",IF(#REF!<TODAY(),0,IF(#REF!<(TODAY()+365),1,\"X\")))","v":{"$error":"#REF!"}},{"$f":"IF(#REF!=\"\",\"\",\"X\")","v":{"$error":"#REF!"}}]
[null,null,null,null,null,null,null,null,null,null,null,null,null,null,{"$f":"IF(#REF!=\"\",\"\",IF(#REF!<TODAY(),0,IF(#REF!<(TODAY()+365),1,\"X\")))","v":{"$error":"#REF!"}},{"$f":"IF(#REF!=\"\",\"\",\"X\")","v":{"$error":"#REF!"}}]
[null,null,null,null,null,null,null,null,null,null,null,null,null,null,{"$f":"IF(#REF!=\"\",\"\",IF(#REF!<TODAY(),0,IF(#REF!<(TODAY()+365),1,\"X\")))","v":{"$error":"#REF!"}},{"$f":"IF(#REF!=\"\",\"\",\"X\")","v":{"$error":"#REF!"}}]
[null,null,null,null,null,null,null,null,null,null,null,null,null,null,{"$f":"IF(#REF!=\"\",\"\",IF(#REF!<TODAY(),0,IF(#REF!<(TODAY()+365),1,\"X\")))","v":{"$error":"#REF!"}},{"$f":"IF(#REF!=\"\",\"\",\"X\")","v":{"$error":"#REF!"}}]
[null,null,null,null,null,null,null,null,null,null,null,null,null,null,{"$f":"IF(#REF!=\"\",\"\",IF(#REF!<TODAY(),0,IF(#REF!<(TODAY()+365),1,\"X\")))","v":{"$error":"#REF!"}},{"$f":"IF(#REF!=\"\",\"\",\"X\")","v":{"$error":"#REF!"}}]
[null,null,null,null,null,null,null,null,null,null,null,null,null,null,{"$f":"IF(#REF!=\"\",\"\",IF(#REF!<TODAY(),0,IF(#REF!<(TODAY()+365),1,\"X\")))","v":{"$error":"#REF!"}},{"$f":"IF(#REF!=\"\",\"\",\"X\")","v":{"$error":"#REF!"}}]
[null,null,null,null,null,null,null,null,null,null,null,null,null,null,{"$f":"IF(#REF!=\"\",\"\",IF(#REF!<TODAY(),0,IF(#REF!<(TODAY()+365),1,\"X\")))","v":{"$error":"#REF!"}},{"$f":"IF(#REF!=\"\",\"\",\"X\")","v":{"$error":"#REF!"}}]
[null,null,null,null,null,null,null,null,null,null,null,null,null,null,{"$f":"IF(#REF!=\"\",\"\",IF(#REF!<TODAY(),0,IF(#REF!<(TODAY()+365),1,\"X\")))","v":{"$error":"#REF!"}},{"$f":"IF(#REF!=\"\",\"\",\"X\")","v":{"$error":"#REF!"}}]
[null,null,null,null,null,null,null,null,null,null,null,null,null,null,{"$f":"IF(#REF!=\"\",\"\",IF(#REF!<TODAY(),0,IF(#REF!<(TODAY()+365),1,\"X\")))","v":{"$error":"#REF!"}},{"$f":"IF(#REF!=\"\",\"\",\"X\")","v":{"$error":"#REF!"}}]
[null,null,null,null,null,null,null,null,null,null,null,null,null,null,{"$f":"IF(#REF!=\"\",\"\",IF(#REF!<TODAY(),0,IF(#REF!<(TODAY()+365),1,\"X\")))","v":{"$error":"#REF!"}},{"$f":"IF(#REF!=\"\",\"\",\"X\")","v":{"$error":"#REF!"}}]
[null,null,null,null,null,null,null,null,null,null,null,null,null,null,{"$f":"IF(#REF!=\"\",\"\",IF(#REF!<TODAY(),0,IF(#REF!<(TODAY()+365),1,\"X\")))","v":{"$error":"#REF!"}},{"$f":"IF(#REF!=\"\",\"\",\"X\")","v":{"$error":"#REF!"}}]
[null,null,null,null,null,null,null,null,null,null,null,null,null,null,{"$f":"IF(#REF!=\"\",\"\",IF(#REF!<TODAY(),0,IF(#REF!<(TODAY()+365),1,\"X\")))","v":{"$error":"#REF!"}},{"$f":"IF(#REF!=\"\",\"\",\"X\")","v":{"$error":"#REF!"}}]
[null,null,null,null,null,null,null,null,null,null,null,null,null,null,{"$f":"IF(#REF!=\"\",\"\",IF(#REF!<TODAY(),0,IF(#REF!<(TODAY()+365),1,\"X\")))","v":{"$error":"#REF!"}},{"$f":"IF(#REF!=\"\",\"\",\"X\")","v":{"$error":"#REF!"}}]
[null,null,null,null,null,null,null,null,null,null,null,null,null,null,{"$f":"IF(#REF!=\"\",\"\",IF(#REF!<TODAY(),0,IF(#REF!<(TODAY()+365),1,\"X\")))","v":{"$error":"#REF!"}},{"$f":"IF(#REF!=\"\",\"\",\"X\")","v":{"$error":"#REF!"}}]
[null,null,null,null,null,null,null,null,null,null,null,null,null,null,{"$f":"IF(#REF!=\"\",\"\",IF(#REF!<TODAY(),0,IF(#REF!<(TODAY()+365),1,\"X\")))","v":{"$error":"#REF!"}},{"$f":"IF(#REF!=\"\",\"\",\"X\")","v":{"$error":"#REF!"}}]
[null,null,null,null,null,null,null,null,null,null,null,null,null,null,{"$f":"IF(#REF!=\"\",\"\",IF(#REF!<TODAY(),0,IF(#REF!<(TODAY()+365),1,\"X\")))","v":{"$error":"#REF!"}},{"$f":"IF(#REF!=\"\",\"\",\"X\")","v":{"$error":"#REF!"}}]
[null,null,null,null,null,null,null,null,null,null,null,null,null,null,{"$f":"IF(#REF!=\"\",\"\",IF(#REF!<TODAY(),0,IF(#REF!<(TODAY()+365),1,\"X\")))","v":{"$error":"#REF!"}},{"$f":"IF(#REF!=\"\",\"\",\"X\")","v":{"$error":"#REF!"}}]
[null,null,null,null,null,null,null,null,null,null,null,null,null,null,{"$f":"IF(#REF!=\"\",\"\",IF(#REF!<TODAY(),0,IF(#REF!<(TODAY()+365),1,\"X\")))","v":{"$error":"#REF!"}},{"$f":"IF(#REF!=\"\",\"\",\"X\")","v":{"$error":"#REF!"}}]
[null,null,null,null,null,null,null,null,null,null,null,null,null,null,{"$f":"IF(#REF!=\"\",\"\",IF(#REF!<TODAY(),0,IF(#REF!<(TODAY()+365),1,\"X\")))","v":{"$error":"#REF!"}},{"$f":"IF(#REF!=\"\",\"\",\"X\")","v":{"$error":"#REF!"}}]
[null,null,null,null,null,null,null,null,null,null,null,null,null,null,{"$f":"IF(#REF!=\"\",\"\",IF(#REF!<TODAY(),0,IF(#REF!<(TODAY()+365),1,\"X\")))","v":{"$error":"#REF!"}},{"$f":"IF(#REF!=\"\",\"\",\"X\")","v":{"$error":"#REF!"}}]
[null,null,null,null,null,null,null,null,null,null,null,null,null,null,{"$f":"IF(#REF!=\"\",\"\",IF(#REF!<TODAY(),0,IF(#REF!<(TODAY()+365),1,\"X\")))","v":{"$error":"#REF!"}},{"$f":"IF(#REF!=\"\",\"\",\"X\")","v":{"$error":"#REF!"}}]
[null,null,null,null,null,null,null,null,null,null,null,null,null,null,{"$f":"IF(#REF!=\"\",\"\",IF(#REF!<TODAY(),0,IF(#REF!<(TODAY()+365),1,\"X\")))","v":{"$error":"#REF!"}},{"$f":"IF(#REF!=\"\",\"\",\"X\")","v":{"$error":"#REF!"}}]
[null,null,null,null,null,null,null,null,null,null,null,null,null,null,{"$f":"IF(#REF!=\"\",\"\",IF(#REF!<TODAY(),0,IF(#REF!<(TODAY()+365),1,\"X\")))","v":{"$error":"#REF!"}},{"$f":"IF(#REF!=\"\",\"\",\"X\")","v":{"$error":"#REF!"}}]
[null,null,null,null,null,null,null,null,null,null,null,null,null,null,{"$f":"IF(#REF!=\"\",\"\",IF(#REF!<TODAY(),0,IF(#REF!<(TODAY()+365),1,\"X\")))","v":{"$error":"#REF!"}},{"$f":"IF(#REF!=\"\",\"\",\"X\")","v":{"$error":"#REF!"}}]
[null,null,null,null,null,null,null,null,null,null,null,null,null,null,{"$f":"IF(#REF!=\"\",\"\",IF(#REF!<TODAY(),0,IF(#REF!<(TODAY()+365),1,\"X\")))","v":{"$error":"#REF!"}},{"$f":"IF(#REF!=\"\",\"\",\"X\")","v":{"$error":"#REF!"}}]
[null,null,null,null,null,null,null,null,null,null,null,null,null,null,{"$f":"IF(#REF!=\"\",\"\",IF(#REF!<TODAY(),0,IF(#REF!<(TODAY()+365),1,\"X\")))","v":{"$error":"#REF!"}},{"$f":"IF(#REF!=\"\",\"\",\"X\")","v":{"$error":"#REF!"}}]
[null,null,null,null,null,null,null,null,null,null,null,null,null,null,{"$f":"IF(#REF!=\"\",\"\",IF(#REF!<TODAY(),0,IF(#REF!<(TODAY()+365),1,\"X\")))","v":{"$error":"#REF!"}},{"$f":"IF(#REF!=\"\",\"\",\"X\")","v":{"$error":"#REF!"}}]
[null,null,null,null,null,null,null,null,null,null,null,null,null,null,{"$f":"IF(#REF!=\"\",\"\",IF(#REF!<TODAY(),0,IF(#REF!<(TODAY()+365),1,\"X\")))","v":{"$error":"#REF!"}},{"$f":"IF(#REF!=\"\",\"\",\"X\")","v":{"$error":"#REF!"}}]
[null,null,null,null,null,null,null,null,null,null,null,null,null,null,{"$f":"IF(#REF!=\"\",\"\",IF(#REF!<TODAY(),0,IF(#REF!<(TODAY()+365),1,\"X\")))","v":{"$error":"#REF!"}},{"$f":"IF(#REF!=\"\",\"\",\"X\")","v":{"$error":"#REF!"}}]
[null,null,null,null,null,null,null,null,null,null,null,null,null,null,{"$f":"IF(#REF!=\"\",\"\",IF(#REF!<TODAY(),0,IF(#REF!<(TODAY()+365),1,\"X\")))","v":{"$error":"#REF!"}},{"$f":"IF(#REF!=\"\",\"\",\"X\")","v":{"$error":"#REF!"}}]
[null,null,null,null,null,null,null,null,null,null,null,null,null,null,{"$f":"IF(#REF!=\"\",\"\",IF(#REF!<TODAY(),0,IF(#REF!<(TODAY()+365),1,\"X\")))","v":{"$error":"#REF!"}},{"$f":"IF(#REF!=\"\",\"\",\"X\")","v":{"$error":"#REF!"}}]
[null,null,null,null,null,null,null,null,null,null,null,null,null,null,{"$f":"IF(#REF!=\"\",\"\",IF(#REF!<TODAY(),0,IF(#REF!<(TODAY()+365),1,\"X\")))","v":{"$error":"#REF!"}},{"$f":"IF(#REF!=\"\",\"\",\"X\")","v":{"$error":"#REF!"}}]
[null,null,null,null,null,null,null,null,null,null,null,null,null,null,{"$f":"IF(#REF!=\"\",\"\",IF(#REF!<TODAY(),0,IF(#REF!<(TODAY()+365),1,\"X\")))","v":{"$error":"#REF!"}},{"$f":"IF(#REF!=\"\",\"\",\"X\")","v":{"$error":"#REF!"}}]
[null,null,null,null,null,null,null,null,null,null,null,null,null,null,{"$f":"IF(#REF!=\"\",\"\",IF(#REF!<TODAY(),0,IF(#REF!<(TODAY()+365),1,\"X\")))","v":{"$error":"#REF!"}},{"$f":"IF(#REF!=\"\",\"\",\"X\")","v":{"$error":"#REF!"}}]
[null,null,null,null,null,null,null,null,null,null,null,null,null,null,{"$f":"IF(#REF!=\"\",\"\",IF(#REF!<TODAY(),0,IF(#REF!<(TODAY()+365),1,\"X\")))","v":{"$error":"#REF!"}},{"$f":"IF(#REF!=\"\",\"\",\"X\")","v":{"$error":"#REF!"}}]
[null,null,null,null,null,null,null,null,null,null,null,null,null,null,{"$f":"IF(#REF!=\"\",\"\",IF(#REF!<TODAY(),0,IF(#REF!<(TODAY()+365),1,\"X\")))","v":{"$error":"#REF!"}},{"$f":"IF(#REF!=\"\",\"\",\"X\")","v":{"$error":"#REF!"}}]
[null,null,null,null,null,null,null,null,null,null,null,null,null,null,{"$f":"IF(#REF!=\"\",\"\",IF(#REF!<TODAY(),0,IF(#REF!<(TODAY()+365),1,\"X\")))","v":{"$error":"#REF!"}},{"$f":"IF(#REF!=\"\",\"\",\"X\")","v":{"$error":"#REF!"}}]
[null,null,null,null,null,null,null,null,null,null,null,null,null,null,{"$f":"IF(#REF!=\"\",\"\",IF(#REF!<TODAY(),0,IF(#REF!<(TODAY()+365),1,\"X\")))","v":{"$error":"#REF!"}},{"$f":"IF(#REF!=\"\",\"\",\"X\")","v":{"$error":"#REF!"}}]
[null,null,null,null,null,null,null,null,null,null,null,null,null,null,{"$f":"IF(#REF!=\"\",\"\",IF(#REF!<TODAY(),0,IF(#REF!<(TODAY()+365),1,\"X\")))","v":{"$error":"#REF!"}},{"$f":"IF(#REF!=\"\",\"\",\"X\")","v":{"$error":"#REF!"}}]
[null,null,null,null,null,null,null,null,null,null,null,null,null,null,{"$f":"IF(#REF!=\"\",\"\",IF(#REF!<TODAY(),0,IF(#REF!<(TODAY()+365),1,\"X\")))","v":{"$error":"#REF!"}},{"$f":"IF(#REF!=\"\",\"\",\"X\")","v":{"$error":"#REF!"}}]
[null,null,null,null,null,null,null,null,null,null,null,null,null,null,{"$f":"IF(#REF!=\"\",\"\",IF(#REF!<TODAY(),0,IF(#REF!<(TODAY()+365),1,\"X\")))","v":{"$error":"#REF!"}},{"$f":"IF(#REF!=\"\",\"\",\"X\")","v":{"$error":"#REF!"}}]
[null,null,null,null,null,null,null,null,null,null,null,null,null,null,{"$f":"IF(#REF!=\"\",\"\",IF(#REF!<TODAY(),0,IF(#REF!<(TODAY()+365),1,\"X\")))","v":{"$error":"#REF!"}},{"$f":"IF(#REF!=\"\",\"\",\"X\")","v":{"$error":"#REF!"}}]
[null,null,null,null,null,null,null,null,null,null,null,null,null,null,{"$f":"IF(#REF!=\"\",\"\",IF(#REF!<TODAY(),0,IF(#REF!<(TODAY()+365),1,\"X\")))","v":{"$error":"#REF!"}},{"$f":"IF(#REF!=\"\",\"\",\"X\")","v":{"$error":"#REF!"}}]
[null,null,null,null,null,null,null,null,null,null,null,null,null,null,{"$f":"IF(#REF!=\"\",\"\",IF(#REF!<TODAY(),0,IF(#REF!<(TODAY()+365),1,\"X\")))","v":{"$error":"#REF!"}},{"$f":"IF(#REF!=\"\",\"\",\"X\")","v":{"$error":"#REF!"}}]
[null,null,null,null,null,null,null,null,null,null,null,null,null,null,{"$f":"IF(#REF!=\"\",\"\",IF(#REF!<TODAY(),0,IF(#REF!<(TODAY()+365),1,\"X\")))","v":{"$error":"#REF!"}},{"$f":"IF(#REF!=\"\",\"\",\"X\")","v":{"$error":"#REF!"}}]
[null,null,null,null,null,null,null,null,null,null,null,null,null,null,{"$f":"IF(#REF!=\"\",\"\",IF(#REF!<TODAY(),0,IF(#REF!<(TODAY()+365),1,\"X\")))","v":{"$error":"#REF!"}},{"$f":"IF(#REF!=\"\",\"\",\"X\")","v":{"$error":"#REF!"}}]
[null,null,null,null,null,null,null,null,null,null,null,null,null,null,{"$f":"IF(#REF!=\"\",\"\",IF(#REF!<TODAY(),0,IF(#REF!<(TODAY()+365),1,\"X\")))","v":{"$error":"#REF!"}},{"$f":"IF(#REF!=\"\",\"\",\"X\")","v":{"$error":"#REF!"}}]
[null,null,null,null,null,null,null,null,null,null,null,null,null,null,{"$f":"IF(#REF!=\"\",\"\",IF(#REF!<TODAY(),0,IF(#REF!<(TODAY()+365),1,\"X\")))","v":{"$error":"#REF!"}},{"$f":"IF(#REF!=\"\",\"\",\"X\")","v":{"$error":"#REF!"}}]
[null,null,null,null,null,null,null,null,null,null,null,null,null,null,{"$f":"IF(#REF!=\"\",\"\",IF(#REF!<TODAY(),0,IF(#REF!<(TODAY()+365),1,\"X\")))","v":{"$error":"#REF!"}},{"$f":"IF(#REF!=\"\",\"\",\"X\")","v":{"$error":"#REF!"}}]
[null,null,null,null,null,null,null,null,null,null,null,null,null,null,{"$f":"IF(#REF!=\"\",\"\",IF(#REF!<TODAY(),0,IF(#REF!<(TODAY()+365),1,\"X\")))","v":{"$error":"#REF!"}},{"$f":"IF(#REF!=\"\",\"\",\"X\")","v":{"$error":"#REF!"}}]
[null,null,null,null,null,null,null,null,null,null,null,null,null,null,{"$f":"IF(#REF!=\"\",\"\",IF(#REF!<TODAY(),0,IF(#REF!<(TODAY()+365),1,\"X\")))","v":{"$error":"#REF!"}},{"$f":"IF(#REF!=\"\",\"\",\"X\")","v":{"$error":"#REF!"}}]
[null,null,null,null,null,null,null,null,null,null,null,null,null,null,{"$f":"IF(#REF!=\"\",\"\",IF(#REF!<TODAY(),0,IF(#REF!<(TODAY()+365),1,\"X\")))","v":{"$error":"#REF!"}},{"$f":"IF(#REF!=\"\",\"\",\"X\")","v":{"$error":"#REF!"}}]
[null,null,null,null,null,null,null,null,null,null,null,null,null,null,{"$f":"IF(#REF!=\"\",\"\",IF(#REF!<TODAY(),0,IF(#REF!<(TODAY()+365),1,\"X\")))","v":{"$error":"#REF!"}},{"$f":"IF(#REF!=\"\",\"\",\"X\")","v":{"$error":"#REF!"}}]
[null,null,null,null,null,null,null,null,null,null,null,null,null,null,{"$f":"IF(#REF!=\"\",\"\",IF(#REF!<TODAY(),0,IF(#REF!<(TODAY()+365),1,\"X\")))","v":{"$error":"#REF!"}},{"$f":"IF(#REF!=\"\",\"\",\"X\")","v":{"$error":"#REF!"}}]
[null,null,null,null,null,null,null,null,null,null,null,null,null,null,{"$f":"IF(#REF!=\"\",\"\",IF(#REF!<TODAY(),0,IF(#REF!<(TODAY()+365),1,\"X\")))","v":{"$error":"#REF!"}},{"$f":"IF(#REF!=\"\",\"\",\"X\")","v":{"$error":"#REF!"}}]
[null,null,null,null,null,null,null,null,null,null,null,null,null,null,{"$f":"IF(#REF!=\"\",\"\",IF(#REF!<TODAY(),0,IF(#REF!<(TODAY()+365),1,\"X\")))","v":{"$error":"#REF!"}},{"$f":"IF(#REF!=\"\",\"\",\"X\")","v":{"$error":"#REF!"}}]
[null,null,null,null,null,null,null,null,null,null,null,null,null,null,{"$f":"IF(#REF!=\"\",\"\",IF(#REF!<TODAY(),0,IF(#REF!<(TODAY()+365),1,\"X\")))","v":{"$error":"#REF!"}},{"$f":"IF(#REF!=\"\",\"\",\"X\")","v":{"$error":"#REF!"}}]
[null,null,null,null,null,null,null,null,null,null,null,null,null,null,{"$f":"IF(#REF!=\"\",\"\",IF(#REF!<TODAY(),0,IF(#REF!<(TODAY()+365),1,\"X\")))","v":{"$error":"#REF!"}},{"$f":"IF(#REF!=\"\",\"\",\"X\")","v":{"$error":"#REF!"}}]
[null,null,null,null,null,null,null,null,null,null,null,null,null,null,{"$f":"IF(#REF!=\"\",\"\",IF(#REF!<TODAY(),0,IF(#REF!<(TODAY()+365),1,\"X\")))","v":{"$error":"#REF!"}},{"$f":"IF(#REF!=\"\",\"\",\"X\")","v":{"$error":"#REF!"}}]
[null,null,null,null,null,null,null,null,null,null,null,null,null,null,{"$f":"IF(#REF!=\"\",\"\",IF(#REF!<TODAY(),0,IF(#REF!<(TODAY()+365),1,\"X\")))","v":{"$error":"#REF!"}},{"$f":"IF(#REF!=\"\",\"\",\"X\")","v":{"$error":"#REF!"}}]
[null,null,null,null,null,null,null,null,null,null,null,null,null,null,{"$f":"IF(#REF!=\"\",\"\",IF(#REF!<TODAY(),0,IF(#REF!<(TODAY()+365),1,\"X\")))","v":{"$error":"#REF!"}},{"$f":"IF(#REF!=\"\",\"\",\"X\")","v":{"$error":"#REF!"}}]
[null,null,null,null,null,null,null,null,null,null,null,null,null,null,{"$f":"IF(#REF!=\"\",\"\",IF(#REF!<TODAY(),0,IF(#REF!<(TODAY()+365),1,\"X\")))","v":{"$error":"#REF!"}},{"$f":"IF(#REF!=\"\",\"\",\"X\")","v":{"$error":"#REF!"}}]
[null,null,null,null,null,null,null,null,null,null,null,null,null,null,{"$f":"IF(#REF!=\"\",\"\",IF(#REF!<TODAY(),0,IF(#REF!<(TODAY()+365),1,\"X\")))","v":{"$error":"#REF!"}},{"$f":"IF(#REF!=\"\",\"\",\"X\")","v":{"$error":"#REF!"}}]
[null,null,null,null,null,null,null,null,null,null,null,null,null,null,{"$f":"IF(#REF!=\"\",\"\",IF(#REF!<TODAY(),0,IF(#REF!<(TODAY()+365),1,\"X\")))","v":{"$error":"#REF!"}},{"$f":"IF(#REF!=\"\",\"\",\"X\")","v":{"$error":"#REF!"}}]
[null,null,null,null,null,null,null,null,null,null,null,null,null,null,{"$f":"IF(#REF!=\"\",\"\",IF(#REF!<TODAY(),0,IF(#REF!<(TODAY()+365),1,\"X\")))","v":{"$error":"#REF!"}},{"$f":"IF(#REF!=\"\",\"\",\"X\")","v":{"$error":"#REF!"}}]
[null,null,null,null,null,null,null,null,null,null,null,null,null,null,{"$f":"IF(#REF!=\"\",\"\",IF(#REF!<TODAY(),0,IF(#REF!<(TODAY()+365),1,\"X\")))","v":{"$error":"#REF!"}},{"$f":"IF(#REF!=\"\",\"\",\"X\")","v":{"$error":"#REF!"}}]
[null,null,null,null,null,null,null,null,null,null,null,null,null,null,{"$f":"IF(#REF!=\"\",\"\",IF(#REF!<TODAY(),0,IF(#REF!<(TODAY()+365),1,\"X\")))","v":{"$error":"#REF!"}},{"$f":"IF(#REF!=\"\",\"\",\"X\")","v":{"$error":"#REF!"}}]
[null,null,null,null,null,null,null,null,null,null,null,null,null,null,{"$f":"IF(#REF!=\"\",\"\",IF(#REF!<TODAY(),0,IF(#REF!<(TODAY()+365),1,\"X\")))","v":{"$error":"#REF!"}},{"$f":"IF(#REF!=\"\",\"\",\"X\")","v":{"$error":"#REF!"}}]
[null,null,null,null,null,null,null,null,null,null,null,null,null,null,{"$f":"IF(#REF!=\"\",\"\",IF(#REF!<TODAY(),0,IF(#REF!<(TODAY()+365),1,\"X\")))","v":{"$error":"#REF!"}},{"$f":"IF(#REF!=\"\",\"\",\"X\")","v":{"$error":"#REF!"}}]
[null,null,null,null,null,null,null,null,null,null,null,null,null,null,{"$f":"IF(#REF!=\"\",\"\",IF(#REF!<TODAY(),0,IF(#REF!<(TODAY()+365),1,\"X\")))","v":{"$error":"#REF!"}},{"$f":"IF(#REF!=\"\",\"\",\"X\")","v":{"$error":"#REF!"}}]
[null,null,null,null,null,null,null,null,null,null,null,null,null,null,{"$f":"IF(#REF!=\"\",\"\",IF(#REF!<TODAY(),0,IF(#REF!<(TODAY()+365),1,\"X\")))","v":{"$error":"#REF!"}},{"$f":"IF(#REF!=\"\",\"\",\"X\")","v":{"$error":"#REF!"}}]
[null,null,null,null,null,null,null,null,null,null,null,null,null,null,{"$f":"IF(#REF!=\"\",\"\",IF(#REF!<TODAY(),0,IF(#REF!<(TODAY()+365),1,\"X\")))","v":{"$error":"#REF!"}},{"$f":"IF(#REF!=\"\",\"\",\"X\")","v":{"$error":"#REF!"}}]
[null,null,null,null,null,null,null,null,null,null,null,null,null,null,{"$f":"IF(#REF!=\"\",\"\",IF(#REF!<TODAY(),0,IF(#REF!<(TODAY()+365),1,\"X\")))","v":{"$error":"#REF!"}},{"$f":"IF(#REF!=\"\",\"\",\"X\")","v":{"$error":"#REF!"}}]
[null,null,null,null,null,null,null,null,null,null,null,null,null,null,{"$f":"IF(#REF!=\"\",\"\",IF(#REF!<TODAY(),0,IF(#REF!<(TODAY()+365),1,\"X\")))","v":{"$error":"#REF!"}},{"$f":"IF(#REF!=\"\",\"\",\"X\")","v":{"$error":"#REF!"}}]
[null,null,null,null,null,null,null,null,null,null,null,null,null,null,{"$f":"IF(#REF!=\"\",\"\",IF(#REF!<TODAY(),0,IF(#REF!<(TODAY()+365),1,\"X\")))","v":{"$error":"#REF!"}},{"$f":"IF(#REF!=\"\",\"\",\"X\")","v":{"$error":"#REF!"}}]
[null,null,null,null,null,null,null,null,null,null,null,null,null,null,{"$f":"IF(#REF!=\"\",\"\",IF(#REF!<TODAY(),0,IF(#REF!<(TODAY()+365),1,\"X\")))","v":{"$error":"#REF!"}},{"$f":"IF(#REF!=\"\",\"\",\"X\")","v":{"$error":"#REF!"}}]
[null,null,null,null,null,null,null,null,null,null,null,null,null,null,{"$f":"IF(#REF!=\"\",\"\",IF(#REF!<TODAY(),0,IF(#REF!<(TODAY()+365),1,\"X\")))","v":{"$error":"#REF!"}},{"$f":"IF(#REF!=\"\",\"\",\"X\")","v":{"$error":"#REF!"}}]
[null,null,null,null,null,null,null,null,null,null,null,null,null,null,{"$f":"IF(#REF!=\"\",\"\",IF(#REF!<TODAY(),0,IF(#REF!<(TODAY()+365),1,\"X\")))","v":{"$error":"#REF!"}},{"$f":"IF(#REF!=\"\",\"\",\"X\")","v":{"$error":"#REF!"}}]
[null,null,null,null,null,null,null,null,null,null,null,null,null,null,{"$f":"IF(#REF!=\"\",\"\",IF(#REF!<TODAY(),0,IF(#REF!<(TODAY()+365),1,\"X\")))","v":{"$error":"#REF!"}},{"$f":"IF(#REF!=\"\",\"\",\"X\")","v":{"$error":"#REF!"}}]
[null,null,null,null,null,null,null,null,null,null,null,null,null,null,{"$f":"IF(#REF!=\"\",\"\",IF(#REF!<TODAY(),0,IF(#REF!<(TODAY()+365),1,\"X\")))","v":{"$error":"#REF!"}},{"$f":"IF(#REF!=\"\",\"\",\"X\")","v":{"$error":"#REF!"}}]
[null,null,null,null,null,null,null,null,null,null,null,null,null,null,{"$f":"IF(#REF!=\"\",\"\",IF(#REF!<TODAY(),0,IF(#REF!<(TODAY()+365),1,\"X\")))","v":{"$error":"#REF!"}},{"$f":"IF(#REF!=\"\",\"\",\"X\")","v":{"$error":"#REF!"}}]
[null,null,null,null,null,null,null,null,null,null,null,null,null,null,{"$f":"IF(#REF!=\"\",\"\",IF(#REF!<TODAY(),0,IF(#REF!<(TODAY()+365),1,\"X\")))","v":{"$error":"#REF!"}},{"$f":"IF(#REF!=\"\",\"\",\"X\")","v":{"$error":"#REF!"}}]
[null,null,null,null,null,null,null,null,null,null,null,null,null,null,{"$f":"IF(#REF!=\"\",\"\",IF(#REF!<TODAY(),0,IF(#REF!<(TODAY()+365),1,\"X\")))","v":{"$error":"#REF!"}},{"$f":"IF(#REF!=\"\",\"\",\"X\")","v":{"$error":"#REF!"}}]
[null,null,null,null,null,null,null,null,null,null,null,null,null,null,{"$f":"IF(#REF!=\"\",\"\",IF(#REF!<TODAY(),0,IF(#REF!<(TODAY()+365),1,\"X\")))","v":{"$error":"#REF!"}},{"$f":"IF(#REF!=\"\",\"\",\"X\")","v":{"$error":"#REF!"}}]
[null,null,null,null,null,null,null,null,null,null,null,null,null,null,{"$f":"IF(#REF!=\"\",\"\",IF(#REF!<TODAY(),0,IF(#REF!<(TODAY()+365),1,\"X\")))","v":{"$error":"#REF!"}},{"$f":"IF(#REF!=\"\",\"\",\"X\")","v":{"$error":"#REF!"}}]
[null,null,null,null,null,null,null,null,null,null,null,null,null,null,{"$f":"IF(#REF!=\"\",\"\",IF(#REF!<TODAY(),0,IF(#REF!<(TODAY()+365),1,\"X\")))","v":{"$error":"#REF!"}},{"$f":"IF(#REF!=\"\",\"\",\"X\")","v":{"$error":"#REF!"}}]
[null,null,null,null,null,null,null,null,null,null,null,null,null,null,{"$f":"IF(#REF!=\"\",\"\",IF(#REF!<TODAY(),0,IF(#REF!<(TODAY()+365),1,\"X\")))","v":{"$error":"#REF!"}},{"$f":"IF(#REF!=\"\",\"\",\"X\")","v":{"$error":"#REF!"}}]
[null,null,null,null,null,null,null,null,null,null,null,null,null,null,{"$f":"IF(#REF!=\"\",\"\",IF(#REF!<TODAY(),0,IF(#REF!<(TODAY()+365),1,\"X\")))","v":{"$error":"#REF!"}},{"$f":"IF(#REF!=\"\",\"\",\"X\")","v":{"$error":"#REF!"}}]
[null,null,null,null,null,null,null,null,null,null,null,null,null,null,{"$f":"IF(#REF!=\"\",\"\",IF(#REF!<TODAY(),0,IF(#REF!<(TODAY()+365),1,\"X\")))","v":{"$error":"#REF!"}},{"$f":"IF(#REF!=\"\",\"\",\"X\")","v":{"$error":"#REF!"}}]
[null,null,null,null,null,null,null,null,null,null,null,null,null,null,{"$f":"IF(#REF!=\"\",\"\",IF(#REF!<TODAY(),0,IF(#REF!<(TODAY()+365),1,\"X\")))","v":{"$error":"#REF!"}},{"$f":"IF(#REF!=\"\",\"\",\"X\")","v":{"$error":"#REF!"}}]
[null,null,null,null,null,null,null,null,null,null,null,null,null,null,{"$f":"IF(#REF!=\"\",\"\",IF(#REF!<TODAY(),0,IF(#REF!<(TODAY()+365),1,\"X\")))","v":{"$error":"#REF!"}},{"$f":"IF(#REF!=\"\",\"\",\"X\")","v":{"$error":"#REF!"}}]
[null,null,null,null,null,null,null,null,null,null,null,null,null,null,{"$f":"IF(#REF!=\"\",\"\",IF(#REF!<TODAY(),0,IF(#REF!<(TODAY()+365),1,\"X\")))","v":{"$error":"#REF!"}},{"$f":"IF(#REF!=\"\",\"\",\"X\")","v":{"$error":"#REF!"}}]
[null,null,null,null,null,null,null,null,null,null,null,null,null,null,{"$f":"IF(#REF!=\"\",\"\",IF(#REF!<TODAY(),0,IF(#REF!<(TODAY()+365),1,\"X\")))","v":{"$error":"#REF!"}},{"$f":"IF(#REF!=\"\",\"\",\"X\")","v":{"$error":"#REF!"}}]
[null,null,null,null,null,null,null,null,null,null,null,null,null,null,{"$f":"IF(#REF!=\"\",\"\",IF(#REF!<TODAY(),0,IF(#REF!<(TODAY()+365),1,\"X\")))","v":{"$error":"#REF!"}},{"$f":"IF(#REF!=\"\",\"\",\"X\")","v":{"$error":"#REF!"}}]
[null,null,null,null,null,null,null,null,null,null,null,null,null,null,{"$f":"IF(#REF!=\"\",\"\",IF(#REF!<TODAY(),0,IF(#REF!<(TODAY()+365),1,\"X\")))","v":{"$error":"#REF!"}},{"$f":"IF(#REF!=\"\",\"\",\"X\")","v":{"$error":"#REF!"}}]
[null,null,null,null,null,null,null,null,null,null,null,null,null,null,{"$f":"IF(#REF!=\"\",\"\",IF(#REF!<TODAY(),0,IF(#REF!<(TODAY()+365),1,\"X\")))","v":{"$error":"#REF!"}},{"$f":"IF(#REF!=\"\",\"\",\"X\")","v":{"$error":"#REF!"}}]
[null,null,null,null,null,null,null,null,null,null,null,null,null,null,{"$f":"IF(#REF!=\"\",\"\",IF(#REF!<TODAY(),0,IF(#REF!<(TODAY()+365),1,\"X\")))","v":{"$error":"#REF!"}},{"$f":"IF(#REF!=\"\",\"\",\"X\")","v":{"$error":"#REF!"}}]
[null,null,null,null,null,null,null,null,null,null,null,null,null,null,{"$f":"IF(#REF!=\"\",\"\",IF(#REF!<TODAY(),0,IF(#REF!<(TODAY()+365),1,\"X\")))","v":{"$error":"#REF!"}},{"$f":"IF(#REF!=\"\",\"\",\"X\")","v":{"$error":"#REF!"}}]
[null,null,null,null,null,null,null,null,null,null,null,null,null,null,{"$f":"IF(#REF!=\"\",\"\",IF(#REF!<TODAY(),0,IF(#REF!<(TODAY()+365),1,\"X\")))","v":{"$error":"#REF!"}},{"$f":"IF(#REF!=\"\",\"\",\"X\")","v":{"$error":"#REF!"}}]
[null,null,null,null,null,null,null,null,null,null,null,null,null,null,{"$f":"IF(#REF!=\"\",\"\",IF(#REF!<TODAY(),0,IF(#REF!<(TODAY()+365),1,\"X\")))","v":{"$error":"#REF!"}},{"$f":"IF(#REF!=\"\",\"\",\"X\")","v":{"$error":"#REF!"}}]
[null,null,null,null,null,null,null,null,null,null,null,null,null,null,{"$f":"IF(#REF!=\"\",\"\",IF(#REF!<TODAY(),0,IF(#REF!<(TODAY()+365),1,\"X\")))","v":{"$error":"#REF!"}},{"$f":"IF(#REF!=\"\",\"\",\"X\")","v":{"$error":"#REF!"}}]
[null,null,null,null,null,null,null,null,null,null,null,null,null,null,{"$f":"IF(#REF!=\"\",\"\",IF(#REF!<TODAY(),0,IF(#REF!<(TODAY()+365),1,\"X\")))","v":{"$error":"#REF!"}},{"$f":"IF(#REF!=\"\",\"\",\"X\")","v":{"$error":"#REF!"}}]
[null,null,null,null,null,null,null,null,null,null,null,null,null,null,{"$f":"IF(#REF!=\"\",\"\",IF(#REF!<TODAY(),0,IF(#REF!<(TODAY()+365),1,\"X\")))","v":{"$error":"#REF!"}},{"$f":"IF(#REF!=\"\",\"\",\"X\")","v":{"$error":"#REF!"}}]
[null,null,null,null,null,null,null,null,null,null,null,null,null,null,{"$f":"IF(#REF!=\"\",\"\",IF(#REF!<TODAY(),0,IF(#REF!<(TODAY()+365),1,\"X\")))","v":{"$error":"#REF!"}},{"$f":"IF(#REF!=\"\",\"\",\"X\")","v":{"$error":"#REF!"}}]
[null,null,null,null,null,null,null,null,null,null,null,null,null,null,{"$f":"IF(#REF!=\"\",\"\",IF(#REF!<TODAY(),0,IF(#REF!<(TODAY()+365),1,\"X\")))","v":{"$error":"#REF!"}},{"$f":"IF(#REF!=\"\",\"\",\"X\")","v":{"$error":"#REF!"}}]
[null,null,null,null,null,null,null,null,null,null,null,null,null,null,{"$f":"IF(#REF!=\"\",\"\",IF(#REF!<TODAY(),0,IF(#REF!<(TODAY()+365),1,\"X\")))","v":{"$error":"#REF!"}},{"$f":"IF(#REF!=\"\",\"\",\"X\")","v":{"$error":"#REF!"}}]
[null,null,null,null,null,null,null,null,null,null,null,null,null,null,{"$f":"IF(#REF!=\"\",\"\",IF(#REF!<TODAY(),0,IF(#REF!<(TODAY()+365),1,\"X\")))","v":{"$error":"#REF!"}},{"$f":"IF(#REF!=\"\",\"\",\"X\")","v":{"$error":"#REF!"}}]
[null,null,null,null,null,null,null,null,null,null,null,null,null,null,{"$f":"IF(#REF!=\"\",\"\",IF(#REF!<TODAY(),0,IF(#REF!<(TODAY()+365),1,\"X\")))","v":{"$error":"#REF!"}},{"$f":"IF(#REF!=\"\",\"\",\"X\")","v":{"$error":"#REF!"}}]
[null,null,null,null,null,null,null,null,null,null,null,null,null,null,{"$f":"IF(#REF!=\"\",\"\",IF(#REF!<TODAY(),0,IF(#REF!<(TODAY()+365),1,\"X\")))","v":{"$error":"#REF!"}},{"$f":"IF(#REF!=\"\",\"\",\"X\")","v":{"$error":"#REF!"}}]
[null,null,null,null,null,null,null,null,null,null,null,null,null,null,{"$f":"IF(#REF!=\"\",\"\",IF(#REF!<TODAY(),0,IF(#REF!<(TODAY()+365),1,\"X\")))","v":{"$error":"#REF!"}},{"$f":"IF(#REF!=\"\",\"\",\"X\")","v":{"$error":"#REF!"}}]
[null,null,null,null,null,null,null,null,null,null,null,null,null,null,{"$f":"IF(#REF!=\"\",\"\",IF(#REF!<TODAY(),0,IF(#REF!<(TODAY()+365),1,\"X\")))","v":{"$error":"#REF!"}},{"$f":"IF(#REF!=\"\",\"\",\"X\")","v":{"$error":"#REF!"}}]
[null,null,null,null,null,null,null,null,null,null,null,null,null,null,{"$f":"IF(#REF!=\"\",\"\",IF(#REF!<TODAY(),0,IF(#REF!<(TODAY()+365),1,\"X\")))","v":{"$error":"#REF!"}},{"$f":"IF(#REF!=\"\",\"\",\"X\")","v":{"$error":"#REF!"}}]
[null,null,null,null,null,null,null,null,null,null,null,null,null,null,{"$f":"IF(#REF!=\"\",\"\",IF(#REF!<TODAY(),0,IF(#REF!<(TODAY()+365),1,\"X\")))","v":{"$error":"#REF!"}},{"$f":"IF(#REF!=\"\",\"\",\"X\")","v":{"$error":"#REF!"}}]
[null,null,null,null,null,null,null,null,null,null,null,null,null,null,{"$f":"IF(#REF!=\"\",\"\",IF(#REF!<TODAY(),0,IF(#REF!<(TODAY()+365),1,\"X\")))","v":{"$error":"#REF!"}},{"$f":"IF(#REF!=\"\",\"\",\"X\")","v":{"$error":"#REF!"}}]
[null,null,null,null,null,null,null,null,null,null,null,null,null,null,{"$f":"IF(#REF!=\"\",\"\",IF(#REF!<TODAY(),0,IF(#REF!<(TODAY()+365),1,\"X\")))","v":{"$error":"#REF!"}},{"$f":"IF(#REF!=\"\",\"\",\"X\")","v":{"$error":"#REF!"}}]
[null,null,null,null,null,null,null,null,null,null,null,null,null,null,{"$f":"IF(#REF!=\"\",\"\",IF(#REF!<TODAY(),0,IF(#REF!<(TODAY()+365),1,\"X\")))","v":{"$error":"#REF!"}},{"$f":"IF(#REF!=\"\",\"\",\"X\")","v":{"$error":"#REF!"}}]
[null,null,null,null,null,null,null,null,null,null,null,null,null,null,{"$f":"IF(#REF!=\"\",\"\",IF(#REF!<TODAY(),0,IF(#REF!<(TODAY()+365),1,\"X\")))","v":{"$error":"#REF!"}},{"$f":"IF(#REF!=\"\",\"\",\"X\")","v":{"$error":"#REF!"}}]
[null,null,null,null,null,null,null,null,null,null,null,null,null,null,{"$f":"IF(#REF!=\"\",\"\",IF(#REF!<TODAY(),0,IF(#REF!<(TODAY()+365),1,\"X\")))","v":{"$error":"#REF!"}},{"$f":"IF(#REF!=\"\",\"\",\"X\")","v":{"$error":"#REF!"}}]
[null,null,null,null,null,null,null,null,null,null,null,null,null,null,{"$f":"IF(#REF!=\"\",\"\",IF(#REF!<TODAY(),0,IF(#REF!<(TODAY()+365),1,\"X\")))","v":{"$error":"#REF!"}},{"$f":"IF(#REF!=\"\",\"\",\"X\")","v":{"$error":"#REF!"}}]
[null,null,null,null,null,null,null,null,null,null,null,null,null,null,{"$f":"IF(#REF!=\"\",\"\",IF(#REF!<TODAY(),0,IF(#REF!<(TODAY()+365),1,\"X\")))","v":{"$error":"#REF!"}},{"$f":"IF(#REF!=\"\",\"\",\"X\")","v":{"$error":"#REF!"}}]
[null,null,null,null,null,null,null,null,null,null,null,null,null,null,{"$f":"IF(#REF!=\"\",\"\",IF(#REF!<TODAY(),0,IF(#REF!<(TODAY()+365),1,\"X\")))","v":{"$error":"#REF!"}},{"$f":"IF(#REF!=\"\",\"\",\"X\")","v":{"$error":"#REF!"}}]
[null,null,null,null,null,null,null,null,null,null,null,null,null,null,{"$f":"IF(#REF!=\"\",\"\",IF(#REF!<TODAY(),0,IF(#REF!<(TODAY()+365),1,\"X\")))","v":{"$error":"#REF!"}},{"$f":"IF(#REF!=\"\",\"\",\"X\")","v":{"$error":"#REF!"}}]
[null,null,null,null,null,null,null,null,null,null,null,null,null,null,{"$f":"IF(#REF!=\"\",\"\",IF(#REF!<TODAY(),0,IF(#REF!<(TODAY()+365),1,\"X\")))","v":{"$error":"#REF!"}},{"$f":"IF(#REF!=\"\",\"\",\"X\")","v":{"$error":"#REF!"}}]
[null,null,null,null,null,null,null,null,null,null,null,null,null,null,{"$f":"IF(#REF!=\"\",\"\",IF(#REF!<TODAY(),0,IF(#REF!<(TODAY()+365),1,\"X\")))","v":{"$error":"#REF!"}},{"$f":"IF(#REF!=\"\",\"\",\"X\")","v":{"$error":"#REF!"}}]
[null,null,null,null,null,null,null,null,null,null,null,null,null,null,{"$f":"IF(#REF!=\"\",\"\",IF(#REF!<TODAY(),0,IF(#REF!<(TODAY()+365),1,\"X\")))","v":{"$error":"#REF!"}},{"$f":"IF(#REF!=\"\",\"\",\"X\")","v":{"$error":"#REF!"}}]
[null,null,null,null,null,null,null,null,null,null,null,null,null,null,{"$f":"IF(#REF!=\"\",\"\",IF(#REF!<TODAY(),0,IF(#REF!<(TODAY()+365),1,\"X\")))","v":{"$error":"#REF!"}},{"$f":"IF(#REF!=\"\",\"\",\"X\")","v":{"$error":"#REF!"}}]
[null,null,null,null,null,null,null,null,null,null,null,null,null,null,{"$f":"IF(#REF!=\"\",\"\",IF(#REF!<TODAY(),0,IF(#REF!<(TODAY()+365),1,\"X\")))","v":{"$error":"#REF!"}},{"$f":"IF(#REF!=\"\",\"\",\"X\")","v":{"$error":"#REF!"}}]
[null,null,null,null,null,null,null,null,null,null,null,null,null,null,{"$f":"IF(#REF!=\"\",\"\",IF(#REF!<TODAY(),0,IF(#REF!<(TODAY()+365),1,\"X\")))","v":{"$error":"#REF!"}},{"$f":"IF(#REF!=\"\",\"\",\"X\")","v":{"$error":"#REF!"}}]
[null,null,null,null,null,null,null,null,null,null,null,null,null,null,{"$f":"IF(#REF!=\"\",\"\",IF(#REF!<TODAY(),0,IF(#REF!<(TODAY()+365),1,\"X\")))","v":{"$error":"#REF!"}},{"$f":"IF(#REF!=\"\",\"\",\"X\")","v":{"$error":"#REF!"}}]
[null,null,null,null,null,null,null,null,null,null,null,null,null,null,{"$f":"IF(#REF!=\"\",\"\",IF(#REF!<TODAY(),0,IF(#REF!<(TODAY()+365),1,\"X\")))","v":{"$error":"#REF!"}},{"$f":"IF(#REF!=\"\",\"\",\"X\")","v":{"$error":"#REF!"}}]
[null,null,null,null,null,null,null,null,null,null,null,null,null,null,{"$f":"IF(#REF!=\"\",\"\",IF(#REF!<TODAY(),0,IF(#REF!<(TODAY()+365),1,\"X\")))","v":{"$error":"#REF!"}},{"$f":"IF(#REF!=\"\",\"\",\"X\")","v":{"$error":"#REF!"}}]
[null,null,null,null,null,null,null,null,null,null,null,null,null,null,{"$f":"IF(#REF!=\"\",\"\",IF(#REF!<TODAY(),0,IF(#REF!<(TODAY()+365),1,\"X\")))","v":{"$error":"#REF!"}},{"$f":"IF(#REF!=\"\",\"\",\"X\")","v":{"$error":"#REF!"}}]
[null,null,null,null,null,null,null,null,null,null,null,null,null,null,{"$f":"IF(#REF!=\"\",\"\",IF(#REF!<TODAY(),0,IF(#REF!<(TODAY()+365),1,\"X\")))","v":{"$error":"#REF!"}},{"$f":"IF(#REF!=\"\",\"\",\"X\")","v":{"$error":"#REF!"}}]
[null,null,null,null,null,null,null,null,null,null,null,null,null,null,{"$f":"IF(#REF!=\"\",\"\",IF(#REF!<TODAY(),0,IF(#REF!<(TODAY()+365),1,\"X\")))","v":{"$error":"#REF!"}},{"$f":"IF(#REF!=\"\",\"\",\"X\")","v":{"$error":"#REF!"}}]
[null,null,null,null,null,null,null,null,null,null,null,null,null,null,{"$f":"IF(#REF!=\"\",\"\",IF(#REF!<TODAY(),0,IF(#REF!<(TODAY()+365),1,\"X\")))","v":{"$error":"#REF!"}},{"$f":"IF(#REF!=\"\",\"\",\"X\")","v":{"$error":"#REF!"}}]
[null,null,null,null,null,null,null,null,null,null,null,null,null,null,{"$f":"IF(#REF!=\"\",\"\",IF(#REF!<TODAY(),0,IF(#REF!<(TODAY()+365),1,\"X\")))","v":{"$error":"#REF!"}},{"$f":"IF(#REF!=\"\",\"\",\"X\")","v":{"$error":"#REF!"}}]
[null,null,null,null,null,null,null,null,null,null,null,null,null,null,{"$f":"IF(#REF!=\"\",\"\",IF(#REF!<TODAY(),0,IF(#REF!<(TODAY()+365),1,\"X\")))","v":{"$error":"#REF!"}},{"$f":"IF(#REF!=\"\",\"\",\"X\")","v":{"$error":"#REF!"}}]
[null,null,null,null,null,null,null,null,null,null,null,null,null,null,{"$f":"IF(#REF!=\"\",\"\",IF(#REF!<TODAY(),0,IF(#REF!<(TODAY()+365),1,\"X\")))","v":{"$error":"#REF!"}},{"$f":"IF(#REF!=\"\",\"\",\"X\")","v":{"$error":"#REF!"}}]
[null,null,null,null,null,null,null,null,null,null,null,null,null,null,{"$f":"IF(#REF!=\"\",\"\",IF(#REF!<TODAY(),0,IF(#REF!<(TODAY()+365),1,\"X\")))","v":{"$error":"#REF!"}},{"$f":"IF(#REF!=\"\",\"\",\"X\")","v":{"$error":"#REF!"}}]
[null,null,null,null,null,null,null,null,null,null,null,null,null,null,{"$f":"IF(#REF!=\"\",\"\",IF(#REF!<TODAY(),0,IF(#REF!<(TODAY()+365),1,\"X\")))","v":{"$error":"#REF!"}},{"$f":"IF(#REF!=\"\",\"\",\"X\")","v":{"$error":"#REF!"}}]
[null,null,null,null,null,null,null,null,null,null,null,null,null,null,{"$f":"IF(#REF!=\"\",\"\",IF(#REF!<TODAY(),0,IF(#REF!<(TODAY()+365),1,\"X\")))","v":{"$error":"#REF!"}},{"$f":"IF(#REF!=\"\",\"\",\"X\")","v":{"$error":"#REF!"}}]
[null,null,null,null,null,null,null,null,null,null,null,null,null,null,{"$f":"IF(#REF!=\"\",\"\",IF(#REF!<TODAY(),0,IF(#REF!<(TODAY()+365),1,\"X\")))","v":{"$error":"#REF!"}},{"$f":"IF(#REF!=\"\",\"\",\"X\")","v":{"$error":"#REF!"}}]
[null,null,null,null,null,null,null,null,null,null,null,null,null,null,{"$f":"IF(#REF!=\"\",\"\",IF(#REF!<TODAY(),0,IF(#REF!<(TODAY()+365),1,\"X\")))","v":{"$error":"#REF!"}},{"$f":"IF(#REF!=\"\",\"\",\"X\")","v":{"$error":"#REF!"}}]
[null,null,null,null,null,null,null,null,null,null,null,null,null,null,{"$f":"IF(#REF!=\"\",\"\",IF(#REF!<TODAY(),0,IF(#REF!<(TODAY()+365),1,\"X\")))","v":{"$error":"#REF!"}},{"$f":"IF(#REF!=\"\",\"\",\"X\")","v":{"$error":"#REF!"}}]
[null,null,null,null,null,null,null,null,null,null,null,null,null,null,{"$f":"IF(#REF!=\"\",\"\",IF(#REF!<TODAY(),0,IF(#REF!<(TODAY()+365),1,\"X\")))","v":{"$error":"#REF!"}},{"$f":"IF(#REF!=\"\",\"\",\"X\")","v":{"$error":"#REF!"}}]
[null,null,null,null,null,null,null,null,null,null,null,null,null,null,{"$f":"IF(#REF!=\"\",\"\",IF(#REF!<TODAY(),0,IF(#REF!<(TODAY()+365),1,\"X\")))","v":{"$error":"#REF!"}},{"$f":"IF(#REF!=\"\",\"\",\"X\")","v":{"$error":"#REF!"}}]
[null,null,null,null,null,null,null,null,null,null,null,null,null,null,{"$f":"IF(#REF!=\"\",\"\",IF(#REF!<TODAY(),0,IF(#REF!<(TODAY()+365),1,\"X\")))","v":{"$error":"#REF!"}},{"$f":"IF(#REF!=\"\",\"\",\"X\")","v":{"$error":"#REF!"}}]
[null,null,null,null,null,null,null,null,null,null,null,null,null,null,{"$f":"IF(#REF!=\"\",\"\",IF(#REF!<TODAY(),0,IF(#REF!<(TODAY()+365),1,\"X\")))","v":{"$error":"#REF!"}},{"$f":"IF(#REF!=\"\",\"\",\"X\")","v":{"$error":"#REF!"}}]
[null,null,null,null,null,null,null,null,null,null,null,null,null,null,{"$f":"IF(#REF!=\"\",\"\",IF(#REF!<TODAY(),0,IF(#REF!<(TODAY()+365),1,\"X\")))","v":{"$error":"#REF!"}},{"$f":"IF(#REF!=\"\",\"\",\"X\")","v":{"$error":"#REF!"}}]
[null,null,null,null,null,null,null,null,null,null,null,null,null,null,{"$f":"IF(#REF!=\"\",\"\",IF(#REF!<TODAY(),0,IF(#REF!<(TODAY()+365),1,\"X\")))","v":{"$error":"#REF!"}},{"$f":"IF(#REF!=\"\",\"\",\"X\")","v":{"$error":"#REF!"}}]
[null,null,null,null,null,null,null,null,null,null,null,null,null,null,{"$f":"IF(#REF!=\"\",\"\",IF(#REF!<TODAY(),0,IF(#REF!<(TODAY()+365),1,\"X\")))","v":{"$error":"#REF!"}},{"$f":"IF(#REF!=\"\",\"\",\"X\")","v":{"$error":"#REF!"}}]
[null,null,null,null,null,null,null,null,null,null,null,null,null,null,{"$f":"IF(#REF!=\"\",\"\",IF(#REF!<TODAY(),0,IF(#REF!<(TODAY()+365),1,\"X\")))","v":{"$error":"#REF!"}},{"$f":"IF(#REF!=\"\",\"\",\"X\")","v":{"$error":"#REF!"}}]
[null,null,null,null,null,null,null,null,null,null,null,null,null,null,{"$f":"IF(#REF!=\"\",\"\",IF(#REF!<TODAY(),0,IF(#REF!<(TODAY()+365),1,\"X\")))","v":{"$error":"#REF!"}},{"$f":"IF(#REF!=\"\",\"\",\"X\")","v":{"$error":"#REF!"}}]
[null,null,null,null,null,null,null,null,null,null,null,null,null,null,{"$f":"IF(#REF!=\"\",\"\",IF(#REF!<TODAY(),0,IF(#REF!<(TODAY()+365),1,\"X\")))","v":{"$error":"#REF!"}},{"$f":"IF(#REF!=\"\",\"\",\"X\")","v":{"$error":"#REF!"}}]
[null,null,null,null,null,null,null,null,null,null,null,null,null,null,{"$f":"IF(#REF!=\"\",\"\",IF(#REF!<TODAY(),0,IF(#REF!<(TODAY()+365),1,\"X\")))","v":{"$error":"#REF!"}},{"$f":"IF(#REF!=\"\",\"\",\"X\")","v":{"$error":"#REF!"}}]
[null,null,null,null,null,null,null,null,null,null,null,null,null,null,{"$f":"IF(#REF!=\"\",\"\",IF(#REF!<TODAY(),0,IF(#REF!<(TODAY()+365),1,\"X\")))","v":{"$error":"#REF!"}},{"$f":"IF(#REF!=\"\",\"\",\"X\")","v":{"$error":"#REF!"}}]
[null,null,null,null,null,null,null,null,null,null,null,null,null,null,{"$f":"IF(#REF!=\"\",\"\",IF(#REF!<TODAY(),0,IF(#REF!<(TODAY()+365),1,\"X\")))","v":{"$error":"#REF!"}},{"$f":"IF(#REF!=\"\",\"\",\"X\")","v":{"$error":"#REF!"}}]
[null,null,null,null,null,null,null,null,null,null,null,null,null,null,{"$f":"IF(#REF!=\"\",\"\",IF(#REF!<TODAY(),0,IF(#REF!<(TODAY()+365),1,\"X\")))","v":{"$error":"#REF!"}},{"$f":"IF(#REF!=\"\",\"\",\"X\")","v":{"$error":"#REF!"}}]
[null,null,null,null,null,null,null,null,null,null,null,null,null,null,{"$f":"IF(#REF!=\"\",\"\",IF(#REF!<TODAY(),0,IF(#REF!<(TODAY()+365),1,\"X\")))","v":{"$error":"#REF!"}},{"$f":"IF(#REF!=\"\",\"\",\"X\")","v":{"$error":"#REF!"}}]
[null,null,null,null,null,null,null,null,null,null,null,null,null,null,{"$f":"IF(#REF!=\"\",\"\",IF(#REF!<TODAY(),0,IF(#REF!<(TODAY()+365),1,\"X\")))","v":{"$error":"#REF!"}},{"$f":"IF(#REF!=\"\",\"\",\"X\")","v":{"$error":"#REF!"}}]
[null,null,null,null,null,null,null,null,null,null,null,null,null,null,{"$f":"IF(#REF!=\"\",\"\",IF(#REF!<TODAY(),0,IF(#REF!<(TODAY()+365),1,\"X\")))","v":{"$error":"#REF!"}},{"$f":"IF(#REF!=\"\",\"\",\"X\")","v":{"$error":"#REF!"}}]
[null,null,null,null,null,null,null,null,null,null,null,null,null,null,{"$f":"IF(#REF!=\"\",\"\",IF(#REF!<TODAY(),0,IF(#REF!<(TODAY()+365),1,\"X\")))","v":{"$error":"#REF!"}},{"$f":"IF(#REF!=\"\",\"\",\"X\")","v":{"$error":"#REF!"}}]
[null,null,null,null,null,null,null,null,null,null,null,null,null,null,{"$f":"IF(#REF!=\"\",\"\",IF(#REF!<TODAY(),0,IF(#REF!<(TODAY()+365),1,\"X\")))","v":{"$error":"#REF!"}},{"$f":"IF(#REF!=\"\",\"\",\"X\")","v":{"$error":"#REF!"}}]
[null,null,null,null,null,null,null,null,null,null,null,null,null,null,{"$f":"IF(#REF!=\"\",\"\",IF(#REF!<TODAY(),0,IF(#REF!<(TODAY()+365),1,\"X\")))","v":{"$error":"#REF!"}},{"$f":"IF(#REF!=\"\",\"\",\"X\")","v":{"$error":"#REF!"}}]
[null,null,null,null,null,null,null,null,null,null,null,null,null,null,{"$f":"IF(#REF!=\"\",\"\",IF(#REF!<TODAY(),0,IF(#REF!<(TODAY()+365),1,\"X\")))","v":{"$error":"#REF!"}},{"$f":"IF(#REF!=\"\",\"\",\"X\")","v":{"$error":"#REF!"}}]
[null,null,null,null,null,null,null,null,null,null,null,null,null,null,{"$f":"IF(#REF!=\"\",\"\",IF(#REF!<TODAY(),0,IF(#REF!<(TODAY()+365),1,\"X\")))","v":{"$error":"#REF!"}},{"$f":"IF(#REF!=\"\",\"\",\"X\")","v":{"$error":"#REF!"}}]
[null,null,null,null,null,null,null,null,null,null,null,null,null,null,{"$f":"IF(#REF!=\"\",\"\",IF(#REF!<TODAY(),0,IF(#REF!<(TODAY()+365),1,\"X\")))","v":{"$error":"#REF!"}},{"$f":"IF(#REF!=\"\",\"\",\"X\")","v":{"$error":"#REF!"}}]
[null,null,null,null,null,null,null,null,null,null,null,null,null,null,{"$f":"IF(#REF!=\"\",\"\",IF(#REF!<TODAY(),0,IF(#REF!<(TODAY()+365),1,\"X\")))","v":{"$error":"#REF!"}},{"$f":"IF(#REF!=\"\",\"\",\"X\")","v":{"$error":"#REF!"}}]
[null,null,null,null,null,null,null,null,null,null,null,null,null,null,{"$f":"IF(#REF!=\"\",\"\",IF(#REF!<TODAY(),0,IF(#REF!<(TODAY()+365),1,\"X\")))","v":{"$error":"#REF!"}},{"$f":"IF(#REF!=\"\",\"\",\"X\")","v":{"$error":"#REF!"}}]
[null,null,null,null,null,null,null,null,null,null,null,null,null,null,{"$f":"IF(#REF!=\"\",\"\",IF(#REF!<TODAY(),0,IF(#REF!<(TODAY()+365),1,\"X\")))","v":{"$error":"#REF!"}},{"$f":"IF(#REF!=\"\",\"\",\"X\")","v":{"$error":"#REF!"}}]
[null,null,null,null,null,null,null,null,null,null,null,null,null,null,{"$f":"IF(#REF!=\"\",\"\",IF(#REF!<TODAY(),0,IF(#REF!<(TODAY()+365),1,\"X\")))","v":{"$error":"#REF!"}},{"$f":"IF(#REF!=\"\",\"\",\"X\")","v":{"$error":"#REF!"}}]
[null,null,null,null,null,null,null,null,null,null,null,null,null,null,{"$f":"IF(#REF!=\"\",\"\",IF(#REF!<TODAY(),0,IF(#REF!<(TODAY()+365),1,\"X\")))","v":{"$error":"#REF!"}},{"$f":"IF(#REF!=\"\",\"\",\"X\")","v":{"$error":"#REF!"}}]
[null,null,null,null,null,null,null,null,null,null,null,null,null,null,{"$f":"IF(#REF!=\"\",\"\",IF(#REF!<TODAY(),0,IF(#REF!<(TODAY()+365),1,\"X\")))","v":{"$error":"#REF!"}},{"$f":"IF(#REF!=\"\",\"\",\"X\")","v":{"$error":"#REF!"}}]
[null,null,null,null,null,null,null,null,null,null,null,null,null,null,{"$f":"IF(#REF!=\"\",\"\",IF(#REF!<TODAY(),0,IF(#REF!<(TODAY()+365),1,\"X\")))","v":{"$error":"#REF!"}},{"$f":"IF(#REF!=\"\",\"\",\"X\")","v":{"$error":"#REF!"}}]
[null,null,null,null,null,null,null,null,null,null,null,null,null,null,{"$f":"IF(#REF!=\"\",\"\",IF(#REF!<TODAY(),0,IF(#REF!<(TODAY()+365),1,\"X\")))","v":{"$error":"#REF!"}},{"$f":"IF(#REF!=\"\",\"\",\"X\")","v":{"$error":"#REF!"}}]
[null,null,null,null,null,null,null,null,null,null,null,null,null,null,{"$f":"IF(#REF!=\"\",\"\",IF(#REF!<TODAY(),0,IF(#REF!<(TODAY()+365),1,\"X\")))","v":{"$error":"#REF!"}},{"$f":"IF(#REF!=\"\",\"\",\"X\")","v":{"$error":"#REF!"}}]
[null,null,null,null,null,null,null,null,null,null,null,null,null,null,{"$f":"IF(#REF!=\"\",\"\",IF(#REF!<TODAY(),0,IF(#REF!<(TODAY()+365),1,\"X\")))","v":{"$error":"#REF!"}},{"$f":"IF(#REF!=\"\",\"\",\"X\")","v":{"$error":"#REF!"}}]
[null,null,null,null,null,null,null,null,null,null,null,null,null,null,{"$f":"IF(#REF!=\"\",\"\",IF(#REF!<TODAY(),0,IF(#REF!<(TODAY()+365),1,\"X\")))","v":{"$error":"#REF!"}},{"$f":"IF(#REF!=\"\",\"\",\"X\")","v":{"$error":"#REF!"}}]
[null,null,null,null,null,null,null,null,null,null,null,null,null,null,{"$f":"IF(#REF!=\"\",\"\",IF(#REF!<TODAY(),0,IF(#REF!<(TODAY()+365),1,\"X\")))","v":{"$error":"#REF!"}},{"$f":"IF(#REF!=\"\",\"\",\"X\")","v":{"$error":"#REF!"}}]
[null,null,null,null,null,null,null,null,null,null,null,null,null,null,{"$f":"IF(#REF!=\"\",\"\",IF(#REF!<TODAY(),0,IF(#REF!<(TODAY()+365),1,\"X\")))","v":{"$error":"#REF!"}},{"$f":"IF(#REF!=\"\",\"\",\"X\")","v":{"$error":"#REF!"}}]
[null,null,null,null,null,null,null,null,null,null,null,null,null,null,{"$f":"IF(#REF!=\"\",\"\",IF(#REF!<TODAY(),0,IF(#REF!<(TODAY()+365),1,\"X\")))","v":{"$error":"#REF!"}},{"$f":"IF(#REF!=\"\",\"\",\"X\")","v":{"$error":"#REF!"}}]
[null,null,null,null,null,null,null,null,null,null,null,null,null,null,{"$f":"IF(#REF!=\"\",\"\",IF(#REF!<TODAY(),0,IF(#REF!<(TODAY()+365),1,\"X\")))","v":{"$error":"#REF!"}},{"$f":"IF(#REF!=\"\",\"\",\"X\")","v":{"$error":"#REF!"}}]
[null,null,null,null,null,null,null,null,null,null,null,null,null,null,{"$f":"IF(#REF!=\"\",\"\",IF(#REF!<TODAY(),0,IF(#REF!<(TODAY()+365),1,\"X\")))","v":{"$error":"#REF!"}},{"$f":"IF(#REF!=\"\",\"\",\"X\")","v":{"$error":"#REF!"}}]
[null,null,null,null,null,null,null,null,null,null,null,null,null,null,{"$f":"IF(#REF!=\"\",\"\",IF(#REF!<TODAY(),0,IF(#REF!<(TODAY()+365),1,\"X\")))","v":{"$error":"#REF!"}},{"$f":"IF(#REF!=\"\",\"\",\"X\")","v":{"$error":"#REF!"}}]
[null,null,null,null,null,null,null,null,null,null,null,null,null,null,{"$f":"IF(#REF!=\"\",\"\",IF(#REF!<TODAY(),0,IF(#REF!<(TODAY()+365),1,\"X\")))","v":{"$error":"#REF!"}},{"$f":"IF(#REF!=\"\",\"\",\"X\")","v":{"$error":"#REF!"}}]
[null,null,null,null,null,null,null,null,null,null,null,null,null,null,{"$f":"IF(#REF!=\"\",\"\",IF(#REF!<TODAY(),0,IF(#REF!<(TODAY()+365),1,\"X\")))","v":{"$error":"#REF!"}},{"$f":"IF(#REF!=\"\",\"\",\"X\")","v":{"$error":"#REF!"}}]
[null,null,null,null,null,null,null,null,null,null,null,null,null,null,{"$f":"IF(#REF!=\"\",\"\",IF(#REF!<TODAY(),0,IF(#REF!<(TODAY()+365),1,\"X\")))","v":{"$error":"#REF!"}},{"$f":"IF(#REF!=\"\",\"\",\"X\")","v":{"$error":"#REF!"}}]
[null,null,null,null,null,null,null,null,null,null,null,null,null,null,{"$f":"IF(#REF!=\"\",\"\",IF(#REF!<TODAY(),0,IF(#REF!<(TODAY()+365),1,\"X\")))","v":{"$error":"#REF!"}},{"$f":"IF(#REF!=\"\",\"\",\"X\")","v":{"$error":"#REF!"}}]
[null,null,null,null,null,null,null,null,null,null,null,null,null,null,{"$f":"IF(#REF!=\"\",\"\",IF(#REF!<TODAY(),0,IF(#REF!<(TODAY()+365),1,\"X\")))","v":{"$error":"#REF!"}},{"$f":"IF(#REF!=\"\",\"\",\"X\")","v":{"$error":"#REF!"}}]
[null,null,null,null,null,null,null,null,null,null,null,null,null,null,{"$f":"IF(#REF!=\"\",\"\",IF(#REF!<TODAY(),0,IF(#REF!<(TODAY()+365),1,\"X\")))","v":{"$error":"#REF!"}},{"$f":"IF(#REF!=\"\",\"\",\"X\")","v":{"$error":"#REF!"}}]
[null,null,null,null,null,null,null,null,null,null,null,null,null,null,{"$f":"IF(#REF!=\"\",\"\",IF(#REF!<TODAY(),0,IF(#REF!<(TODAY()+365),1,\"X\")))","v":{"$error":"#REF!"}},{"$f":"IF(#REF!=\"\",\"\",\"X\")","v":{"$error":"#REF!"}}]
[null,null,null,null,null,null,null,null,null,null,null,null,null,null,{"$f":"IF(#REF!=\"\",\"\",IF(#REF!<TODAY(),0,IF(#REF!<(TODAY()+365),1,\"X\")))","v":{"$error":"#REF!"}},{"$f":"IF(#REF!=\"\",\"\",\"X\")","v":{"$error":"#REF!"}}]
[null,null,null,null,null,null,null,null,null,null,null,null,null,null,{"$f":"IF(#REF!=\"\",\"\",IF(#REF!<TODAY(),0,IF(#REF!<(TODAY()+365),1,\"X\")))","v":{"$error":"#REF!"}},{"$f":"IF(#REF!=\"\",\"\",\"X\")","v":{"$error":"#REF!"}}]
[null,null,null,null,null,null,null,null,null,null,null,null,null,null,{"$f":"IF(#REF!=\"\",\"\",IF(#REF!<TODAY(),0,IF(#REF!<(TODAY()+365),1,\"X\")))","v":{"$error":"#REF!"}},{"$f":"IF(#REF!=\"\",\"\",\"X\")","v":{"$error":"#REF!"}}]
[null,null,null,null,null,null,null,null,null,null,null,null,null,null,{"$f":"IF(#REF!=\"\",\"\",IF(#REF!<TODAY(),0,IF(#REF!<(TODAY()+365),1,\"X\")))","v":{"$error":"#REF!"}},{"$f":"IF(#REF!=\"\",\"\",\"X\")","v":{"$error":"#REF!"}}]
[null,null,null,null,null,null,null,null,null,null,null,null,null,null,{"$f":"IF(#REF!=\"\",\"\",IF(#REF!<TODAY(),0,IF(#REF!<(TODAY()+365),1,\"X\")))","v":{"$error":"#REF!"}},{"$f":"IF(#REF!=\"\",\"\",\"X\")","v":{"$error":"#REF!"}}]
[null,null,null,null,null,null,null,null,null,null,null,null,null,null,{"$f":"IF(#REF!=\"\",\"\",IF(#REF!<TODAY(),0,IF(#REF!<(TODAY()+365),1,\"X\")))","v":{"$error":"#REF!"}},{"$f":"IF(#REF!=\"\",\"\",\"X\")","v":{"$error":"#REF!"}}]
[null,null,null,null,null,null,null,null,null,null,null,null,null,null,{"$f":"IF(#REF!=\"\",\"\",IF(#REF!<TODAY(),0,IF(#REF!<(TODAY()+365),1,\"X\")))","v":{"$error":"#REF!"}},{"$f":"IF(#REF!=\"\",\"\",\"X\")","v":{"$error":"#REF!"}}]
[null,null,null,null,null,null,null,null,null,null,null,null,null,null,{"$f":"IF(#REF!=\"\",\"\",IF(#REF!<TODAY(),0,IF(#REF!<(TODAY()+365),1,\"X\")))","v":{"$error":"#REF!"}},{"$f":"IF(#REF!=\"\",\"\",\"X\")","v":{"$error":"#REF!"}}]
[null,null,null,null,null,null,null,null,null,null,null,null,null,null,{"$f":"IF(#REF!=\"\",\"\",IF(#REF!<TODAY(),0,IF(#REF!<(TODAY()+365),1,\"X\")))","v":{"$error":"#REF!"}},{"$f":"IF(#REF!=\"\",\"\",\"X\")","v":{"$error":"#REF!"}}]
[null,null,null,null,null,null,null,null,null,null,null,null,null,null,{"$f":"IF(#REF!=\"\",\"\",IF(#REF!<TODAY(),0,IF(#REF!<(TODAY()+365),1,\"X\")))","v":{"$error":"#REF!"}},{"$f":"IF(#REF!=\"\",\"\",\"X\")","v":{"$error":"#REF!"}}]
[null,null,null,null,null,null,null,null,null,null,null,null,null,null,{"$f":"IF(#REF!=\"\",\"\",IF(#REF!<TODAY(),0,IF(#REF!<(TODAY()+365),1,\"X\")))","v":{"$error":"#REF!"}},{"$f":"IF(#REF!=\"\",\"\",\"X\")","v":{"$error":"#REF!"}}]
[null,null,null,null,null,null,null,null,null,null,null,null,null,null,{"$f":"IF(#REF!=\"\",\"\",IF(#REF!<TODAY(),0,IF(#REF!<(TODAY()+365),1,\"X\")))","v":{"$error":"#REF!"}},{"$f":"IF(#REF!=\"\",\"\",\"X\")","v":{"$error":"#REF!"}}]
[null,null,null,null,null,null,null,null,null,null,null,null,null,null,{"$f":"IF(#REF!=\"\",\"\",IF(#REF!<TODAY(),0,IF(#REF!<(TODAY()+365),1,\"X\")))","v":{"$error":"#REF!"}},{"$f":"IF(#REF!=\"\",\"\",\"X\")","v":{"$error":"#REF!"}}]
[null,null,null,null,null,null,null,null,null,null,null,null,null,null,{"$f":"IF(#REF!=\"\",\"\",IF(#REF!<TODAY(),0,IF(#REF!<(TODAY()+365),1,\"X\")))","v":{"$error":"#REF!"}},{"$f":"IF(#REF!=\"\",\"\",\"X\")","v":{"$error":"#REF!"}}]
[null,null,null,null,null,null,null,null,null,null,null,null,null,null,{"$f":"IF(#REF!=\"\",\"\",IF(#REF!<TODAY(),0,IF(#REF!<(TODAY()+365),1,\"X\")))","v":{"$error":"#REF!"}},{"$f":"IF(#REF!=\"\",\"\",\"X\")","v":{"$error":"#REF!"}}]
[null,null,null,null,null,null,null,null,null,null,null,null,null,null,{"$f":"IF(#REF!=\"\",\"\",IF(#REF!<TODAY(),0,IF(#REF!<(TODAY()+365),1,\"X\")))","v":{"$error":"#REF!"}},{"$f":"IF(#REF!=\"\",\"\",\"X\")","v":{"$error":"#REF!"}}]
[null,null,null,null,null,null,null,null,null,null,null,null,null,null,{"$f":"IF(#REF!=\"\",\"\",IF(#REF!<TODAY(),0,IF(#REF!<(TODAY()+365),1,\"X\")))","v":{"$error":"#REF!"}},{"$f":"IF(#REF!=\"\",\"\",\"X\")","v":{"$error":"#REF!"}}]
[null,null,null,null,null,null,null,null,null,null,null,null,null,null,{"$f":"IF(#REF!=\"\",\"\",IF(#REF!<TODAY(),0,IF(#REF!<(TODAY()+365),1,\"X\")))","v":{"$error":"#REF!"}},{"$f":"IF(#REF!=\"\",\"\",\"X\")","v":{"$error":"#REF!"}}]
[null,null,null,null,null,null,null,null,null,null,null,null,null,null,{"$f":"IF(#REF!=\"\",\"\",IF(#REF!<TODAY(),0,IF(#REF!<(TODAY()+365),1,\"X\")))","v":{"$error":"#REF!"}},{"$f":"IF(#REF!=\"\",\"\",\"X\")","v":{"$error":"#REF!"}}]
[null,null,null,null,null,null,null,null,null,null,null,null,null,null,{"$f":"IF(#REF!=\"\",\"\",IF(#REF!<TODAY(),0,IF(#REF!<(TODAY()+365),1,\"X\")))","v":{"$error":"#REF!"}},{"$f":"IF(#REF!=\"\",\"\",\"X\")","v":{"$error":"#REF!"}}]
[null,null,null,null,null,null,null,null,null,null,null,null,null,null,{"$f":"IF(#REF!=\"\",\"\",IF(#REF!<TODAY(),0,IF(#REF!<(TODAY()+365),1,\"X\")))","v":{"$error":"#REF!"}},{"$f":"IF(#REF!=\"\",\"\",\"X\")","v":{"$error":"#REF!"}}]
[null,null,null,null,null,null,null,null,null,null,null,null,null,null,{"$f":"IF(#REF!=\"\",\"\",IF(#REF!<TODAY(),0,IF(#REF!<(TODAY()+365),1,\"X\")))","v":{"$error":"#REF!"}},{"$f":"IF(#REF!=\"\",\"\",\"X\")","v":{"$error":"#REF!"}}]
[null,null,null,null,null,null,null,null,null,null,null,null,null,null,{"$f":"IF(#REF!=\"\",\"\",IF(#REF!<TODAY(),0,IF(#REF!<(TODAY()+365),1,\"X\")))","v":{"$error":"#REF!"}},{"$f":"IF(#REF!=\"\",\"\",\"X\")","v":{"$error":"#REF!"}}]
[null,null,null,null,null,null,null,null,null,null,null,null,null,null,{"$f":"IF(#REF!=\"\",\"\",IF(#REF!<TODAY(),0,IF(#REF!<(TODAY()+365),1,\"X\")))","v":{"$error":"#REF!"}},{"$f":"IF(#REF!=\"\",\"\",\"X\")","v":{"$error":"#REF!"}}]
[null,null,null,null,null,null,null,null,null,null,null,null,null,null,{"$f":"IF(#REF!=\"\",\"\",IF(#REF!<TODAY(),0,IF(#REF!<(TODAY()+365),1,\"X\")))","v":{"$error":"#REF!"}},{"$f":"IF(#REF!=\"\",\"\",\"X\")","v":{"$error":"#REF!"}}]
[null,null,null,null,null,null,null,null,null,null,null,null,null,null,{"$f":"IF(#REF!=\"\",\"\",IF(#REF!<TODAY(),0,IF(#REF!<(TODAY()+365),1,\"X\")))","v":{"$error":"#REF!"}},{"$f":"IF(#REF!=\"\",\"\",\"X\")","v":{"$error":"#REF!"}}]
[null,null,null,null,null,null,null,null,null,null,null,null,null,null,{"$f":"IF(#REF!=\"\",\"\",IF(#REF!<TODAY(),0,IF(#REF!<(TODAY()+365),1,\"X\")))","v":{"$error":"#REF!"}},{"$f":"IF(#REF!=\"\",\"\",\"X\")","v":{"$error":"#REF!"}}]
[null,null,null,null,null,null,null,null,null,null,null,null,null,null,{"$f":"IF(#REF!=\"\",\"\",IF(#REF!<TODAY(),0,IF(#REF!<(TODAY()+365),1,\"X\")))","v":{"$error":"#REF!"}},{"$f":"IF(#REF!=\"\",\"\",\"X\")","v":{"$error":"#REF!"}}]
[null,null,null,null,null,null,null,null,null,null,null,null,null,null,{"$f":"IF(#REF!=\"\",\"\",IF(#REF!<TODAY(),0,IF(#REF!<(TODAY()+365),1,\"X\")))","v":{"$error":"#REF!"}},{"$f":"IF(#REF!=\"\",\"\",\"X\")","v":{"$error":"#REF!"}}]
[null,null,null,null,null,null,null,null,null,null,null,null,null,null,{"$f":"IF(#REF!=\"\",\"\",IF(#REF!<TODAY(),0,IF(#REF!<(TODAY()+365),1,\"X\")))","v":{"$error":"#REF!"}},{"$f":"IF(#REF!=\"\",\"\",\"X\")","v":{"$error":"#REF!"}}]
[null,null,null,null,null,null,null,null,null,null,null,null,null,null,{"$f":"IF(#REF!=\"\",\"\",IF(#REF!<TODAY(),0,IF(#REF!<(TODAY()+365),1,\"X\")))","v":{"$error":"#REF!"}},{"$f":"IF(#REF!=\"\",\"\",\"X\")","v":{"$error":"#REF!"}}]
[null,null,null,null,null,null,null,null,null,null,null,null,null,null,{"$f":"IF(#REF!=\"\",\"\",IF(#REF!<TODAY(),0,IF(#REF!<(TODAY()+365),1,\"X\")))","v":{"$error":"#REF!"}},{"$f":"IF(#REF!=\"\",\"\",\"X\")","v":{"$error":"#REF!"}}]
[null,null,null,null,null,null,null,null,null,null,null,null,null,null,{"$f":"IF(#REF!=\"\",\"\",IF(#REF!<TODAY(),0,IF(#REF!<(TODAY()+365),1,\"X\")))","v":{"$error":"#REF!"}},{"$f":"IF(#REF!=\"\",\"\",\"X\")","v":{"$error":"#REF!"}}]
[null,null,null,null,null,null,null,null,null,null,null,null,null,null,{"$f":"IF(#REF!=\"\",\"\",IF(#REF!<TODAY(),0,IF(#REF!<(TODAY()+365),1,\"X\")))","v":{"$error":"#REF!"}},{"$f":"IF(#REF!=\"\",\"\",\"X\")","v":{"$error":"#REF!"}}]
[null,null,null,null,null,null,null,null,null,null,null,null,null,null,{"$f":"IF(#REF!=\"\",\"\",IF(#REF!<TODAY(),0,IF(#REF!<(TODAY()+365),1,\"X\")))","v":{"$error":"#REF!"}},{"$f":"IF(#REF!=\"\",\"\",\"X\")","v":{"$error":"#REF!"}}]
[null,null,null,null,null,null,null,null,null,null,null,null,null,null,{"$f":"IF(#REF!=\"\",\"\",IF(#REF!<TODAY(),0,IF(#REF!<(TODAY()+365),1,\"X\")))","v":{"$error":"#REF!"}},{"$f":"IF(#REF!=\"\",\"\",\"X\")","v":{"$error":"#REF!"}}]
[null,null,null,null,null,null,null,null,null,null,null,null,null,null,{"$f":"IF(#REF!=\"\",\"\",IF(#REF!<TODAY(),0,IF(#REF!<(TODAY()+365),1,\"X\")))","v":{"$error":"#REF!"}},{"$f":"IF(#REF!=\"\",\"\",\"X\")","v":{"$error":"#REF!"}}]
[null,null,null,null,null,null,null,null,null,null,null,null,null,null,{"$f":"IF(#REF!=\"\",\"\",IF(#REF!<TODAY(),0,IF(#REF!<(TODAY()+365),1,\"X\")))","v":{"$error":"#REF!"}},{"$f":"IF(#REF!=\"\",\"\",\"X\")","v":{"$error":"#REF!"}}]
[null,null,null,null,null,null,null,null,null,null,null,null,null,null,{"$f":"IF(#REF!=\"\",\"\",IF(#REF!<TODAY(),0,IF(#REF!<(TODAY()+365),1,\"X\")))","v":{"$error":"#REF!"}},{"$f":"IF(#REF!=\"\",\"\",\"X\")","v":{"$error":"#REF!"}}]
[null,null,null,null,null,null,null,null,null,null,null,null,null,null,{"$f":"IF(#REF!=\"\",\"\",IF(#REF!<TODAY(),0,IF(#REF!<(TODAY()+365),1,\"X\")))","v":{"$error":"#REF!"}},{"$f":"IF(#REF!=\"\",\"\",\"X\")","v":{"$error":"#REF!"}}]
[null,null,null,null,null,null,null,null,null,null,null,null,null,null,{"$f":"IF(#REF!=\"\",\"\",IF(#REF!<TODAY(),0,IF(#REF!<(TODAY()+365),1,\"X\")))","v":{"$error":"#REF!"}},{"$f":"IF(#REF!=\"\",\"\",\"X\")","v":{"$error":"#REF!"}}]
[null,null,null,null,null,null,null,null,null,null,null,null,null,null,{"$f":"IF(#REF!=\"\",\"\",IF(#REF!<TODAY(),0,IF(#REF!<(TODAY()+365),1,\"X\")))","v":{"$error":"#REF!"}},{"$f":"IF(#REF!=\"\",\"\",\"X\")","v":{"$error":"#REF!"}}]
[null,null,null,null,null,null,null,null,null,null,null,null,null,null,{"$f":"IF(#REF!=\"\",\"\",IF(#REF!<TODAY(),0,IF(#REF!<(TODAY()+365),1,\"X\")))","v":{"$error":"#REF!"}},{"$f":"IF(#REF!=\"\",\"\",\"X\")","v":{"$error":"#REF!"}}]
[null,null,null,null,null,null,null,null,null,null,null,null,null,null,{"$f":"IF(#REF!=\"\",\"\",IF(#REF!<TODAY(),0,IF(#REF!<(TODAY()+365),1,\"X\")))","v":{"$error":"#REF!"}},{"$f":"IF(#REF!=\"\",\"\",\"X\")","v":{"$error":"#REF!"}}]
[null,null,null,null,null,null,null,null,null,null,null,null,null,null,{"$f":"IF(#REF!=\"\",\"\",IF(#REF!<TODAY(),0,IF(#REF!<(TODAY()+365),1,\"X\")))","v":{"$error":"#REF!"}},{"$f":"IF(#REF!=\"\",\"\",\"X\")","v":{"$error":"#REF!"}}]
[null,null,null,null,null,null,null,null,null,null,null,null,null,null,{"$f":"IF(#REF!=\"\",\"\",IF(#REF!<TODAY(),0,IF(#REF!<(TODAY()+365),1,\"X\")))","v":{"$error":"#REF!"}},{"$f":"IF(#REF!=\"\",\"\",\"X\")","v":{"$error":"#REF!"}}]
[null,null,null,null,null,null,null,null,null,null,null,null,null,null,{"$f":"IF(#REF!=\"\",\"\",IF(#REF!<TODAY(),0,IF(#REF!<(TODAY()+365),1,\"X\")))","v":{"$error":"#REF!"}},{"$f":"IF(#REF!=\"\",\"\",\"X\")","v":{"$error":"#REF!"}}]
[null,null,null,null,null,null,null,null,null,null,null,null,null,null,{"$f":"IF(#REF!=\"\",\"\",IF(#REF!<TODAY(),0,IF(#REF!<(TODAY()+365),1,\"X\")))","v":{"$error":"#REF!"}},{"$f":"IF(#REF!=\"\",\"\",\"X\")","v":{"$error":"#REF!"}}]
[null,null,null,null,null,null,null,null,null,null,null,null,null,null,{"$f":"IF(#REF!=\"\",\"\",IF(#REF!<TODAY(),0,IF(#REF!<(TODAY()+365),1,\"X\")))","v":{"$error":"#REF!"}},{"$f":"IF(#REF!=\"\",\"\",\"X\")","v":{"$error":"#REF!"}}]
[null,null,null,null,null,null,null,null,null,null,null,null,null,null,{"$f":"IF(#REF!=\"\",\"\",IF(#REF!<TODAY(),0,IF(#REF!<(TODAY()+365),1,\"X\")))","v":{"$error":"#REF!"}},{"$f":"IF(#REF!=\"\",\"\",\"X\")","v":{"$error":"#REF!"}}]
[null,null,null,null,null,null,null,null,null,null,null,null,null,null,{"$f":"IF(#REF!=\"\",\"\",IF(#REF!<TODAY(),0,IF(#REF!<(TODAY()+365),1,\"X\")))","v":{"$error":"#REF!"}},{"$f":"IF(#REF!=\"\",\"\",\"X\")","v":{"$error":"#REF!"}}]
[null,null,null,null,null,null,null,null,null,null,null,null,null,null,{"$f":"IF(#REF!=\"\",\"\",IF(#REF!<TODAY(),0,IF(#REF!<(TODAY()+365),1,\"X\")))","v":{"$error":"#REF!"}},{"$f":"IF(#REF!=\"\",\"\",\"X\")","v":{"$error":"#REF!"}}]
[null,null,null,null,null,null,null,null,null,null,null,null,null,null,{"$f":"IF(#REF!=\"\",\"\",IF(#REF!<TODAY(),0,IF(#REF!<(TODAY()+365),1,\"X\")))","v":{"$error":"#REF!"}},{"$f":"IF(#REF!=\"\",\"\",\"X\")","v":{"$error":"#REF!"}}]
[null,null,null,null,null,null,null,null,null,null,null,null,null,null,{"$f":"IF(#REF!=\"\",\"\",IF(#REF!<TODAY(),0,IF(#REF!<(TODAY()+365),1,\"X\")))","v":{"$error":"#REF!"}},{"$f":"IF(#REF!=\"\",\"\",\"X\")","v":{"$error":"#REF!"}}]
[null,null,null,null,null,null,null,null,null,null,null,null,null,null,{"$f":"IF(#REF!=\"\",\"\",IF(#REF!<TODAY(),0,IF(#REF!<(TODAY()+365),1,\"X\")))","v":{"$error":"#REF!"}},{"$f":"IF(#REF!=\"\",\"\",\"X\")","v":{"$error":"#REF!"}}]
[null,null,null,null,null,null,null,null,null,null,null,null,null,null,{"$f":"IF(#REF!=\"\",\"\",IF(#REF!<TODAY(),0,IF(#REF!<(TODAY()+365),1,\"X\")))","v":{"$error":"#REF!"}},{"$f":"IF(#REF!=\"\",\"\",\"X\")","v":{"$error":"#REF!"}}]
[null,null,null,null,null,null,null,null,null,null,null,null,null,null,{"$f":"IF(#REF!=\"\",\"\",IF(#REF!<TODAY(),0,IF(#REF!<(TODAY()+365),1,\"X\")))","v":{"$error":"#REF!"}},{"$f":"IF(#REF!=\"\",\"\",\"X\")","v":{"$error":"#REF!"}}]
[null,null,null,null,null,null,null,null,null,null,null,null,null,null,{"$f":"IF(#REF!=\"\",\"\",IF(#REF!<TODAY(),0,IF(#REF!<(TODAY()+365),1,\"X\")))","v":{"$error":"#REF!"}},{"$f":"IF(#REF!=\"\",\"\",\"X\")","v":{"$error":"#REF!"}}]
[null,null,null,null,null,null,null,null,null,null,null,null,null,null,{"$f":"IF(#REF!=\"\",\"\",IF(#REF!<TODAY(),0,IF(#REF!<(TODAY()+365),1,\"X\")))","v":{"$error":"#REF!"}},{"$f":"IF(#REF!=\"\",\"\",\"X\")","v":{"$error":"#REF!"}}]
[null,null,null,null,null,null,null,null,null,null,null,null,null,null,{"$f":"IF(#REF!=\"\",\"\",IF(#REF!<TODAY(),0,IF(#REF!<(TODAY()+365),1,\"X\")))","v":{"$error":"#REF!"}},{"$f":"IF(#REF!=\"\",\"\",\"X\")","v":{"$error":"#REF!"}}]
[null,null,null,null,null,null,null,null,null,null,null,null,null,null,{"$f":"IF(#REF!=\"\",\"\",IF(#REF!<TODAY(),0,IF(#REF!<(TODAY()+365),1,\"X\")))","v":{"$error":"#REF!"}},{"$f":"IF(#REF!=\"\",\"\",\"X\")","v":{"$error":"#REF!"}}]
[null,null,null,null,null,null,null,null,null,null,null,null,null,null,{"$f":"IF(#REF!=\"\",\"\",IF(#REF!<TODAY(),0,IF(#REF!<(TODAY()+365),1,\"X\")))","v":{"$error":"#REF!"}},{"$f":"IF(#REF!=\"\",\"\",\"X\")","v":{"$error":"#REF!"}}]
[null,null,null,null,null,null,null,null,null,null,null,null,null,null,{"$f":"IF(#REF!=\"\",\"\",IF(#REF!<TODAY(),0,IF(#REF!<(TODAY()+365),1,\"X\")))","v":{"$error":"#REF!"}},{"$f":"IF(#REF!=\"\",\"\",\"X\")","v":{"$error":"#REF!"}}]
[null,null,null,null,null,null,null,null,null,null,null,null,null,null,{"$f":"IF(#REF!=\"\",\"\",IF(#REF!<TODAY(),0,IF(#REF!<(TODAY()+365),1,\"X\")))","v":{"$error":"#REF!"}},{"$f":"IF(#REF!=\"\",\"\",\"X\")","v":{"$error":"#REF!"}}]
[null,null,null,null,null,null,null,null,null,null,null,null,null,null,{"$f":"IF(#REF!=\"\",\"\",IF(#REF!<TODAY(),0,IF(#REF!<(TODAY()+365),1,\"X\")))","v":{"$error":"#REF!"}},{"$f":"IF(#REF!=\"\",\"\",\"X\")","v":{"$error":"#REF!"}}]
[null,null,null,null,null,null,null,null,null,null,null,null,null,null,{"$f":"IF(#REF!=\"\",\"\",IF(#REF!<TODAY(),0,IF(#REF!<(TODAY()+365),1,\"X\")))","v":{"$error":"#REF!"}},{"$f":"IF(#REF!=\"\",\"\",\"X\")","v":{"$error":"#REF!"}}]
[null,null,null,null,null,null,null,null,null,null,null,null,null,null,{"$f":"IF(#REF!=\"\",\"\",IF(#REF!<TODAY(),0,IF(#REF!<(TODAY()+365),1,\"X\")))","v":{"$error":"#REF!"}},{"$f":"IF(#REF!=\"\",\"\",\"X\")","v":{"$error":"#REF!"}}]
[null,null,null,null,null,null,null,null,null,null,null,null,null,null,{"$f":"IF(#REF!=\"\",\"\",IF(#REF!<TODAY(),0,IF(#REF!<(TODAY()+365),1,\"X\")))","v":{"$error":"#REF!"}},{"$f":"IF(#REF!=\"\",\"\",\"X\")","v":{"$error":"#REF!"}}]
[null,null,null,null,null,null,null,null,null,null,null,null,null,null,{"$f":"IF(#REF!=\"\",\"\",IF(#REF!<TODAY(),0,IF(#REF!<(TODAY()+365),1,\"X\")))","v":{"$error":"#REF!"}},{"$f":"IF(#REF!=\"\",\"\",\"X\")","v":{"$error":"#REF!"}}]
[null,null,null,null,null,null,null,null,null,null,null,null,null,null,{"$f":"IF(#REF!=\"\",\"\",IF(#REF!<TODAY(),0,IF(#REF!<(TODAY()+365),1,\"X\")))","v":{"$error":"#REF!"}},{"$f":"IF(#REF!=\"\",\"\",\"X\")","v":{"$error":"#REF!"}}]
[null,null,null,null,null,null,null,null,null,null,null,null,null,null,{"$f":"IF(#REF!=\"\",\"\",IF(#REF!<TODAY(),0,IF(#REF!<(TODAY()+365),1,\"X\")))","v":{"$error":"#REF!"}},{"$f":"IF(#REF!=\"\",\"\",\"X\")","v":{"$error":"#REF!"}}]
[null,null,null,null,null,null,null,null,null,null,null,null,null,null,{"$f":"IF(#REF!=\"\",\"\",IF(#REF!<TODAY(),0,IF(#REF!<(TODAY()+365),1,\"X\")))","v":{"$error":"#REF!"}},{"$f":"IF(#REF!=\"\",\"\",\"X\")","v":{"$error":"#REF!"}}]
[null,null,null,null,null,null,null,null,null,null,null,null,null,null,{"$f":"IF(#REF!=\"\",\"\",IF(#REF!<TODAY(),0,IF(#REF!<(TODAY()+365),1,\"X\")))","v":{"$error":"#REF!"}},{"$f":"IF(#REF!=\"\",\"\",\"X\")","v":{"$error":"#REF!"}}]
[null,null,null,null,null,null,null,null,null,null,null,null,null,null,{"$f":"IF(#REF!=\"\",\"\",IF(#REF!<TODAY(),0,IF(#REF!<(TODAY()+365),1,\"X\")))","v":{"$error":"#REF!"}},{"$f":"IF(#REF!=\"\",\"\",\"X\")","v":{"$error":"#REF!"}}]
[null,null,null,null,null,null,null,null,null,null,null,null,null,null,{"$f":"IF(#REF!=\"\",\"\",IF(#REF!<TODAY(),0,IF(#REF!<(TODAY()+365),1,\"X\")))","v":{"$error":"#REF!"}},{"$f":"IF(#REF!=\"\",\"\",\"X\")","v":{"$error":"#REF!"}}]
[null,null,null,null,null,null,null,null,null,null,null,null,null,null,{"$f":"IF(#REF!=\"\",\"\",IF(#REF!<TODAY(),0,IF(#REF!<(TODAY()+365),1,\"X\")))","v":{"$error":"#REF!"}},{"$f":"IF(#REF!=\"\",\"\",\"X\")","v":{"$error":"#REF!"}}]
[null,null,null,null,null,null,null,null,null,null,null,null,null,null,{"$f":"IF(#REF!=\"\",\"\",IF(#REF!<TODAY(),0,IF(#REF!<(TODAY()+365),1,\"X\")))","v":{"$error":"#REF!"}},{"$f":"IF(#REF!=\"\",\"\",\"X\")","v":{"$error":"#REF!"}}]
[null,null,null,null,null,null,null,null,null,null,null,null,null,null,{"$f":"IF(#REF!=\"\",\"\",IF(#REF!<TODAY(),0,IF(#REF!<(TODAY()+365),1,\"X\")))","v":{"$error":"#REF!"}},{"$f":"IF(#REF!=\"\",\"\",\"X\")","v":{"$error":"#REF!"}}]
[null,null,null,null,null,null,null,null,null,null,null,null,null,null,{"$f":"IF(#REF!=\"\",\"\",IF(#REF!<TODAY(),0,IF(#REF!<(TODAY()+365),1,\"X\")))","v":{"$error":"#REF!"}},{"$f":"IF(#REF!=\"\",\"\",\"X\")","v":{"$error":"#REF!"}}]
[null,null,null,null,null,null,null,null,null,null,null,null,null,null,{"$f":"IF(#REF!=\"\",\"\",IF(#REF!<TODAY(),0,IF(#REF!<(TODAY()+365),1,\"X\")))","v":{"$error":"#REF!"}},{"$f":"IF(#REF!=\"\",\"\",\"X\")","v":{"$error":"#REF!"}}]
[null,null,null,null,null,null,null,null,null,null,null,null,null,null,{"$f":"IF(#REF!=\"\",\"\",IF(#REF!<TODAY(),0,IF(#REF!<(TODAY()+365),1,\"X\")))","v":{"$error":"#REF!"}},{"$f":"IF(#REF!=\"\",\"\",\"X\")","v":{"$error":"#REF!"}}]
[null,null,null,null,null,null,null,null,null,null,null,null,null,null,{"$f":"IF(#REF!=\"\",\"\",IF(#REF!<TODAY(),0,IF(#REF!<(TODAY()+365),1,\"X\")))","v":{"$error":"#REF!"}},{"$f":"IF(#REF!=\"\",\"\",\"X\")","v":{"$error":"#REF!"}}]
[null,null,null,null,null,null,null,null,null,null,null,null,null,null,{"$f":"IF(#REF!=\"\",\"\",IF(#REF!<TODAY(),0,IF(#REF!<(TODAY()+365),1,\"X\")))","v":{"$error":"#REF!"}},{"$f":"IF(#REF!=\"\",\"\",\"X\")","v":{"$error":"#REF!"}}]
[null,null,null,null,null,null,null,null,null,null,null,null,null,null,{"$f":"IF(#REF!=\"\",\"\",IF(#REF!<TODAY(),0,IF(#REF!<(TODAY()+365),1,\"X\")))","v":{"$error":"#REF!"}},{"$f":"IF(#REF!=\"\",\"\",\"X\")","v":{"$error":"#REF!"}}]
[null,null,null,null,null,null,null,null,null,null,null,null,null,null,{"$f":"IF(#REF!=\"\",\"\",IF(#REF!<TODAY(),0,IF(#REF!<(TODAY()+365),1,\"X\")))","v":{"$error":"#REF!"}},{"$f":"IF(#REF!=\"\",\"\",\"X\")","v":{"$error":"#REF!"}}]
[null,null,null,null,null,null,null,null,null,null,null,null,null,null,{"$f":"IF(#REF!=\"\",\"\",IF(#REF!<TODAY(),0,IF(#REF!<(TODAY()+365),1,\"X\")))","v":{"$error":"#REF!"}},{"$f":"IF(#REF!=\"\",\"\",\"X\")","v":{"$error":"#REF!"}}]
[null,null,null,null,null,null,null,null,null,null,null,null,null,null,{"$f":"IF(#REF!=\"\",\"\",IF(#REF!<TODAY(),0,IF(#REF!<(TODAY()+365),1,\"X\")))","v":{"$error":"#REF!"}},{"$f":"IF(#REF!=\"\",\"\",\"X\")","v":{"$error":"#REF!"}}]
[null,null,null,null,null,null,null,null,null,null,null,null,null,null,{"$f":"IF(#REF!=\"\",\"\",IF(#REF!<TODAY(),0,IF(#REF!<(TODAY()+365),1,\"X\")))","v":{"$error":"#REF!"}},{"$f":"IF(#REF!=\"\",\"\",\"X\")","v":{"$error":"#REF!"}}]
[null,null,null,null,null,null,null,null,null,null,null,null,null,null,{"$f":"IF(#REF!=\"\",\"\",IF(#REF!<TODAY(),0,IF(#REF!<(TODAY()+365),1,\"X\")))","v":{"$error":"#REF!"}},{"$f":"IF(#REF!=\"\",\"\",\"X\")","v":{"$error":"#REF!"}}]
[null,null,null,null,null,null,null,null,null,null,null,null,null,null,{"$f":"IF(#REF!=\"\",\"\",IF(#REF!<TODAY(),0,IF(#REF!<(TODAY()+365),1,\"X\")))","v":{"$error":"#REF!"}},{"$f":"IF(#REF!=\"\",\"\",\"X\")","v":{"$error":"#REF!"}}]
[null,null,null,null,null,null,null,null,null,null,null,null,null,null,{"$f":"IF(#REF!=\"\",\"\",IF(#REF!<TODAY(),0,IF(#REF!<(TODAY()+365),1,\"X\")))","v":{"$error":"#REF!"}},{"$f":"IF(#REF!=\"\",\"\",\"X\")","v":{"$error":"#REF!"}}]
[null,null,null,null,null,null,null,null,null,null,null,null,null,null,{"$f":"IF(#REF!=\"\",\"\",IF(#REF!<TODAY(),0,IF(#REF!<(TODAY()+365),1,\"X\")))","v":{"$error":"#REF!"}},{"$f":"IF(#REF!=\"\",\"\",\"X\")","v":{"$error":"#REF!"}}]
[null,null,null,null,null,null,null,null,null,null,null,null,null,null,{"$f":"IF(#REF!=\"\",\"\",IF(#REF!<TODAY(),0,IF(#REF!<(TODAY()+365),1,\"X\")))","v":{"$error":"#REF!"}},{"$f":"IF(#REF!=\"\",\"\",\"X\")","v":{"$error":"#REF!"}}]
[null,null,null,null,null,null,null,null,null,null,null,null,null,null,{"$f":"IF(#REF!=\"\",\"\",IF(#REF!<TODAY(),0,IF(#REF!<(TODAY()+365),1,\"X\")))","v":{"$error":"#REF!"}},{"$f":"IF(#REF!=\"\",\"\",\"X\")","v":{"$error":"#REF!"}}]
[null,null,null,null,null,null,null,null,null,null,null,null,null,null,{"$f":"IF(#REF!=\"\",\"\",IF(#REF!<TODAY(),0,IF(#REF!<(TODAY()+365),1,\"X\")))","v":{"$error":"#REF!"}},{"$f":"IF(#REF!=\"\",\"\",\"X\")","v":{"$error":"#REF!"}}]
[null,null,null,null,null,null,null,null,null,null,null,null,null,null,{"$f":"IF(#REF!=\"\",\"\",IF(#REF!<TODAY(),0,IF(#REF!<(TODAY()+365),1,\"X\")))","v":{"$error":"#REF!"}},{"$f":"IF(#REF!=\"\",\"\",\"X\")","v":{"$error":"#REF!"}}]
[null,null,null,null,null,null,null,null,null,null,null,null,null,null,{"$f":"IF(#REF!=\"\",\"\",IF(#REF!<TODAY(),0,IF(#REF!<(TODAY()+365),1,\"X\")))","v":{"$error":"#REF!"}},{"$f":"IF(#REF!=\"\",\"\",\"X\")","v":{"$error":"#REF!"}}]
[null,null,null,null,null,null,null,null,null,null,null,null,null,null,{"$f":"IF(#REF!=\"\",\"\",IF(#REF!<TODAY(),0,IF(#REF!<(TODAY()+365),1,\"X\")))","v":{"$error":"#REF!"}},{"$f":"IF(#REF!=\"\",\"\",\"X\")","v":{"$error":"#REF!"}}]
[null,null,null,null,null,null,null,null,null,null,null,null,null,null,{"$f":"IF(#REF!=\"\",\"\",IF(#REF!<TODAY(),0,IF(#REF!<(TODAY()+365),1,\"X\")))","v":{"$error":"#REF!"}},{"$f":"IF(#REF!=\"\",\"\",\"X\")","v":{"$error":"#REF!"}}]
[null,null,null,null,null,null,null,null,null,null,null,null,null,null,{"$f":"IF(#REF!=\"\",\"\",IF(#REF!<TODAY(),0,IF(#REF!<(TODAY()+365),1,\"X\")))","v":{"$error":"#REF!"}},{"$f":"IF(#REF!=\"\",\"\",\"X\")","v":{"$error":"#REF!"}}]
[null,null,null,null,null,null,null,null,null,null,null,null,null,null,{"$f":"IF(#REF!=\"\",\"\",IF(#REF!<TODAY(),0,IF(#REF!<(TODAY()+365),1,\"X\")))","v":{"$error":"#REF!"}},{"$f":"IF(#REF!=\"\",\"\",\"X\")","v":{"$error":"#REF!"}}]
[null,null,null,null,null,null,null,null,null,null,null,null,null,null,{"$f":"IF(#REF!=\"\",\"\",IF(#REF!<TODAY(),0,IF(#REF!<(TODAY()+365),1,\"X\")))","v":{"$error":"#REF!"}},{"$f":"IF(#REF!=\"\",\"\",\"X\")","v":{"$error":"#REF!"}}]
[null,null,null,null,null,null,null,null,null,null,null,null,null,null,{"$f":"IF(#REF!=\"\",\"\",IF(#REF!<TODAY(),0,IF(#REF!<(TODAY()+365),1,\"X\")))","v":{"$error":"#REF!"}},{"$f":"IF(#REF!=\"\",\"\",\"X\")","v":{"$error":"#REF!"}}]
[null,null,null,null,null,null,null,null,null,null,null,null,null,null,{"$f":"IF(#REF!=\"\",\"\",IF(#REF!<TODAY(),0,IF(#REF!<(TODAY()+365),1,\"X\")))","v":{"$error":"#REF!"}},{"$f":"IF(#REF!=\"\",\"\",\"X\")","v":{"$error":"#REF!"}}]
[null,null,null,null,null,null,null,null,null,null,null,null,null,null,{"$f":"IF(#REF!=\"\",\"\",IF(#REF!<TODAY(),0,IF(#REF!<(TODAY()+365),1,\"X\")))","v":{"$error":"#REF!"}},{"$f":"IF(#REF!=\"\",\"\",\"X\")","v":{"$error":"#REF!"}}]
[null,null,null,null,null,null,null,null,null,null,null,null,null,null,{"$f":"IF(#REF!=\"\",\"\",IF(#REF!<TODAY(),0,IF(#REF!<(TODAY()+365),1,\"X\")))","v":{"$error":"#REF!"}},{"$f":"IF(#REF!=\"\",\"\",\"X\")","v":{"$error":"#REF!"}}]
[null,null,null,null,null,null,null,null,null,null,null,null,null,null,{"$f":"IF(#REF!=\"\",\"\",IF(#REF!<TODAY(),0,IF(#REF!<(TODAY()+365),1,\"X\")))","v":{"$error":"#REF!"}},{"$f":"IF(#REF!=\"\",\"\",\"X\")","v":{"$error":"#REF!"}}]
[null,null,null,null,null,null,null,null,null,null,null,null,null,null,{"$f":"IF(#REF!=\"\",\"\",IF(#REF!<TODAY(),0,IF(#REF!<(TODAY()+365),1,\"X\")))","v":{"$error":"#REF!"}},{"$f":"IF(#REF!=\"\",\"\",\"X\")","v":{"$error":"#REF!"}}]
[null,null,null,null,null,null,null,null,null,null,null,null,null,null,{"$f":"IF(#REF!=\"\",\"\",IF(#REF!<TODAY(),0,IF(#REF!<(TODAY()+365),1,\"X\")))","v":{"$error":"#REF!"}},{"$f":"IF(#REF!=\"\",\"\",\"X\")","v":{"$error":"#REF!"}}]
[null,null,null,null,null,null,null,null,null,null,null,null,null,null,{"$f":"IF(#REF!=\"\",\"\",IF(#REF!<TODAY(),0,IF(#REF!<(TODAY()+365),1,\"X\")))","v":{"$error":"#REF!"}},{"$f":"IF(#REF!=\"\",\"\",\"X\")","v":{"$error":"#REF!"}}]
[null,null,null,null,null,null,null,null,null,null,null,null,null,null,{"$f":"IF(#REF!=\"\",\"\",IF(#REF!<TODAY(),0,IF(#REF!<(TODAY()+365),1,\"X\")))","v":{"$error":"#REF!"}},{"$f":"IF(#REF!=\"\",\"\",\"X\")","v":{"$error":"#REF!"}}]
[null,null,null,null,null,null,null,null,null,null,null,null,null,null,{"$f":"IF(#REF!=\"\",\"\",IF(#REF!<TODAY(),0,IF(#REF!<(TODAY()+365),1,\"X\")))","v":{"$error":"#REF!"}},{"$f":"IF(#REF!=\"\",\"\",\"X\")","v":{"$error":"#REF!"}}]
[null,null,null,null,null,null,null,null,null,null,null,null,null,null,{"$f":"IF(#REF!=\"\",\"\",IF(#REF!<TODAY(),0,IF(#REF!<(TODAY()+365),1,\"X\")))","v":{"$error":"#REF!"}},{"$f":"IF(#REF!=\"\",\"\",\"X\")","v":{"$error":"#REF!"}}]
[null,null,null,null,null,null,null,null,null,null,null,null,null,null,{"$f":"IF(#REF!=\"\",\"\",IF(#REF!<TODAY(),0,IF(#REF!<(TODAY()+365),1,\"X\")))","v":{"$error":"#REF!"}},{"$f":"IF(#REF!=\"\",\"\",\"X\")","v":{"$error":"#REF!"}}]
[null,null,null,null,null,null,null,null,null,null,null,null,null,null,{"$f":"IF(#REF!=\"\",\"\",IF(#REF!<TODAY(),0,IF(#REF!<(TODAY()+365),1,\"X\")))","v":{"$error":"#REF!"}},{"$f":"IF(#REF!=\"\",\"\",\"X\")","v":{"$error":"#REF!"}}]
[null,null,null,null,null,null,null,null,null,null,null,null,null,null,{"$f":"IF(#REF!=\"\",\"\",IF(#REF!<TODAY(),0,IF(#REF!<(TODAY()+365),1,\"X\")))","v":{"$error":"#REF!"}},{"$f":"IF(#REF!=\"\",\"\",\"X\")","v":{"$error":"#REF!"}}]
[null,null,null,null,null,null,null,null,null,null,null,null,null,null,{"$f":"IF(#REF!=\"\",\"\",IF(#REF!<TODAY(),0,IF(#REF!<(TODAY()+365),1,\"X\")))","v":{"$error":"#REF!"}},{"$f":"IF(#REF!=\"\",\"\",\"X\")","v":{"$error":"#REF!"}}]
[null,null,null,null,null,null,null,null,null,null,null,null,null,null,{"$f":"IF(#REF!=\"\",\"\",IF(#REF!<TODAY(),0,IF(#REF!<(TODAY()+365),1,\"X\")))","v":{"$error":"#REF!"}},{"$f":"IF(#REF!=\"\",\"\",\"X\")","v":{"$error":"#REF!"}}]
[null,null,null,null,null,null,null,null,null,null,null,null,null,null,{"$f":"IF(#REF!=\"\",\"\",IF(#REF!<TODAY(),0,IF(#REF!<(TODAY()+365),1,\"X\")))","v":{"$error":"#REF!"}},{"$f":"IF(#REF!=\"\",\"\",\"X\")","v":{"$error":"#REF!"}}]
[null,null,null,null,null,null,null,null,null,null,null,null,null,null,{"$f":"IF(#REF!=\"\",\"\",IF(#REF!<TODAY(),0,IF(#REF!<(TODAY()+365),1,\"X\")))","v":{"$error":"#REF!"}},{"$f":"IF(#REF!=\"\",\"\",\"X\")","v":{"$error":"#REF!"}}]
[null,null,null,null,null,null,null,null,null,null,null,null,null,null,{"$f":"IF(#REF!=\"\",\"\",IF(#REF!<TODAY(),0,IF(#REF!<(TODAY()+365),1,\"X\")))","v":{"$error":"#REF!"}},{"$f":"IF(#REF!=\"\",\"\",\"X\")","v":{"$error":"#REF!"}}]
[null,null,null,null,null,null,null,null,null,null,null,null,null,null,{"$f":"IF(#REF!=\"\",\"\",IF(#REF!<TODAY(),0,IF(#REF!<(TODAY()+365),1,\"X\")))","v":{"$error":"#REF!"}},{"$f":"IF(#REF!=\"\",\"\",\"X\")","v":{"$error":"#REF!"}}]
[null,null,null,null,null,null,null,null,null,null,null,null,null,null,{"$f":"IF(#REF!=\"\",\"\",IF(#REF!<TODAY(),0,IF(#REF!<(TODAY()+365),1,\"X\")))","v":{"$error":"#REF!"}},{"$f":"IF(#REF!=\"\",\"\",\"X\")","v":{"$error":"#REF!"}}]
[null,null,null,null,null,null,null,null,null,null,null,null,null,null,{"$f":"IF(#REF!=\"\",\"\",IF(#REF!<TODAY(),0,IF(#REF!<(TODAY()+365),1,\"X\")))","v":{"$error":"#REF!"}},{"$f":"IF(#REF!=\"\",\"\",\"X\")","v":{"$error":"#REF!"}}]
[null,null,null,null,null,null,null,null,null,null,null,null,null,null,{"$f":"IF(#REF!=\"\",\"\",IF(#REF!<TODAY(),0,IF(#REF!<(TODAY()+365),1,\"X\")))","v":{"$error":"#REF!"}},{"$f":"IF(#REF!=\"\",\"\",\"X\")","v":{"$error":"#REF!"}}]
[null,null,null,null,null,null,null,null,null,null,null,null,null,null,{"$f":"IF(#REF!=\"\",\"\",IF(#REF!<TODAY(),0,IF(#REF!<(TODAY()+365),1,\"X\")))","v":{"$error":"#REF!"}},{"$f":"IF(#REF!=\"\",\"\",\"X\")","v":{"$error":"#REF!"}}]
[null,null,null,null,null,null,null,null,null,null,null,null,null,null,{"$f":"IF(#REF!=\"\",\"\",IF(#REF!<TODAY(),0,IF(#REF!<(TODAY()+365),1,\"X\")))","v":{"$error":"#REF!"}},{"$f":"IF(#REF!=\"\",\"\",\"X\")","v":{"$error":"#REF!"}}]
[null,null,null,null,null,null,null,null,null,null,null,null,null,null,{"$f":"IF(#REF!=\"\",\"\",IF(#REF!<TODAY(),0,IF(#REF!<(TODAY()+365),1,\"X\")))","v":{"$error":"#REF!"}},{"$f":"IF(#REF!=\"\",\"\",\"X\")","v":{"$error":"#REF!"}}]
[null,null,null,null,null,null,null,null,null,null,null,null,null,null,{"$f":"IF(#REF!=\"\",\"\",IF(#REF!<TODAY(),0,IF(#REF!<(TODAY()+365),1,\"X\")))","v":{"$error":"#REF!"}},{"$f":"IF(#REF!=\"\",\"\",\"X\")","v":{"$error":"#REF!"}}]
[null,null,null,null,null,null,null,null,null,null,null,null,null,null,{"$f":"IF(#REF!=\"\",\"\",IF(#REF!<TODAY(),0,IF(#REF!<(TODAY()+365),1,\"X\")))","v":{"$error":"#REF!"}},{"$f":"IF(#REF!=\"\",\"\",\"X\")","v":{"$error":"#REF!"}}]
[null,null,null,null,null,null,null,null,null,null,null,null,null,null,{"$f":"IF(#REF!=\"\",\"\",IF(#REF!<TODAY(),0,IF(#REF!<(TODAY()+365),1,\"X\")))","v":{"$error":"#REF!"}},{"$f":"IF(#REF!=\"\",\"\",\"X\")","v":{"$error":"#REF!"}}]
[null,null,null,null,null,null,null,null,null,null,null,null,null,null,{"$f":"IF(#REF!=\"\",\"\",IF(#REF!<TODAY(),0,IF(#REF!<(TODAY()+365),1,\"X\")))","v":{"$error":"#REF!"}},{"$f":"IF(#REF!=\"\",\"\",\"X\")","v":{"$error":"#REF!"}}]
[null,null,null,null,null,null,null,null,null,null,null,null,null,null,{"$f":"IF(#REF!=\"\",\"\",IF(#REF!<TODAY(),0,IF(#REF!<(TODAY()+365),1,\"X\")))","v":{"$error":"#REF!"}},{"$f":"IF(#REF!=\"\",\"\",\"X\")","v":{"$error":"#REF!"}}]
[null,null,null,null,null,null,null,null,null,null,null,null,null,null,{"$f":"IF(#REF!=\"\",\"\",IF(#REF!<TODAY(),0,IF(#REF!<(TODAY()+365),1,\"X\")))","v":{"$error":"#REF!"}},{"$f":"IF(#REF!=\"\",\"\",\"X\")","v":{"$error":"#REF!"}}]
[null,null,null,null,null,null,null,null,null,null,null,null,null,null,{"$f":"IF(#REF!=\"\",\"\",IF(#REF!<TODAY(),0,IF(#REF!<(TODAY()+365),1,\"X\")))","v":{"$error":"#REF!"}},{"$f":"IF(#REF!=\"\",\"\",\"X\")","v":{"$error":"#REF!"}}]
[null,null,null,null,null,null,null,null,null,null,null,null,null,null,{"$f":"IF(#REF!=\"\",\"\",IF(#REF!<TODAY(),0,IF(#REF!<(TODAY()+365),1,\"X\")))","v":{"$error":"#REF!"}},{"$f":"IF(#REF!=\"\",\"\",\"X\")","v":{"$error":"#REF!"}}]
[null,null,null,null,null,null,null,null,null,null,null,null,null,null,{"$f":"IF(#REF!=\"\",\"\",IF(#REF!<TODAY(),0,IF(#REF!<(TODAY()+365),1,\"X\")))","v":{"$error":"#REF!"}},{"$f":"IF(#REF!=\"\",\"\",\"X\")","v":{"$error":"#REF!"}}]
[null,null,null,null,null,null,null,null,null,null,null,null,null,null,{"$f":"IF(#REF!=\"\",\"\",IF(#REF!<TODAY(),0,IF(#REF!<(TODAY()+365),1,\"X\")))","v":{"$error":"#REF!"}},{"$f":"IF(#REF!=\"\",\"\",\"X\")","v":{"$error":"#REF!"}}]
[null,null,null,null,null,null,null,null,null,null,null,null,null,null,{"$f":"IF(#REF!=\"\",\"\",IF(#REF!<TODAY(),0,IF(#REF!<(TODAY()+365),1,\"X\")))","v":{"$error":"#REF!"}},{"$f":"IF(#REF!=\"\",\"\",\"X\")","v":{"$error":"#REF!"}}]
[null,null,null,null,null,null,null,null,null,null,null,null,null,null,{"$f":"IF(#REF!=\"\",\"\",IF(#REF!<TODAY(),0,IF(#REF!<(TODAY()+365),1,\"X\")))","v":{"$error":"#REF!"}},{"$f":"IF(#REF!=\"\",\"\",\"X\")","v":{"$error":"#REF!"}}]
[null,null,null,null,null,null,null,null,null,null,null,null,null,null,{"$f":"IF(#REF!=\"\",\"\",IF(#REF!<TODAY(),0,IF(#REF!<(TODAY()+365),1,\"X\")))","v":{"$error":"#REF!"}},{"$f":"IF(#REF!=\"\",\"\",\"X\")","v":{"$error":"#REF!"}}]
[null,null,null,null,null,null,null,null,null,null,null,null,null,null,{"$f":"IF(#REF!=\"\",\"\",IF(#REF!<TODAY(),0,IF(#REF!<(TODAY()+365),1,\"X\")))","v":{"$error":"#REF!"}},{"$f":"IF(#REF!=\"\",\"\",\"X\")","v":{"$error":"#REF!"}}]
[null,null,null,null,null,null,null,null,null,null,null,null,null,null,{"$f":"IF(#REF!=\"\",\"\",IF(#REF!<TODAY(),0,IF(#REF!<(TODAY()+365),1,\"X\")))","v":{"$error":"#REF!"}},{"$f":"IF(#REF!=\"\",\"\",\"X\")","v":{"$error":"#REF!"}}]
[null,null,null,null,null,null,null,null,null,null,null,null,null,null,{"$f":"IF(#REF!=\"\",\"\",IF(#REF!<TODAY(),0,IF(#REF!<(TODAY()+365),1,\"X\")))","v":{"$error":"#REF!"}},{"$f":"IF(#REF!=\"\",\"\",\"X\")","v":{"$error":"#REF!"}}]
[null,null,null,null,null,null,null,null,null,null,null,null,null,null,{"$f":"IF(#REF!=\"\",\"\",IF(#REF!<TODAY(),0,IF(#REF!<(TODAY()+365),1,\"X\")))","v":{"$error":"#REF!"}},{"$f":"IF(#REF!=\"\",\"\",\"X\")","v":{"$error":"#REF!"}}]
[null,null,null,null,null,null,null,null,null,null,null,null,null,null,{"$f":"IF(#REF!=\"\",\"\",IF(#REF!<TODAY(),0,IF(#REF!<(TODAY()+365),1,\"X\")))","v":{"$error":"#REF!"}},{"$f":"IF(#REF!=\"\",\"\",\"X\")","v":{"$error":"#REF!"}}]
[null,null,null,null,null,null,null,null,null,null,null,null,null,null,{"$f":"IF(#REF!=\"\",\"\",IF(#REF!<TODAY(),0,IF(#REF!<(TODAY()+365),1,\"X\")))","v":{"$error":"#REF!"}},{"$f":"IF(#REF!=\"\",\"\",\"X\")","v":{"$error":"#REF!"}}]
[null,null,null,null,null,null,null,null,null,null,null,null,null,null,{"$f":"IF(#REF!=\"\",\"\",IF(#REF!<TODAY(),0,IF(#REF!<(TODAY()+365),1,\"X\")))","v":{"$error":"#REF!"}},{"$f":"IF(#REF!=\"\",\"\",\"X\")","v":{"$error":"#REF!"}}]
[null,null,null,null,null,null,null,null,null,null,null,null,null,null,{"$f":"IF(#REF!=\"\",\"\",IF(#REF!<TODAY(),0,IF(#REF!<(TODAY()+365),1,\"X\")))","v":{"$error":"#REF!"}},{"$f":"IF(#REF!=\"\",\"\",\"X\")","v":{"$error":"#REF!"}}]
[null,null,null,null,null,null,null,null,null,null,null,null,null,null,{"$f":"IF(#REF!=\"\",\"\",IF(#REF!<TODAY(),0,IF(#REF!<(TODAY()+365),1,\"X\")))","v":{"$error":"#REF!"}},{"$f":"IF(#REF!=\"\",\"\",\"X\")","v":{"$error":"#REF!"}}]
[null,null,null,null,null,null,null,null,null,null,null,null,null,null,{"$f":"IF(#REF!=\"\",\"\",IF(#REF!<TODAY(),0,IF(#REF!<(TODAY()+365),1,\"X\")))","v":{"$error":"#REF!"}},{"$f":"IF(#REF!=\"\",\"\",\"X\")","v":{"$error":"#REF!"}}]
[null,null,null,null,null,null,null,null,null,null,null,null,null,null,{"$f":"IF(#REF!=\"\",\"\",IF(#REF!<TODAY(),0,IF(#REF!<(TODAY()+365),1,\"X\")))","v":{"$error":"#REF!"}},{"$f":"IF(#REF!=\"\",\"\",\"X\")","v":{"$error":"#REF!"}}]
[null,null,null,null,null,null,null,null,null,null,null,null,null,null,{"$f":"IF(#REF!=\"\",\"\",IF(#REF!<TODAY(),0,IF(#REF!<(TODAY()+365),1,\"X\")))","v":{"$error":"#REF!"}},{"$f":"IF(#REF!=\"\",\"\",\"X\")","v":{"$error":"#REF!"}}]
[null,null,null,null,null,null,null,null,null,null,null,null,null,null,{"$f":"IF(#REF!=\"\",\"\",IF(#REF!<TODAY(),0,IF(#REF!<(TODAY()+365),1,\"X\")))","v":{"$error":"#REF!"}},{"$f":"IF(#REF!=\"\",\"\",\"X\")","v":{"$error":"#REF!"}}]
[null,null,null,null,null,null,null,null,null,null,null,null,null,null,{"$f":"IF(#REF!=\"\",\"\",IF(#REF!<TODAY(),0,IF(#REF!<(TODAY()+365),1,\"X\")))","v":{"$error":"#REF!"}},{"$f":"IF(#REF!=\"\",\"\",\"X\")","v":{"$error":"#REF!"}}]
[null,null,null,null,null,null,null,null,null,null,null,null,null,null,{"$f":"IF(#REF!=\"\",\"\",IF(#REF!<TODAY(),0,IF(#REF!<(TODAY()+365),1,\"X\")))","v":{"$error":"#REF!"}},{"$f":"IF(#REF!=\"\",\"\",\"X\")","v":{"$error":"#REF!"}}]
[null,null,null,null,null,null,null,null,null,null,null,null,null,null,{"$f":"IF(#REF!=\"\",\"\",IF(#REF!<TODAY(),0,IF(#REF!<(TODAY()+365),1,\"X\")))","v":{"$error":"#REF!"}},{"$f":"IF(#REF!=\"\",\"\",\"X\")","v":{"$error":"#REF!"}}]
[null,null,null,null,null,null,null,null,null,null,null,null,null,null,{"$f":"IF(#REF!=\"\",\"\",IF(#REF!<TODAY(),0,IF(#REF!<(TODAY()+365),1,\"X\")))","v":{"$error":"#REF!"}},{"$f":"IF(#REF!=\"\",\"\",\"X\")","v":{"$error":"#REF!"}}]
[null,null,null,null,null,null,null,null,null,null,null,null,null,null,{"$f":"IF(#REF!=\"\",\"\",IF(#REF!<TODAY(),0,IF(#REF!<(TODAY()+365),1,\"X\")))","v":{"$error":"#REF!"}},{"$f":"IF(#REF!=\"\",\"\",\"X\")","v":{"$error":"#REF!"}}]
[null,null,null,null,null,null,null,null,null,null,null,null,null,null,{"$f":"IF(#REF!=\"\",\"\",IF(#REF!<TODAY(),0,IF(#REF!<(TODAY()+365),1,\"X\")))","v":{"$error":"#REF!"}},{"$f":"IF(#REF!=\"\",\"\",\"X\")","v":{"$error":"#REF!"}}]
[null,null,null,null,null,null,null,null,null,null,null,null,null,null,{"$f":"IF(#REF!=\"\",\"\",IF(#REF!<TODAY(),0,IF(#REF!<(TODAY()+365),1,\"X\")))","v":{"$error":"#REF!"}},{"$f":"IF(#REF!=\"\",\"\",\"X\")","v":{"$error":"#REF!"}}]
[null,null,null,null,null,null,null,null,null,null,null,null,null,null,{"$f":"IF(#REF!=\"\",\"\",IF(#REF!<TODAY(),0,IF(#REF!<(TODAY()+365),1,\"X\")))","v":{"$error":"#REF!"}},{"$f":"IF(#REF!=\"\",\"\",\"X\")","v":{"$error":"#REF!"}}]
[null,null,null,null,null,null,null,null,null,null,null,null,null,null,{"$f":"IF(#REF!=\"\",\"\",IF(#REF!<TODAY(),0,IF(#REF!<(TODAY()+365),1,\"X\")))","v":{"$error":"#REF!"}},{"$f":"IF(#REF!=\"\",\"\",\"X\")","v":{"$error":"#REF!"}}]
[null,null,null,null,null,null,null,null,null,null,null,null,null,null,{"$f":"IF(#REF!=\"\",\"\",IF(#REF!<TODAY(),0,IF(#REF!<(TODAY()+365),1,\"X\")))","v":{"$error":"#REF!"}},{"$f":"IF(#REF!=\"\",\"\",\"X\")","v":{"$error":"#REF!"}}]
[null,null,null,null,null,null,null,null,null,null,null,null,null,null,{"$f":"IF(#REF!=\"\",\"\",IF(#REF!<TODAY(),0,IF(#REF!<(TODAY()+365),1,\"X\")))","v":{"$error":"#REF!"}},{"$f":"IF(#REF!=\"\",\"\",\"X\")","v":{"$error":"#REF!"}}]
[null,null,null,null,null,null,null,null,null,null,null,null,null,null,{"$f":"IF(#REF!=\"\",\"\",IF(#REF!<TODAY(),0,IF(#REF!<(TODAY()+365),1,\"X\")))","v":{"$error":"#REF!"}},{"$f":"IF(#REF!=\"\",\"\",\"X\")","v":{"$error":"#REF!"}}]
[null,null,null,null,null,null,null,null,null,null,null,null,null,null,{"$f":"IF(#REF!=\"\",\"\",IF(#REF!<TODAY(),0,IF(#REF!<(TODAY()+365),1,\"X\")))","v":{"$error":"#REF!"}},{"$f":"IF(#REF!=\"\",\"\",\"X\")","v":{"$error":"#REF!"}}]
[null,null,null,null,null,null,null,null,null,null,null,null,null,null,{"$f":"IF(#REF!=\"\",\"\",IF(#REF!<TODAY(),0,IF(#REF!<(TODAY()+365),1,\"X\")))","v":{"$error":"#REF!"}},{"$f":"IF(#REF!=\"\",\"\",\"X\")","v":{"$error":"#REF!"}}]
[null,null,null,null,null,null,null,null,null,null,null,null,null,null,{"$f":"IF(#REF!=\"\",\"\",IF(#REF!<TODAY(),0,IF(#REF!<(TODAY()+365),1,\"X\")))","v":{"$error":"#REF!"}},{"$f":"IF(#REF!=\"\",\"\",\"X\")","v":{"$error":"#REF!"}}]
[null,null,null,null,null,null,null,null,null,null,null,null,null,null,{"$f":"IF(#REF!=\"\",\"\",IF(#REF!<TODAY(),0,IF(#REF!<(TODAY()+365),1,\"X\")))","v":{"$error":"#REF!"}},{"$f":"IF(#REF!=\"\",\"\",\"X\")","v":{"$error":"#REF!"}}]
[null,null,null,null,null,null,null,null,null,null,null,null,null,null,{"$f":"IF(#REF!=\"\",\"\",IF(#REF!<TODAY(),0,IF(#REF!<(TODAY()+365),1,\"X\")))","v":{"$error":"#REF!"}},{"$f":"IF(#REF!=\"\",\"\",\"X\")","v":{"$error":"#REF!"}}]
[null,null,null,null,null,null,null,null,null,null,null,null,null,null,{"$f":"IF(#REF!=\"\",\"\",IF(#REF!<TODAY(),0,IF(#REF!<(TODAY()+365),1,\"X\")))","v":{"$error":"#REF!"}},{"$f":"IF(#REF!=\"\",\"\",\"X\")","v":{"$error":"#REF!"}}]
[null,null,null,null,null,null,null,null,null,null,null,null,null,null,{"$f":"IF(#REF!=\"\",\"\",IF(#REF!<TODAY(),0,IF(#REF!<(TODAY()+365),1,\"X\")))","v":{"$error":"#REF!"}},{"$f":"IF(#REF!=\"\",\"\",\"X\")","v":{"$error":"#REF!"}}]
[null,null,null,null,null,null,null,null,null,null,null,null,null,null,{"$f":"IF(#REF!=\"\",\"\",IF(#REF!<TODAY(),0,IF(#REF!<(TODAY()+365),1,\"X\")))","v":{"$error":"#REF!"}},{"$f":"IF(#REF!=\"\",\"\",\"X\")","v":{"$error":"#REF!"}}]
[null,null,null,null,null,null,null,null,null,null,null,null,null,null,{"$f":"IF(#REF!=\"\",\"\",IF(#REF!<TODAY(),0,IF(#REF!<(TODAY()+365),1,\"X\")))","v":{"$error":"#REF!"}},{"$f":"IF(#REF!=\"\",\"\",\"X\")","v":{"$error":"#REF!"}}]
[null,null,null,null,null,null,null,null,null,null,null,null,null,null,{"$f":"IF(#REF!=\"\",\"\",IF(#REF!<TODAY(),0,IF(#REF!<(TODAY()+365),1,\"X\")))","v":{"$error":"#REF!"}},{"$f":"IF(#REF!=\"\",\"\",\"X\")","v":{"$error":"#REF!"}}]
[null,null,null,null,null,null,null,null,null,null,null,null,null,null,{"$f":"IF(#REF!=\"\",\"\",IF(#REF!<TODAY(),0,IF(#REF!<(TODAY()+365),1,\"X\")))","v":{"$error":"#REF!"}},{"$f":"IF(#REF!=\"\",\"\",\"X\")","v":{"$error":"#REF!"}}]
[null,null,null,null,null,null,null,null,null,null,null,null,null,null,{"$f":"IF(#REF!=\"\",\"\",IF(#REF!<TODAY(),0,IF(#REF!<(TODAY()+365),1,\"X\")))","v":{"$error":"#REF!"}},{"$f":"IF(#REF!=\"\",\"\",\"X\")","v":{"$error":"#REF!"}}]
[null,null,null,null,null,null,null,null,null,null,null,null,null,null,{"$f":"IF(#REF!=\"\",\"\",IF(#REF!<TODAY(),0,IF(#REF!<(TODAY()+365),1,\"X\")))","v":{"$error":"#REF!"}},{"$f":"IF(#REF!=\"\",\"\",\"X\")","v":{"$error":"#REF!"}}]
[null,null,null,null,null,null,null,null,null,null,null,null,null,null,{"$f":"IF(#REF!=\"\",\"\",IF(#REF!<TODAY(),0,IF(#REF!<(TODAY()+365),1,\"X\")))","v":{"$error":"#REF!"}},{"$f":"IF(#REF!=\"\",\"\",\"X\")","v":{"$error":"#REF!"}}]
[null,null,null,null,null,null,null,null,null,null,null,null,null,null,{"$f":"IF(#REF!=\"\",\"\",IF(#REF!<TODAY(),0,IF(#REF!<(TODAY()+365),1,\"X\")))","v":{"$error":"#REF!"}},{"$f":"IF(#REF!=\"\",\"\",\"X\")","v":{"$error":"#REF!"}}]
[null,null,null,null,null,null,null,null,null,null,null,null,null,null,{"$f":"IF(#REF!=\"\",\"\",IF(#REF!<TODAY(),0,IF(#REF!<(TODAY()+365),1,\"X\")))","v":{"$error":"#REF!"}},{"$f":"IF(#REF!=\"\",\"\",\"X\")","v":{"$error":"#REF!"}}]
[null,null,null,null,null,null,null,null,null,null,null,null,null,null,{"$f":"IF(#REF!=\"\",\"\",IF(#REF!<TODAY(),0,IF(#REF!<(TODAY()+365),1,\"X\")))","v":{"$error":"#REF!"}},{"$f":"IF(#REF!=\"\",\"\",\"X\")","v":{"$error":"#REF!"}}]
[null,null,null,null,null,null,null,null,null,null,null,null,null,null,{"$f":"IF(#REF!=\"\",\"\",IF(#REF!<TODAY(),0,IF(#REF!<(TODAY()+365),1,\"X\")))","v":{"$error":"#REF!"}},{"$f":"IF(#REF!=\"\",\"\",\"X\")","v":{"$error":"#REF!"}}]
[null,null,null,null,null,null,null,null,null,null,null,null,null,null,{"$f":"IF(#REF!=\"\",\"\",IF(#REF!<TODAY(),0,IF(#REF!<(TODAY()+365),1,\"X\")))","v":{"$error":"#REF!"}},{"$f":"IF(#REF!=\"\",\"\",\"X\")","v":{"$error":"#REF!"}}]
[null,null,null,null,null,null,null,null,null,null,null,null,null,null,{"$f":"IF(#REF!=\"\",\"\",IF(#REF!<TODAY(),0,IF(#REF!<(TODAY()+365),1,\"X\")))","v":{"$error":"#REF!"}},{"$f":"IF(#REF!=\"\",\"\",\"X\")","v":{"$error":"#REF!"}}]
[null,null,null,null,null,null,null,null,null,null,null,null,null,null,{"$f":"IF(#REF!=\"\",\"\",IF(#REF!<TODAY(),0,IF(#REF!<(TODAY()+365),1,\"X\")))","v":{"$error":"#REF!"}},{"$f":"IF(#REF!=\"\",\"\",\"X\")","v":{"$error":"#REF!"}}]
[null,null,null,null,null,null,null,null,null,null,null,null,null,null,{"$f":"IF(#REF!=\"\",\"\",IF(#REF!<TODAY(),0,IF(#REF!<(TODAY()+365),1,\"X\")))","v":{"$error":"#REF!"}},{"$f":"IF(#REF!=\"\",\"\",\"X\")","v":{"$error":"#REF!"}}]
[null,null,null,null,null,null,null,null,null,null,null,null,null,null,{"$f":"IF(#REF!=\"\",\"\",IF(#REF!<TODAY(),0,IF(#REF!<(TODAY()+365),1,\"X\")))","v":{"$error":"#REF!"}},{"$f":"IF(#REF!=\"\",\"\",\"X\")","v":{"$error":"#REF!"}}]
[null,null,null,null,null,null,null,null,null,null,null,null,null,null,{"$f":"IF(#REF!=\"\",\"\",IF(#REF!<TODAY(),0,IF(#REF!<(TODAY()+365),1,\"X\")))","v":{"$error":"#REF!"}},{"$f":"IF(#REF!=\"\",\"\",\"X\")","v":{"$error":"#REF!"}}]
[null,null,null,null,null,null,null,null,null,null,null,null,null,null,{"$f":"IF(#REF!=\"\",\"\",IF(#REF!<TODAY(),0,IF(#REF!<(TODAY()+365),1,\"X\")))","v":{"$error":"#REF!"}},{"$f":"IF(#REF!=\"\",\"\",\"X\")","v":{"$error":"#REF!"}}]
[null,null,null,null,null,null,null,null,null,null,null,null,null,null,{"$f":"IF(#REF!=\"\",\"\",IF(#REF!<TODAY(),0,IF(#REF!<(TODAY()+365),1,\"X\")))","v":{"$error":"#REF!"}},{"$f":"IF(#REF!=\"\",\"\",\"X\")","v":{"$error":"#REF!"}}]
[null,null,null,null,null,null,null,null,null,null,null,null,null,null,{"$f":"IF(#REF!=\"\",\"\",IF(#REF!<TODAY(),0,IF(#REF!<(TODAY()+365),1,\"X\")))","v":{"$error":"#REF!"}},{"$f":"IF(#REF!=\"\",\"\",\"X\")","v":{"$error":"#REF!"}}]
[null,null,null,null,null,null,null,null,null,null,null,null,null,null,{"$f":"IF(#REF!=\"\",\"\",IF(#REF!<TODAY(),0,IF(#REF!<(TODAY()+365),1,\"X\")))","v":{"$error":"#REF!"}},{"$f":"IF(#REF!=\"\",\"\",\"X\")","v":{"$error":"#REF!"}}]
[null,null,null,null,null,null,null,null,null,null,null,null,null,null,{"$f":"IF(#REF!=\"\",\"\",IF(#REF!<TODAY(),0,IF(#REF!<(TODAY()+365),1,\"X\")))","v":{"$error":"#REF!"}},{"$f":"IF(#REF!=\"\",\"\",\"X\")","v":{"$error":"#REF!"}}]
[null,null,null,null,null,null,null,null,null,null,null,null,null,null,{"$f":"IF(#REF!=\"\",\"\",IF(#REF!<TODAY(),0,IF(#REF!<(TODAY()+365),1,\"X\")))","v":{"$error":"#REF!"}},{"$f":"IF(#REF!=\"\",\"\",\"X\")","v":{"$error":"#REF!"}}]
[null,null,null,null,null,null,null,null,null,null,null,null,null,null,{"$f":"IF(#REF!=\"\",\"\",IF(#REF!<TODAY(),0,IF(#REF!<(TODAY()+365),1,\"X\")))","v":{"$error":"#REF!"}},{"$f":"IF(#REF!=\"\",\"\",\"X\")","v":{"$error":"#REF!"}}]
[null,null,null,null,null,null,null,null,null,null,null,null,null,null,{"$f":"IF(#REF!=\"\",\"\",IF(#REF!<TODAY(),0,IF(#REF!<(TODAY()+365),1,\"X\")))","v":{"$error":"#REF!"}},{"$f":"IF(#REF!=\"\",\"\",\"X\")","v":{"$error":"#REF!"}}]
[null,null,null,null,null,null,null,null,null,null,null,null,null,null,{"$f":"IF(#REF!=\"\",\"\",IF(#REF!<TODAY(),0,IF(#REF!<(TODAY()+365),1,\"X\")))","v":{"$error":"#REF!"}},{"$f":"IF(#REF!=\"\",\"\",\"X\")","v":{"$error":"#REF!"}}]
[null,null,null,null,null,null,null,null,null,null,null,null,null,null,{"$f":"IF(#REF!=\"\",\"\",IF(#REF!<TODAY(),0,IF(#REF!<(TODAY()+365),1,\"X\")))","v":{"$error":"#REF!"}},{"$f":"IF(#REF!=\"\",\"\",\"X\")","v":{"$error":"#REF!"}}]
[null,null,null,null,null,null,null,null,null,null,null,null,null,null,{"$f":"IF(#REF!=\"\",\"\",IF(#REF!<TODAY(),0,IF(#REF!<(TODAY()+365),1,\"X\")))","v":{"$error":"#REF!"}},{"$f":"IF(#REF!=\"\",\"\",\"X\")","v":{"$error":"#REF!"}}]
[null,null,null,null,null,null,null,null,null,null,null,null,null,null,{"$f":"IF(#REF!=\"\",\"\",IF(#REF!<TODAY(),0,IF(#REF!<(TODAY()+365),1,\"X\")))","v":{"$error":"#REF!"}},{"$f":"IF(#REF!=\"\",\"\",\"X\")","v":{"$error":"#REF!"}}]
[null,null,null,null,null,null,null,null,null,null,null,null,null,null,{"$f":"IF(#REF!=\"\",\"\",IF(#REF!<TODAY(),0,IF(#REF!<(TODAY()+365),1,\"X\")))","v":{"$error":"#REF!"}},{"$f":"IF(#REF!=\"\",\"\",\"X\")","v":{"$error":"#REF!"}}]
[null,null,null,null,null,null,null,null,null,null,null,null,null,null,{"$f":"IF(#REF!=\"\",\"\",IF(#REF!<TODAY(),0,IF(#REF!<(TODAY()+365),1,\"X\")))","v":{"$error":"#REF!"}},{"$f":"IF(#REF!=\"\",\"\",\"X\")","v":{"$error":"#REF!"}}]
[null,null,null,null,null,null,null,null,null,null,null,null,null,null,{"$f":"IF(#REF!=\"\",\"\",IF(#REF!<TODAY(),0,IF(#REF!<(TODAY()+365),1,\"X\")))","v":{"$error":"#REF!"}},{"$f":"IF(#REF!=\"\",\"\",\"X\")","v":{"$error":"#REF!"}}]
[null,null,null,null,null,null,null,null,null,null,null,null,null,null,{"$f":"IF(#REF!=\"\",\"\",IF(#REF!<TODAY(),0,IF(#REF!<(TODAY()+365),1,\"X\")))","v":{"$error":"#REF!"}},{"$f":"IF(#REF!=\"\",\"\",\"X\")","v":{"$error":"#REF!"}}]
[null,null,null,null,null,null,null,null,null,null,null,null,null,null,{"$f":"IF(#REF!=\"\",\"\",IF(#REF!<TODAY(),0,IF(#REF!<(TODAY()+365),1,\"X\")))","v":{"$error":"#REF!"}},{"$f":"IF(#REF!=\"\",\"\",\"X\")","v":{"$error":"#REF!"}}]
[null,null,null,null,null,null,null,null,null,null,null,null,null,null,{"$f":"IF(#REF!=\"\",\"\",IF(#REF!<TODAY(),0,IF(#REF!<(TODAY()+365),1,\"X\")))","v":{"$error":"#REF!"}},{"$f":"IF(#REF!=\"\",\"\",\"X\")","v":{"$error":"#REF!"}}]
[null,null,null,null,null,null,null,null,null,null,null,null,null,null,{"$f":"IF(#REF!=\"\",\"\",IF(#REF!<TODAY(),0,IF(#REF!<(TODAY()+365),1,\"X\")))","v":{"$error":"#REF!"}},{"$f":"IF(#REF!=\"\",\"\",\"X\")","v":{"$error":"#REF!"}}]
[null,null,null,null,null,null,null,null,null,null,null,null,null,null,{"$f":"IF(#REF!=\"\",\"\",IF(#REF!<TODAY(),0,IF(#REF!<(TODAY()+365),1,\"X\")))","v":{"$error":"#REF!"}},{"$f":"IF(#REF!=\"\",\"\",\"X\")","v":{"$error":"#REF!"}}]
[null,null,null,null,null,null,null,null,null,null,null,null,null,null,{"$f":"IF(#REF!=\"\",\"\",IF(#REF!<TODAY(),0,IF(#REF!<(TODAY()+365),1,\"X\")))","v":{"$error":"#REF!"}},{"$f":"IF(#REF!=\"\",\"\",\"X\")","v":{"$error":"#REF!"}}]
[null,null,null,null,null,null,null,null,null,null,null,null,null,null,{"$f":"IF(#REF!=\"\",\"\",IF(#REF!<TODAY(),0,IF(#REF!<(TODAY()+365),1,\"X\")))","v":{"$error":"#REF!"}},{"$f":"IF(#REF!=\"\",\"\",\"X\")","v":{"$error":"#REF!"}}]
[null,null,null,null,null,null,null,null,null,null,null,null,null,null,{"$f":"IF(#REF!=\"\",\"\",IF(#REF!<TODAY(),0,IF(#REF!<(TODAY()+365),1,\"X\")))","v":{"$error":"#REF!"}},{"$f":"IF(#REF!=\"\",\"\",\"X\")","v":{"$error":"#REF!"}}]
[null,null,null,null,null,null,null,null,null,null,null,null,null,null,{"$f":"IF(#REF!=\"\",\"\",IF(#REF!<TODAY(),0,IF(#REF!<(TODAY()+365),1,\"X\")))","v":{"$error":"#REF!"}},{"$f":"IF(#REF!=\"\",\"\",\"X\")","v":{"$error":"#REF!"}}]
[null,null,null,null,null,null,null,null,null,null,null,null,null,null,{"$f":"IF(#REF!=\"\",\"\",IF(#REF!<TODAY(),0,IF(#REF!<(TODAY()+365),1,\"X\")))","v":{"$error":"#REF!"}},{"$f":"IF(#REF!=\"\",\"\",\"X\")","v":{"$error":"#REF!"}}]
[null,null,null,null,null,null,null,null,null,null,null,null,null,null,{"$f":"IF(#REF!=\"\",\"\",IF(#REF!<TODAY(),0,IF(#REF!<(TODAY()+365),1,\"X\")))","v":{"$error":"#REF!"}},{"$f":"IF(#REF!=\"\",\"\",\"X\")","v":{"$error":"#REF!"}}]
[null,null,null,null,null,null,null,null,null,null,null,null,null,null,{"$f":"IF(#REF!=\"\",\"\",IF(#REF!<TODAY(),0,IF(#REF!<(TODAY()+365),1,\"X\")))","v":{"$error":"#REF!"}},{"$f":"IF(#REF!=\"\",\"\",\"X\")","v":{"$error":"#REF!"}}]
[null,null,null,null,null,null,null,null,null,null,null,null,null,null,{"$f":"IF(#REF!=\"\",\"\",IF(#REF!<TODAY(),0,IF(#REF!<(TODAY()+365),1,\"X\")))","v":{"$error":"#REF!"}},{"$f":"IF(#REF!=\"\",\"\",\"X\")","v":{"$error":"#REF!"}}]
[null,null,null,null,null,null,null,null,null,null,null,null,null,null,{"$f":"IF(#REF!=\"\",\"\",IF(#REF!<TODAY(),0,IF(#REF!<(TODAY()+365),1,\"X\")))","v":{"$error":"#REF!"}},{"$f":"IF(#REF!=\"\",\"\",\"X\")","v":{"$error":"#REF!"}}]
[null,null,null,null,null,null,null,null,null,null,null,null,null,null,{"$f":"IF(#REF!=\"\",\"\",IF(#REF!<TODAY(),0,IF(#REF!<(TODAY()+365),1,\"X\")))","v":{"$error":"#REF!"}},{"$f":"IF(#REF!=\"\",\"\",\"X\")","v":{"$error":"#REF!"}}]
[null,null,null,null,null,null,null,null,null,null,null,null,null,null,{"$f":"IF(#REF!=\"\",\"\",IF(#REF!<TODAY(),0,IF(#REF!<(TODAY()+365),1,\"X\")))","v":{"$error":"#REF!"}},{"$f":"IF(#REF!=\"\",\"\",\"X\")","v":{"$error":"#REF!"}}]
[null,null,null,null,null,null,null,null,null,null,null,null,null,null,{"$f":"IF(#REF!=\"\",\"\",IF(#REF!<TODAY(),0,IF(#REF!<(TODAY()+365),1,\"X\")))","v":{"$error":"#REF!"}},{"$f":"IF(#REF!=\"\",\"\",\"X\")","v":{"$error":"#REF!"}}]
[null,null,null,null,null,null,null,null,null,null,null,null,null,null,{"$f":"IF(#REF!=\"\",\"\",IF(#REF!<TODAY(),0,IF(#REF!<(TODAY()+365),1,\"X\")))","v":{"$error":"#REF!"}},{"$f":"IF(#REF!=\"\",\"\",\"X\")","v":{"$error":"#REF!"}}]
[null,null,null,null,null,null,null,null,null,null,null,null,null,null,{"$f":"IF(#REF!=\"\",\"\",IF(#REF!<TODAY(),0,IF(#REF!<(TODAY()+365),1,\"X\")))","v":{"$error":"#REF!"}},{"$f":"IF(#REF!=\"\",\"\",\"X\")","v":{"$error":"#REF!"}}]
[null,null,null,null,null,null,null,null,null,null,null,null,null,null,{"$f":"IF(#REF!=\"\",\"\",IF(#REF!<TODAY(),0,IF(#REF!<(TODAY()+365),1,\"X\")))","v":{"$error":"#REF!"}},{"$f":"IF(#REF!=\"\",\"\",\"X\")","v":{"$error":"#REF!"}}]
[null,null,null,null,null,null,null,null,null,null,null,null,null,null,{"$f":"IF(#REF!=\"\",\"\",IF(#REF!<TODAY(),0,IF(#REF!<(TODAY()+365),1,\"X\")))","v":{"$error":"#REF!"}},{"$f":"IF(#REF!=\"\",\"\",\"X\")","v":{"$error":"#REF!"}}]
[null,null,null,null,null,null,null,null,null,null,null,null,null,null,{"$f":"IF(#REF!=\"\",\"\",IF(#REF!<TODAY(),0,IF(#REF!<(TODAY()+365),1,\"X\")))","v":{"$error":"#REF!"}},{"$f":"IF(#REF!=\"\",\"\",\"X\")","v":{"$error":"#REF!"}}]
[null,null,null,null,null,null,null,null,null,null,null,null,null,null,{"$f":"IF(#REF!=\"\",\"\",IF(#REF!<TODAY(),0,IF(#REF!<(TODAY()+365),1,\"X\")))","v":{"$error":"#REF!"}},{"$f":"IF(#REF!=\"\",\"\",\"X\")","v":{"$error":"#REF!"}}]
[null,null,null,null,null,null,null,null,null,null,null,null,null,null,{"$f":"IF(#REF!=\"\",\"\",IF(#REF!<TODAY(),0,IF(#REF!<(TODAY()+365),1,\"X\")))","v":{"$error":"#REF!"}},{"$f":"IF(#REF!=\"\",\"\",\"X\")","v":{"$error":"#REF!"}}]
[null,null,null,null,null,null,null,null,null,null,null,null,null,null,{"$f":"IF(#REF!=\"\",\"\",IF(#REF!<TODAY(),0,IF(#REF!<(TODAY()+365),1,\"X\")))","v":{"$error":"#REF!"}},{"$f":"IF(#REF!=\"\",\"\",\"X\")","v":{"$error":"#REF!"}}]
[null,null,null,null,null,null,null,null,null,null,null,null,null,null,{"$f":"IF(#REF!=\"\",\"\",IF(#REF!<TODAY(),0,IF(#REF!<(TODAY()+365),1,\"X\")))","v":{"$error":"#REF!"}},{"$f":"IF(#REF!=\"\",\"\",\"X\")","v":{"$error":"#REF!"}}]
[null,null,null,null,null,null,null,null,null,null,null,null,null,null,{"$f":"IF(#REF!=\"\",\"\",IF(#REF!<TODAY(),0,IF(#REF!<(TODAY()+365),1,\"X\")))","v":{"$error":"#REF!"}},{"$f":"IF(#REF!=\"\",\"\",\"X\")","v":{"$error":"#REF!"}}]
[null,null,null,null,null,null,null,null,null,null,null,null,null,null,{"$f":"IF(#REF!=\"\",\"\",IF(#REF!<TODAY(),0,IF(#REF!<(TODAY()+365),1,\"X\")))","v":{"$error":"#REF!"}},{"$f":"IF(#REF!=\"\",\"\",\"X\")","v":{"$error":"#REF!"}}]
[null,null,null,null,null,null,null,null,null,null,null,null,null,null,{"$f":"IF(#REF!=\"\",\"\",IF(#REF!<TODAY(),0,IF(#REF!<(TODAY()+365),1,\"X\")))","v":{"$error":"#REF!"}},{"$f":"IF(#REF!=\"\",\"\",\"X\")","v":{"$error":"#REF!"}}]
[null,null,null,null,null,null,null,null,null,null,null,null,null,null,{"$f":"IF(#REF!=\"\",\"\",IF(#REF!<TODAY(),0,IF(#REF!<(TODAY()+365),1,\"X\")))","v":{"$error":"#REF!"}},{"$f":"IF(#REF!=\"\",\"\",\"X\")","v":{"$error":"#REF!"}}]
[null,null,null,null,null,null,null,null,null,null,null,null,null,null,{"$f":"IF(#REF!=\"\",\"\",IF(#REF!<TODAY(),0,IF(#REF!<(TODAY()+365),1,\"X\")))","v":{"$error":"#REF!"}},{"$f":"IF(#REF!=\"\",\"\",\"X\")","v":{"$error":"#REF!"}}]
[null,null,null,null,null,null,null,null,null,null,null,null,null,null,{"$f":"IF(#REF!=\"\",\"\",IF(#REF!<TODAY(),0,IF(#REF!<(TODAY()+365),1,\"X\")))","v":{"$error":"#REF!"}},{"$f":"IF(#REF!=\"\",\"\",\"X\")","v":{"$error":"#REF!"}}]
[null,null,null,null,null,null,null,null,null,null,null,null,null,null,{"$f":"IF(#REF!=\"\",\"\",IF(#REF!<TODAY(),0,IF(#REF!<(TODAY()+365),1,\"X\")))","v":{"$error":"#REF!"}},{"$f":"IF(#REF!=\"\",\"\",\"X\")","v":{"$error":"#REF!"}}]
[null,null,null,null,null,null,null,null,null,null,null,null,null,null,{"$f":"IF(#REF!=\"\",\"\",IF(#REF!<TODAY(),0,IF(#REF!<(TODAY()+365),1,\"X\")))","v":{"$error":"#REF!"}},{"$f":"IF(#REF!=\"\",\"\",\"X\")","v":{"$error":"#REF!"}}]
[null,null,null,null,null,null,null,null,null,null,null,null,null,null,{"$f":"IF(#REF!=\"\",\"\",IF(#REF!<TODAY(),0,IF(#REF!<(TODAY()+365),1,\"X\")))","v":{"$error":"#REF!"}},{"$f":"IF(#REF!=\"\",\"\",\"X\")","v":{"$error":"#REF!"}}]
[null,null,null,null,null,null,null,null,null,null,null,null,null,null,{"$f":"IF(#REF!=\"\",\"\",IF(#REF!<TODAY(),0,IF(#REF!<(TODAY()+365),1,\"X\")))","v":{"$error":"#REF!"}},{"$f":"IF(#REF!=\"\",\"\",\"X\")","v":{"$error":"#REF!"}}]
[null,null,null,null,null,null,null,null,null,null,null,null,null,null,{"$f":"IF(#REF!=\"\",\"\",IF(#REF!<TODAY(),0,IF(#REF!<(TODAY()+365),1,\"X\")))","v":{"$error":"#REF!"}},{"$f":"IF(#REF!=\"\",\"\",\"X\")","v":{"$error":"#REF!"}}]
[null,null,null,null,null,null,null,null,null,null,null,null,null,null,{"$f":"IF(#REF!=\"\",\"\",IF(#REF!<TODAY(),0,IF(#REF!<(TODAY()+365),1,\"X\")))","v":{"$error":"#REF!"}},{"$f":"IF(#REF!=\"\",\"\",\"X\")","v":{"$error":"#REF!"}}]
[null,null,null,null,null,null,null,null,null,null,null,null,null,null,{"$f":"IF(#REF!=\"\",\"\",IF(#REF!<TODAY(),0,IF(#REF!<(TODAY()+365),1,\"X\")))","v":{"$error":"#REF!"}},{"$f":"IF(#REF!=\"\",\"\",\"X\")","v":{"$error":"#REF!"}}]
[null,null,null,null,null,null,null,null,null,null,null,null,null,null,{"$f":"IF(#REF!=\"\",\"\",IF(#REF!<TODAY(),0,IF(#REF!<(TODAY()+365),1,\"X\")))","v":{"$error":"#REF!"}},{"$f":"IF(#REF!=\"\",\"\",\"X\")","v":{"$error":"#REF!"}}]
[null,null,null,null,null,null,null,null,null,null,null,null,null,null,{"$f":"IF(#REF!=\"\",\"\",IF(#REF!<TODAY(),0,IF(#REF!<(TODAY()+365),1,\"X\")))","v":{"$error":"#REF!"}},{"$f":"IF(#REF!=\"\",\"\",\"X\")","v":{"$error":"#REF!"}}]
[null,null,null,null,null,null,null,null,null,null,null,null,null,null,{"$f":"IF(#REF!=\"\",\"\",IF(#REF!<TODAY(),0,IF(#REF!<(TODAY()+365),1,\"X\")))","v":{"$error":"#REF!"}},{"$f":"IF(#REF!=\"\",\"\",\"X\")","v":{"$error":"#REF!"}}]
[null,null,null,null,null,null,null,null,null,null,null,null,null,null,{"$f":"IF(#REF!=\"\",\"\",IF(#REF!<TODAY(),0,IF(#REF!<(TODAY()+365),1,\"X\")))","v":{"$error":"#REF!"}},{"$f":"IF(#REF!=\"\",\"\",\"X\")","v":{"$error":"#REF!"}}]
[null,null,null,null,null,null,null,null,null,null,null,null,null,null,{"$f":"IF(#REF!=\"\",\"\",IF(#REF!<TODAY(),0,IF(#REF!<(TODAY()+365),1,\"X\")))","v":{"$error":"#REF!"}},{"$f":"IF(#REF!=\"\",\"\",\"X\")","v":{"$error":"#REF!"}}]
[null,null,null,null,null,null,null,null,null,null,null,null,null,null,{"$f":"IF(#REF!=\"\",\"\",IF(#REF!<TODAY(),0,IF(#REF!<(TODAY()+365),1,\"X\")))","v":{"$error":"#REF!"}},{"$f":"IF(#REF!=\"\",\"\",\"X\")","v":{"$error":"#REF!"}}]
[null,null,null,null,null,null,null,null,null,null,null,null,null,null,{"$f":"IF(#REF!=\"\",\"\",IF(#REF!<TODAY(),0,IF(#REF!<(TODAY()+365),1,\"X\")))","v":{"$error":"#REF!"}},{"$f":"IF(#REF!=\"\",\"\",\"X\")","v":{"$error":"#REF!"}}]
[null,null,null,null,null,null,null,null,null,null,null,null,null,null,{"$f":"IF(#REF!=\"\",\"\",IF(#REF!<TODAY(),0,IF(#REF!<(TODAY()+365),1,\"X\")))","v":{"$error":"#REF!"}},{"$f":"IF(#REF!=\"\",\"\",\"X\")","v":{"$error":"#REF!"}}]
[null,null,null,null,null,null,null,null,null,null,null,null,null,null,{"$f":"IF(#REF!=\"\",\"\",IF(#REF!<TODAY(),0,IF(#REF!<(TODAY()+365),1,\"X\")))","v":{"$error":"#REF!"}},{"$f":"IF(#REF!=\"\",\"\",\"X\")","v":{"$error":"#REF!"}}]
[null,null,null,null,null,null,null,null,null,null,null,null,null,null,{"$f":"IF(#REF!=\"\",\"\",IF(#REF!<TODAY(),0,IF(#REF!<(TODAY()+365),1,\"X\")))","v":{"$error":"#REF!"}},{"$f":"IF(#REF!=\"\",\"\",\"X\")","v":{"$error":"#REF!"}}]
[null,null,null,null,null,null,null,null,null,null,null,null,null,null,{"$f":"IF(#REF!=\"\",\"\",IF(#REF!<TODAY(),0,IF(#REF!<(TODAY()+365),1,\"X\")))","v":{"$error":"#REF!"}},{"$f":"IF(#REF!=\"\",\"\",\"X\")","v":{"$error":"#REF!"}}]
[null,null,null,null,null,null,null,null,null,null,null,null,null,null,{"$f":"IF(#REF!=\"\",\"\",IF(#REF!<TODAY(),0,IF(#REF!<(TODAY()+365),1,\"X\")))","v":{"$error":"#REF!"}},{"$f":"IF(#REF!=\"\",\"\",\"X\")","v":{"$error":"#REF!"}}]
[null,null,null,null,null,null,null,null,null,null,null,null,null,null,{"$f":"IF(#REF!=\"\",\"\",IF(#REF!<TODAY(),0,IF(#REF!<(TODAY()+365),1,\"X\")))","v":{"$error":"#REF!"}},{"$f":"IF(#REF!=\"\",\"\",\"X\")","v":{"$error":"#REF!"}}]
[null,null,null,null,null,null,null,null,null,null,null,null,null,null,{"$f":"IF(#REF!=\"\",\"\",IF(#REF!<TODAY(),0,IF(#REF!<(TODAY()+365),1,\"X\")))","v":{"$error":"#REF!"}},{"$f":"IF(#REF!=\"\",\"\",\"X\")","v":{"$error":"#REF!"}}]
[null,null,null,null,null,null,null,null,null,null,null,null,null,null,{"$f":"IF(#REF!=\"\",\"\",IF(#REF!<TODAY(),0,IF(#REF!<(TODAY()+365),1,\"X\")))","v":{"$error":"#REF!"}},{"$f":"IF(#REF!=\"\",\"\",\"X\")","v":{"$error":"#REF!"}}]
[null,null,null,null,null,null,null,null,null,null,null,null,null,null,{"$f":"IF(#REF!=\"\",\"\",IF(#REF!<TODAY(),0,IF(#REF!<(TODAY()+365),1,\"X\")))","v":{"$error":"#REF!"}},{"$f":"IF(#REF!=\"\",\"\",\"X\")","v":{"$error":"#REF!"}}]
[null,null,null,null,null,null,null,null,null,null,null,null,null,null,{"$f":"IF(#REF!=\"\",\"\",IF(#REF!<TODAY(),0,IF(#REF!<(TODAY()+365),1,\"X\")))","v":{"$error":"#REF!"}},{"$f":"IF(#REF!=\"\",\"\",\"X\")","v":{"$error":"#REF!"}}]
[null,null,null,null,null,null,null,null,null,null,null,null,null,null,{"$f":"IF(#REF!=\"\",\"\",IF(#REF!<TODAY(),0,IF(#REF!<(TODAY()+365),1,\"X\")))","v":{"$error":"#REF!"}},{"$f":"IF(#REF!=\"\",\"\",\"X\")","v":{"$error":"#REF!"}}]
[null,null,null,null,null,null,null,null,null,null,null,null,null,null,{"$f":"IF(#REF!=\"\",\"\",IF(#REF!<TODAY(),0,IF(#REF!<(TODAY()+365),1,\"X\")))","v":{"$error":"#REF!"}},{"$f":"IF(#REF!=\"\",\"\",\"X\")","v":{"$error":"#REF!"}}]
[null,null,null,null,null,null,null,null,null,null,null,null,null,null,{"$f":"IF(#REF!=\"\",\"\",IF(#REF!<TODAY(),0,IF(#REF!<(TODAY()+365),1,\"X\")))","v":{"$error":"#REF!"}},{"$f":"IF(#REF!=\"\",\"\",\"X\")","v":{"$error":"#REF!"}}]
[null,null,null,null,null,null,null,null,null,null,null,null,null,null,{"$f":"IF(#REF!=\"\",\"\",IF(#REF!<TODAY(),0,IF(#REF!<(TODAY()+365),1,\"X\")))","v":{"$error":"#REF!"}},{"$f":"IF(#REF!=\"\",\"\",\"X\")","v":{"$error":"#REF!"}}]
[null,null,null,null,null,null,null,null,null,null,null,null,null,null,{"$f":"IF(#REF!=\"\",\"\",IF(#REF!<TODAY(),0,IF(#REF!<(TODAY()+365),1,\"X\")))","v":{"$error":"#REF!"}},{"$f":"IF(#REF!=\"\",\"\",\"X\")","v":{"$error":"#REF!"}}]
[null,null,null,null,null,null,null,null,null,null,null,null,null,null,{"$f":"IF(#REF!=\"\",\"\",IF(#REF!<TODAY(),0,IF(#REF!<(TODAY()+365),1,\"X\")))","v":{"$error":"#REF!"}},{"$f":"IF(#REF!=\"\",\"\",\"X\")","v":{"$error":"#REF!"}}]
[null,null,null,null,null,null,null,null,null,null,null,null,null,null,{"$f":"IF(#REF!=\"\",\"\",IF(#REF!<TODAY(),0,IF(#REF!<(TODAY()+365),1,\"X\")))","v":{"$error":"#REF!"}},{"$f":"IF(#REF!=\"\",\"\",\"X\")","v":{"$error":"#REF!"}}]
[null,null,null,null,null,null,null,null,null,null,null,null,null,null,{"$f":"IF(#REF!=\"\",\"\",IF(#REF!<TODAY(),0,IF(#REF!<(TODAY()+365),1,\"X\")))","v":{"$error":"#REF!"}},{"$f":"IF(#REF!=\"\",\"\",\"X\")","v":{"$error":"#REF!"}}]
[null,null,null,null,null,null,null,null,null,null,null,null,null,null,{"$f":"IF(#REF!=\"\",\"\",IF(#REF!<TODAY(),0,IF(#REF!<(TODAY()+365),1,\"X\")))","v":{"$error":"#REF!"}},{"$f":"IF(#REF!=\"\",\"\",\"X\")","v":{"$error":"#REF!"}}]
[null,null,null,null,null,null,null,null,null,null,null,null,null,null,{"$f":"IF(#REF!=\"\",\"\",IF(#REF!<TODAY(),0,IF(#REF!<(TODAY()+365),1,\"X\")))","v":{"$error":"#REF!"}},{"$f":"IF(#REF!=\"\",\"\",\"X\")","v":{"$error":"#REF!"}}]
[null,null,null,null,null,null,null,null,null,null,null,null,null,null,{"$f":"IF(#REF!=\"\",\"\",IF(#REF!<TODAY(),0,IF(#REF!<(TODAY()+365),1,\"X\")))","v":{"$error":"#REF!"}},{"$f":"IF(#REF!=\"\",\"\",\"X\")","v":{"$error":"#REF!"}}]
[null,null,null,null,null,null,null,null,null,null,null,null,null,null,{"$f":"IF(#REF!=\"\",\"\",IF(#REF!<TODAY(),0,IF(#REF!<(TODAY()+365),1,\"X\")))","v":{"$error":"#REF!"}},{"$f":"IF(#REF!=\"\",\"\",\"X\")","v":{"$error":"#REF!"}}]
[null,null,null,null,null,null,null,null,null,null,null,null,null,null,{"$f":"IF(#REF!=\"\",\"\",IF(#REF!<TODAY(),0,IF(#REF!<(TODAY()+365),1,\"X\")))","v":{"$error":"#REF!"}},{"$f":"IF(#REF!=\"\",\"\",\"X\")","v":{"$error":"#REF!"}}]
[null,null,null,null,null,null,null,null,null,null,null,null,null,null,{"$f":"IF(#REF!=\"\",\"\",IF(#REF!<TODAY(),0,IF(#REF!<(TODAY()+365),1,\"X\")))","v":{"$error":"#REF!"}},{"$f":"IF(#REF!=\"\",\"\",\"X\")","v":{"$error":"#REF!"}}]
[null,null,null,null,null,null,null,null,null,null,null,null,null,null,{"$f":"IF(#REF!=\"\",\"\",IF(#REF!<TODAY(),0,IF(#REF!<(TODAY()+365),1,\"X\")))","v":{"$error":"#REF!"}},{"$f":"IF(#REF!=\"\",\"\",\"X\")","v":{"$error":"#REF!"}}]
[null,null,null,null,null,null,null,null,null,null,null,null,null,null,{"$f":"IF(#REF!=\"\",\"\",IF(#REF!<TODAY(),0,IF(#REF!<(TODAY()+365),1,\"X\")))","v":{"$error":"#REF!"}},{"$f":"IF(#REF!=\"\",\"\",\"X\")","v":{"$error":"#REF!"}}]
[null,null,null,null,null,null,null,null,null,null,null,null,null,null,{"$f":"IF(#REF!=\"\",\"\",IF(#REF!<TODAY(),0,IF(#REF!<(TODAY()+365),1,\"X\")))","v":{"$error":"#REF!"}},{"$f":"IF(#REF!=\"\",\"\",\"X\")","v":{"$error":"#REF!"}}]
[null,null,null,null,null,null,null,null,null,null,null,null,null,null,{"$f":"IF(#REF!=\"\",\"\",IF(#REF!<TODAY(),0,IF(#REF!<(TODAY()+365),1,\"X\")))","v":{"$error":"#REF!"}},{"$f":"IF(#REF!=\"\",\"\",\"X\")","v":{"$error":"#REF!"}}]
[null,null,null,null,null,null,null,null,null,null,null,null,null,null,{"$f":"IF(#REF!=\"\",\"\",IF(#REF!<TODAY(),0,IF(#REF!<(TODAY()+365),1,\"X\")))","v":{"$error":"#REF!"}},{"$f":"IF(#REF!=\"\",\"\",\"X\")","v":{"$error":"#REF!"}}]
[null,null,null,null,null,null,null,null,null,null,null,null,null,null,{"$f":"IF(#REF!=\"\",\"\",IF(#REF!<TODAY(),0,IF(#REF!<(TODAY()+365),1,\"X\")))","v":{"$error":"#REF!"}},{"$f":"IF(#REF!=\"\",\"\",\"X\")","v":{"$error":"#REF!"}}]
[null,null,null,null,null,null,null,null,null,null,null,null,null,null,{"$f":"IF(#REF!=\"\",\"\",IF(#REF!<TODAY(),0,IF(#REF!<(TODAY()+365),1,\"X\")))","v":{"$error":"#REF!"}},{"$f":"IF(#REF!=\"\",\"\",\"X\")","v":{"$error":"#REF!"}}]
[null,null,null,null,null,null,null,null,null,null,null,null,null,null,{"$f":"IF(#REF!=\"\",\"\",IF(#REF!<TODAY(),0,IF(#REF!<(TODAY()+365),1,\"X\")))","v":{"$error":"#REF!"}},{"$f":"IF(#REF!=\"\",\"\",\"X\")","v":{"$error":"#REF!"}}]
[null,null,null,null,null,null,null,null,null,null,null,null,null,null,{"$f":"IF(#REF!=\"\",\"\",IF(#REF!<TODAY(),0,IF(#REF!<(TODAY()+365),1,\"X\")))","v":{"$error":"#REF!"}},{"$f":"IF(#REF!=\"\",\"\",\"X\")","v":{"$error":"#REF!"}}]
[null,null,null,null,null,null,null,null,null,null,null,null,null,null,{"$f":"IF(#REF!=\"\",\"\",IF(#REF!<TODAY(),0,IF(#REF!<(TODAY()+365),1,\"X\")))","v":{"$error":"#REF!"}},{"$f":"IF(#REF!=\"\",\"\",\"X\")","v":{"$error":"#REF!"}}]
[null,null,null,null,null,null,null,null,null,null,null,null,null,null,{"$f":"IF(#REF!=\"\",\"\",IF(#REF!<TODAY(),0,IF(#REF!<(TODAY()+365),1,\"X\")))","v":{"$error":"#REF!"}},{"$f":"IF(#REF!=\"\",\"\",\"X\")","v":{"$error":"#REF!"}}]
[null,null,null,null,null,null,null,null,null,null,null,null,null,null,{"$f":"IF(#REF!=\"\",\"\",IF(#REF!<TODAY(),0,IF(#REF!<(TODAY()+365),1,\"X\")))","v":{"$error":"#REF!"}},{"$f":"IF(#REF!=\"\",\"\",\"X\")","v":{"$error":"#REF!"}}]
[null,null,null,null,null,null,null,null,null,null,null,null,null,null,{"$f":"IF(#REF!=\"\",\"\",IF(#REF!<TODAY(),0,IF(#REF!<(TODAY()+365),1,\"X\")))","v":{"$error":"#REF!"}},{"$f":"IF(#REF!=\"\",\"\",\"X\")","v":{"$error":"#REF!"}}]
[null,null,null,null,null,null,null,null,null,null,null,null,null,null,{"$f":"IF(#REF!=\"\",\"\",IF(#REF!<TODAY(),0,IF(#REF!<(TODAY()+365),1,\"X\")))","v":{"$error":"#REF!"}},{"$f":"IF(#REF!=\"\",\"\",\"X\")","v":{"$error":"#REF!"}}]
[null,null,null,null,null,null,null,null,null,null,null,null,null,null,{"$f":"IF(#REF!=\"\",\"\",IF(#REF!<TODAY(),0,IF(#REF!<(TODAY()+365),1,\"X\")))","v":{"$error":"#REF!"}},{"$f":"IF(#REF!=\"\",\"\",\"X\")","v":{"$error":"#REF!"}}]
[null,null,null,null,null,null,null,null,null,null,null,null,null,null,{"$f":"IF(#REF!=\"\",\"\",IF(#REF!<TODAY(),0,IF(#REF!<(TODAY()+365),1,\"X\")))","v":{"$error":"#REF!"}},{"$f":"IF(#REF!=\"\",\"\",\"X\")","v":{"$error":"#REF!"}}]
[null,null,null,null,null,null,null,null,null,null,null,null,null,null,{"$f":"IF(#REF!=\"\",\"\",IF(#REF!<TODAY(),0,IF(#REF!<(TODAY()+365),1,\"X\")))","v":{"$error":"#REF!"}},{"$f":"IF(#REF!=\"\",\"\",\"X\")","v":{"$error":"#REF!"}}]
[null,null,null,null,null,null,null,null,null,null,null,null,null,null,{"$f":"IF(#REF!=\"\",\"\",IF(#REF!<TODAY(),0,IF(#REF!<(TODAY()+365),1,\"X\")))","v":{"$error":"#REF!"}},{"$f":"IF(#REF!=\"\",\"\",\"X\")","v":{"$error":"#REF!"}}]
[null,null,null,null,null,null,null,null,null,null,null,null,null,null,{"$f":"IF(#REF!=\"\",\"\",IF(#REF!<TODAY(),0,IF(#REF!<(TODAY()+365),1,\"X\")))","v":{"$error":"#REF!"}},{"$f":"IF(#REF!=\"\",\"\",\"X\")","v":{"$error":"#REF!"}}]
[null,null,null,null,null,null,null,null,null,null,null,null,null,null,{"$f":"IF(#REF!=\"\",\"\",IF(#REF!<TODAY(),0,IF(#REF!<(TODAY()+365),1,\"X\")))","v":{"$error":"#REF!"}},{"$f":"IF(#REF!=\"\",\"\",\"X\")","v":{"$error":"#REF!"}}]
[null,null,null,null,null,null,null,null,null,null,null,null,null,null,{"$f":"IF(#REF!=\"\",\"\",IF(#REF!<TODAY(),0,IF(#REF!<(TODAY()+365),1,\"X\")))","v":{"$error":"#REF!"}},{"$f":"IF(#REF!=\"\",\"\",\"X\")","v":{"$error":"#REF!"}}]
[null,null,null,null,null,null,null,null,null,null,null,null,null,null,{"$f":"IF(#REF!=\"\",\"\",IF(#REF!<TODAY(),0,IF(#REF!<(TODAY()+365),1,\"X\")))","v":{"$error":"#REF!"}},{"$f":"IF(#REF!=\"\",\"\",\"X\")","v":{"$error":"#REF!"}}]
[null,null,null,null,null,null,null,null,null,null,null,null,null,null,{"$f":"IF(#REF!=\"\",\"\",IF(#REF!<TODAY(),0,IF(#REF!<(TODAY()+365),1,\"X\")))","v":{"$error":"#REF!"}},{"$f":"IF(#REF!=\"\",\"\",\"X\")","v":{"$error":"#REF!"}}]
[null,null,null,null,null,null,null,null,null,null,null,null,null,null,{"$f":"IF(#REF!=\"\",\"\",IF(#REF!<TODAY(),0,IF(#REF!<(TODAY()+365),1,\"X\")))","v":{"$error":"#REF!"}},{"$f":"IF(#REF!=\"\",\"\",\"X\")","v":{"$error":"#REF!"}}]
[null,null,null,null,null,null,null,null,null,null,null,null,null,null,{"$f":"IF(#REF!=\"\",\"\",IF(#REF!<TODAY(),0,IF(#REF!<(TODAY()+365),1,\"X\")))","v":{"$error":"#REF!"}},{"$f":"IF(#REF!=\"\",\"\",\"X\")","v":{"$error":"#REF!"}}]
[null,null,null,null,null,null,null,null,null,null,null,null,null,null,{"$f":"IF(#REF!=\"\",\"\",IF(#REF!<TODAY(),0,IF(#REF!<(TODAY()+365),1,\"X\")))","v":{"$error":"#REF!"}},{"$f":"IF(#REF!=\"\",\"\",\"X\")","v":{"$error":"#REF!"}}]
[null,null,null,null,null,null,null,null,null,null,null,null,null,null,{"$f":"IF(#REF!=\"\",\"\",IF(#REF!<TODAY(),0,IF(#REF!<(TODAY()+365),1,\"X\")))","v":{"$error":"#REF!"}},{"$f":"IF(#REF!=\"\",\"\",\"X\")","v":{"$error":"#REF!"}}]
[null,null,null,null,null,null,null,null,null,null,null,null,null,null,{"$f":"IF(#REF!=\"\",\"\",IF(#REF!<TODAY(),0,IF(#REF!<(TODAY()+365),1,\"X\")))","v":{"$error":"#REF!"}},{"$f":"IF(#REF!=\"\",\"\",\"X\")","v":{"$error":"#REF!"}}]
[null,null,null,null,null,null,null,null,null,null,null,null,null,null,{"$f":"IF(#REF!=\"\",\"\",IF(#REF!<TODAY(),0,IF(#REF!<(TODAY()+365),1,\"X\")))","v":{"$error":"#REF!"}},{"$f":"IF(#REF!=\"\",\"\",\"X\")","v":{"$error":"#REF!"}}]
[null,null,null,null,null,null,null,null,null,null,null,null,null,null,{"$f":"IF(#REF!=\"\",\"\",IF(#REF!<TODAY(),0,IF(#REF!<(TODAY()+365),1,\"X\")))","v":{"$error":"#REF!"}},{"$f":"IF(#REF!=\"\",\"\",\"X\")","v":{"$error":"#REF!"}}]
[null,null,null,null,null,null,null,null,null,null,null,null,null,null,{"$f":"IF(#REF!=\"\",\"\",IF(#REF!<TODAY(),0,IF(#REF!<(TODAY()+365),1,\"X\")))","v":{"$error":"#REF!"}},{"$f":"IF(#REF!=\"\",\"\",\"X\")","v":{"$error":"#REF!"}}]
[null,null,null,null,null,null,null,null,null,null,null,null,null,null,{"$f":"IF(#REF!=\"\",\"\",IF(#REF!<TODAY(),0,IF(#REF!<(TODAY()+365),1,\"X\")))","v":{"$error":"#REF!"}},{"$f":"IF(#REF!=\"\",\"\",\"X\")","v":{"$error":"#REF!"}}]
[null,null,null,null,null,null,null,null,null,null,null,null,null,null,{"$f":"IF(#REF!=\"\",\"\",IF(#REF!<TODAY(),0,IF(#REF!<(TODAY()+365),1,\"X\")))","v":{"$error":"#REF!"}},{"$f":"IF(#REF!=\"\",\"\",\"X\")","v":{"$error":"#REF!"}}]
[null,null,null,null,null,null,null,null,null,null,null,null,null,null,{"$f":"IF(#REF!=\"\",\"\",IF(#REF!<TODAY(),0,IF(#REF!<(TODAY()+365),1,\"X\")))","v":{"$error":"#REF!"}},{"$f":"IF(#REF!=\"\",\"\",\"X\")","v":{"$error":"#REF!"}}]
[null,null,null,null,null,null,null,null,null,null,null,null,null,null,{"$f":"IF(#REF!=\"\",\"\",IF(#REF!<TODAY(),0,IF(#REF!<(TODAY()+365),1,\"X\")))","v":{"$error":"#REF!"}},{"$f":"IF(#REF!=\"\",\"\",\"X\")","v":{"$error":"#REF!"}}]
[null,null,null,null,null,null,null,null,null,null,null,null,null,null,{"$f":"IF(#REF!=\"\",\"\",IF(#REF!<TODAY(),0,IF(#REF!<(TODAY()+365),1,\"X\")))","v":{"$error":"#REF!"}},{"$f":"IF(#REF!=\"\",\"\",\"X\")","v":{"$error":"#REF!"}}]
[null,null,null,null,null,null,null,null,null,null,null,null,null,null,{"$f":"IF(#REF!=\"\",\"\",IF(#REF!<TODAY(),0,IF(#REF!<(TODAY()+365),1,\"X\")))","v":{"$error":"#REF!"}},{"$f":"IF(#REF!=\"\",\"\",\"X\")","v":{"$error":"#REF!"}}]
[null,null,null,null,null,null,null,null,null,null,null,null,null,null,{"$f":"IF(#REF!=\"\",\"\",IF(#REF!<TODAY(),0,IF(#REF!<(TODAY()+365),1,\"X\")))","v":{"$error":"#REF!"}},{"$f":"IF(#REF!=\"\",\"\",\"X\")","v":{"$error":"#REF!"}}]
[null,null,null,null,null,null,null,null,null,null,null,null,null,null,{"$f":"IF(#REF!=\"\",\"\",IF(#REF!<TODAY(),0,IF(#REF!<(TODAY()+365),1,\"X\")))","v":{"$error":"#REF!"}},{"$f":"IF(#REF!=\"\",\"\",\"X\")","v":{"$error":"#REF!"}}]
[null,null,null,null,null,null,null,null,null,null,null,null,null,null,{"$f":"IF(#REF!=\"\",\"\",IF(#REF!<TODAY(),0,IF(#REF!<(TODAY()+365),1,\"X\")))","v":{"$error":"#REF!"}},{"$f":"IF(#REF!=\"\",\"\",\"X\")","v":{"$error":"#REF!"}}]
[null,null,null,null,null,null,null,null,null,null,null,null,null,null,{"$f":"IF(#REF!=\"\",\"\",IF(#REF!<TODAY(),0,IF(#REF!<(TODAY()+365),1,\"X\")))","v":{"$error":"#REF!"}},{"$f":"IF(#REF!=\"\",\"\",\"X\")","v":{"$error":"#REF!"}}]
[null,null,null,null,null,null,null,null,null,null,null,null,null,null,{"$f":"IF(#REF!=\"\",\"\",IF(#REF!<TODAY(),0,IF(#REF!<(TODAY()+365),1,\"X\")))","v":{"$error":"#REF!"}},{"$f":"IF(#REF!=\"\",\"\",\"X\")","v":{"$error":"#REF!"}}]
[null,null,null,null,null,null,null,null,null,null,null,null,null,null,{"$f":"IF(#REF!=\"\",\"\",IF(#REF!<TODAY(),0,IF(#REF!<(TODAY()+365),1,\"X\")))","v":{"$error":"#REF!"}},{"$f":"IF(#REF!=\"\",\"\",\"X\")","v":{"$error":"#REF!"}}]
[null,null,null,null,null,null,null,null,null,null,null,null,null,null,{"$f":"IF(#REF!=\"\",\"\",IF(#REF!<TODAY(),0,IF(#REF!<(TODAY()+365),1,\"X\")))","v":{"$error":"#REF!"}},{"$f":"IF(#REF!=\"\",\"\",\"X\")","v":{"$error":"#REF!"}}]
[null,null,null,null,null,null,null,null,null,null,null,null,null,null,{"$f":"IF(#REF!=\"\",\"\",IF(#REF!<TODAY(),0,IF(#REF!<(TODAY()+365),1,\"X\")))","v":{"$error":"#REF!"}},{"$f":"IF(#REF!=\"\",\"\",\"X\")","v":{"$error":"#REF!"}}]
[null,null,null,null,null,null,null,null,null,null,null,null,null,null,{"$f":"IF(#REF!=\"\",\"\",IF(#REF!<TODAY(),0,IF(#REF!<(TODAY()+365),1,\"X\")))","v":{"$error":"#REF!"}},{"$f":"IF(#REF!=\"\",\"\",\"X\")","v":{"$error":"#REF!"}}]
[null,null,null,null,null,null,null,null,null,null,null,null,null,null,{"$f":"IF(#REF!=\"\",\"\",IF(#REF!<TODAY(),0,IF(#REF!<(TODAY()+365),1,\"X\")))","v":{"$error":"#REF!"}},{"$f":"IF(#REF!=\"\",\"\",\"X\")","v":{"$error":"#REF!"}}]
[null,null,null,null,null,null,null,null,null,null,null,null,null,null,{"$f":"IF(#REF!=\"\",\"\",IF(#REF!<TODAY(),0,IF(#REF!<(TODAY()+365),1,\"X\")))","v":{"$error":"#REF!"}},{"$f":"IF(#REF!=\"\",\"\",\"X\")","v":{"$error":"#REF!"}}]
[null,null,null,null,null,null,null,null,null,null,null,null,null,null,{"$f":"IF(#REF!=\"\",\"\",IF(#REF!<TODAY(),0,IF(#REF!<(TODAY()+365),1,\"X\")))","v":{"$error":"#REF!"}},{"$f":"IF(#REF!=\"\",\"\",\"X\")","v":{"$error":"#REF!"}}]
[null,null,null,null,null,null,null,null,null,null,null,null,null,null,{"$f":"IF(#REF!=\"\",\"\",IF(#REF!<TODAY(),0,IF(#REF!<(TODAY()+365),1,\"X\")))","v":{"$error":"#REF!"}},{"$f":"IF(#REF!=\"\",\"\",\"X\")","v":{"$error":"#REF!"}}]
[null,null,null,null,null,null,null,null,null,null,null,null,null,null,{"$f":"IF(#REF!=\"\",\"\",IF(#REF!<TODAY(),0,IF(#REF!<(TODAY()+365),1,\"X\")))","v":{"$error":"#REF!"}},{"$f":"IF(#REF!=\"\",\"\",\"X\")","v":{"$error":"#REF!"}}]
[null,null,null,null,null,null,null,null,null,null,null,null,null,null,{"$f":"IF(#REF!=\"\",\"\",IF(#REF!<TODAY(),0,IF(#REF!<(TODAY()+365),1,\"X\")))","v":{"$error":"#REF!"}},{"$f":"IF(#REF!=\"\",\"\",\"X\")","v":{"$error":"#REF!"}}]
[null,null,null,null,null,null,null,null,null,null,null,null,null,null,{"$f":"IF(#REF!=\"\",\"\",IF(#REF!<TODAY(),0,IF(#REF!<(TODAY()+365),1,\"X\")))","v":{"$error":"#REF!"}},{"$f":"IF(#REF!=\"\",\"\",\"X\")","v":{"$error":"#REF!"}}]
[null,null,null,null,null,null,null,null,null,null,null,null,null,null,{"$f":"IF(#REF!=\"\",\"\",IF(#REF!<TODAY(),0,IF(#REF!<(TODAY()+365),1,\"X\")))","v":{"$error":"#REF!"}},{"$f":"IF(#REF!=\"\",\"\",\"X\")","v":{"$error":"#REF!"}}]
[null,null,null,null,null,null,null,null,null,null,null,null,null,null,{"$f":"IF(#REF!=\"\",\"\",IF(#REF!<TODAY(),0,IF(#REF!<(TODAY()+365),1,\"X\")))","v":{"$error":"#REF!"}},{"$f":"IF(#REF!=\"\",\"\",\"X\")","v":{"$error":"#REF!"}}]
[null,null,null,null,null,null,null,null,null,null,null,null,null,null,{"$f":"IF(#REF!=\"\",\"\",IF(#REF!<TODAY(),0,IF(#REF!<(TODAY()+365),1,\"X\")))","v":{"$error":"#REF!"}},{"$f":"IF(#REF!=\"\",\"\",\"X\")","v":{"$error":"#REF!"}}]
[null,null,null,null,null,null,null,null,null,null,null,null,null,null,{"$f":"IF(#REF!=\"\",\"\",IF(#REF!<TODAY(),0,IF(#REF!<(TODAY()+365),1,\"X\")))","v":{"$error":"#REF!"}},{"$f":"IF(#REF!=\"\",\"\",\"X\")","v":{"$error":"#REF!"}}]
[null,null,null,null,null,null,null,null,null,null,null,null,null,null,{"$f":"IF(#REF!=\"\",\"\",IF(#REF!<TODAY(),0,IF(#REF!<(TODAY()+365),1,\"X\")))","v":{"$error":"#REF!"}},{"$f":"IF(#REF!=\"\",\"\",\"X\")","v":{"$error":"#REF!"}}]
[null,null,null,null,null,null,null,null,null,null,null,null,null,null,{"$f":"IF(#REF!=\"\",\"\",IF(#REF!<TODAY(),0,IF(#REF!<(TODAY()+365),1,\"X\")))","v":{"$error":"#REF!"}},{"$f":"IF(#REF!=\"\",\"\",\"X\")","v":{"$error":"#REF!"}}]
[null,null,null,null,null,null,null,null,null,null,null,null,null,null,{"$f":"IF(#REF!=\"\",\"\",IF(#REF!<TODAY(),0,IF(#REF!<(TODAY()+365),1,\"X\")))","v":{"$error":"#REF!"}},{"$f":"IF(#REF!=\"\",\"\",\"X\")","v":{"$error":"#REF!"}}]
[null,null,null,null,null,null,null,null,null,null,null,null,null,null,{"$f":"IF(#REF!=\"\",\"\",IF(#REF!<TODAY(),0,IF(#REF!<(TODAY()+365),1,\"X\")))","v":{"$error":"#REF!"}},{"$f":"IF(#REF!=\"\",\"\",\"X\")","v":{"$error":"#REF!"}}]
[null,null,null,null,null,null,null,null,null,null,null,null,null,null,{"$f":"IF(#REF!=\"\",\"\",IF(#REF!<TODAY(),0,IF(#REF!<(TODAY()+365),1,\"X\")))","v":{"$error":"#REF!"}},{"$f":"IF(#REF!=\"\",\"\",\"X\")","v":{"$error":"#REF!"}}]
[null,null,null,null,null,null,null,null,null,null,null,null,null,null,{"$f":"IF(#REF!=\"\",\"\",IF(#REF!<TODAY(),0,IF(#REF!<(TODAY()+365),1,\"X\")))","v":{"$error":"#REF!"}},{"$f":"IF(#REF!=\"\",\"\",\"X\")","v":{"$error":"#REF!"}}]
[null,null,null,null,null,null,null,null,null,null,null,null,null,null,{"$f":"IF(#REF!=\"\",\"\",IF(#REF!<TODAY(),0,IF(#REF!<(TODAY()+365),1,\"X\")))","v":{"$error":"#REF!"}},{"$f":"IF(#REF!=\"\",\"\",\"X\")","v":{"$error":"#REF!"}}]
[null,null,null,null,null,null,null,null,null,null,null,null,null,null,{"$f":"IF(#REF!=\"\",\"\",IF(#REF!<TODAY(),0,IF(#REF!<(TODAY()+365),1,\"X\")))","v":{"$error":"#REF!"}},{"$f":"IF(#REF!=\"\",\"\",\"X\")","v":{"$error":"#REF!"}}]
[null,null,null,null,null,null,null,null,null,null,null,null,null,null,{"$f":"IF(#REF!=\"\",\"\",IF(#REF!<TODAY(),0,IF(#REF!<(TODAY()+365),1,\"X\")))","v":{"$error":"#REF!"}},{"$f":"IF(#REF!=\"\",\"\",\"X\")","v":{"$error":"#REF!"}}]
[null,null,null,null,null,null,null,null,null,null,null,null,null,null,{"$f":"IF(#REF!=\"\",\"\",IF(#REF!<TODAY(),0,IF(#REF!<(TODAY()+365),1,\"X\")))","v":{"$error":"#REF!"}},{"$f":"IF(#REF!=\"\",\"\",\"X\")","v":{"$error":"#REF!"}}]
[null,null,null,null,null,null,null,null,null,null,null,null,null,null,{"$f":"IF(#REF!=\"\",\"\",IF(#REF!<TODAY(),0,IF(#REF!<(TODAY()+365),1,\"X\")))","v":{"$error":"#REF!"}},{"$f":"IF(#REF!=\"\",\"\",\"X\")","v":{"$error":"#REF!"}}]
[null,null,null,null,null,null,null,null,null,null,null,null,null,null,{"$f":"IF(#REF!=\"\",\"\",IF(#REF!<TODAY(),0,IF(#REF!<(TODAY()+365),1,\"X\")))","v":{"$error":"#REF!"}},{"$f":"IF(#REF!=\"\",\"\",\"X\")","v":{"$error":"#REF!"}}]
[null,null,null,null,null,null,null,null,null,null,null,null,null,null,{"$f":"IF(#REF!=\"\",\"\",IF(#REF!<TODAY(),0,IF(#REF!<(TODAY()+365),1,\"X\")))","v":{"$error":"#REF!"}},{"$f":"IF(#REF!=\"\",\"\",\"X\")","v":{"$error":"#REF!"}}]
[null,null,null,null,null,null,null,null,null,null,null,null,null,null,{"$f":"IF(#REF!=\"\",\"\",IF(#REF!<TODAY(),0,IF(#REF!<(TODAY()+365),1,\"X\")))","v":{"$error":"#REF!"}},{"$f":"IF(#REF!=\"\",\"\",\"X\")","v":{"$error":"#REF!"}}]
[null,null,null,null,null,null,null,null,null,null,null,null,null,null,{"$f":"IF(#REF!=\"\",\"\",IF(#REF!<TODAY(),0,IF(#REF!<(TODAY()+365),1,\"X\")))","v":{"$error":"#REF!"}},{"$f":"IF(#REF!=\"\",\"\",\"X\")","v":{"$error":"#REF!"}}]
[null,null,null,null,null,null,null,null,null,null,null,null,null,null,{"$f":"IF(#REF!=\"\",\"\",IF(#REF!<TODAY(),0,IF(#REF!<(TODAY()+365),1,\"X\")))","v":{"$error":"#REF!"}},{"$f":"IF(#REF!=\"\",\"\",\"X\")","v":{"$error":"#REF!"}}]
[null,null,null,null,null,null,null,null,null,null,null,null,null,null,{"$f":"IF(#REF!=\"\",\"\",IF(#REF!<TODAY(),0,IF(#REF!<(TODAY()+365),1,\"X\")))","v":{"$error":"#REF!"}},{"$f":"IF(#REF!=\"\",\"\",\"X\")","v":{"$error":"#REF!"}}]
[null,null,null,null,null,null,null,null,null,null,null,null,null,null,{"$f":"IF(#REF!=\"\",\"\",IF(#REF!<TODAY(),0,IF(#REF!<(TODAY()+365),1,\"X\")))","v":{"$error":"#REF!"}},{"$f":"IF(#REF!=\"\",\"\",\"X\")","v":{"$error":"#REF!"}}]
[null,null,null,null,null,null,null,null,null,null,null,null,null,null,{"$f":"IF(#REF!=\"\",\"\",IF(#REF!<TODAY(),0,IF(#REF!<(TODAY()+365),1,\"X\")))","v":{"$error":"#REF!"}},{"$f":"IF(#REF!=\"\",\"\",\"X\")","v":{"$error":"#REF!"}}]
[null,null,null,null,null,null,null,null,null,null,null,null,null,null,{"$f":"IF(#REF!=\"\",\"\",IF(#REF!<TODAY(),0,IF(#REF!<(TODAY()+365),1,\"X\")))","v":{"$error":"#REF!"}},{"$f":"IF(#REF!=\"\",\"\",\"X\")","v":{"$error":"#REF!"}}]
[null,null,null,null,null,null,null,null,null,null,null,null,null,null,{"$f":"IF(#REF!=\"\",\"\",IF(#REF!<TODAY(),0,IF(#REF!<(TODAY()+365),1,\"X\")))","v":{"$error":"#REF!"}},{"$f":"IF(#REF!=\"\",\"\",\"X\")","v":{"$error":"#REF!"}}]
[null,null,null,null,null,null,null,null,null,null,null,null,null,null,{"$f":"IF(#REF!=\"\",\"\",IF(#REF!<TODAY(),0,IF(#REF!<(TODAY()+365),1,\"X\")))","v":{"$error":"#REF!"}},{"$f":"IF(#REF!=\"\",\"\",\"X\")","v":{"$error":"#REF!"}}]
[null,null,null,null,null,null,null,null,null,null,null,null,null,null,{"$f":"IF(#REF!=\"\",\"\",IF(#REF!<TODAY(),0,IF(#REF!<(TODAY()+365),1,\"X\")))","v":{"$error":"#REF!"}},{"$f":"IF(#REF!=\"\",\"\",\"X\")","v":{"$error":"#REF!"}}]
[null,null,null,null,null,null,null,null,null,null,null,null,null,null,{"$f":"IF(#REF!=\"\",\"\",IF(#REF!<TODAY(),0,IF(#REF!<(TODAY()+365),1,\"X\")))","v":{"$error":"#REF!"}},{"$f":"IF(#REF!=\"\",\"\",\"X\")","v":{"$error":"#REF!"}}]
[null,null,null,null,null,null,null,null,null,null,null,null,null,null,{"$f":"IF(#REF!=\"\",\"\",IF(#REF!<TODAY(),0,IF(#REF!<(TODAY()+365),1,\"X\")))","v":{"$error":"#REF!"}},{"$f":"IF(#REF!=\"\",\"\",\"X\")","v":{"$error":"#REF!"}}]
[null,null,null,null,null,null,null,null,null,null,null,null,null,null,{"$f":"IF(#REF!=\"\",\"\",IF(#REF!<TODAY(),0,IF(#REF!<(TODAY()+365),1,\"X\")))","v":{"$error":"#REF!"}},{"$f":"IF(#REF!=\"\",\"\",\"X\")","v":{"$error":"#REF!"}}]
[null,null,null,null,null,null,null,null,null,null,null,null,null,null,{"$f":"IF(#REF!=\"\",\"\",IF(#REF!<TODAY(),0,IF(#REF!<(TODAY()+365),1,\"X\")))","v":{"$error":"#REF!"}},{"$f":"IF(#REF!=\"\",\"\",\"X\")","v":{"$error":"#REF!"}}]
[null,null,null,null,null,null,null,null,null,null,null,null,null,null,{"$f":"IF(#REF!=\"\",\"\",IF(#REF!<TODAY(),0,IF(#REF!<(TODAY()+365),1,\"X\")))","v":{"$error":"#REF!"}},{"$f":"IF(#REF!=\"\",\"\",\"X\")","v":{"$error":"#REF!"}}]
[null,null,null,null,null,null,null,null,null,null,null,null,null,null,{"$f":"IF(#REF!=\"\",\"\",IF(#REF!<TODAY(),0,IF(#REF!<(TODAY()+365),1,\"X\")))","v":{"$error":"#REF!"}},{"$f":"IF(#REF!=\"\",\"\",\"X\")","v":{"$error":"#REF!"}}]
[null,null,null,null,null,null,null,null,null,null,null,null,null,null,{"$f":"IF(#REF!=\"\",\"\",IF(#REF!<TODAY(),0,IF(#REF!<(TODAY()+365),1,\"X\")))","v":{"$error":"#REF!"}},{"$f":"IF(#REF!=\"\",\"\",\"X\")","v":{"$error":"#REF!"}}]
[null,null,null,null,null,null,null,null,null,null,null,null,null,null,{"$f":"IF(#REF!=\"\",\"\",IF(#REF!<TODAY(),0,IF(#REF!<(TODAY()+365),1,\"X\")))","v":{"$error":"#REF!"}},{"$f":"IF(#REF!=\"\",\"\",\"X\")","v":{"$error":"#REF!"}}]
[null,null,null,null,null,null,null,null,null,null,null,null,null,null,{"$f":"IF(#REF!=\"\",\"\",IF(#REF!<TODAY(),0,IF(#REF!<(TODAY()+365),1,\"X\")))","v":{"$error":"#REF!"}},{"$f":"IF(#REF!=\"\",\"\",\"X\")","v":{"$error":"#REF!"}}]
[null,null,null,null,null,null,null,null,null,null,null,null,null,null,{"$f":"IF(#REF!=\"\",\"\",IF(#REF!<TODAY(),0,IF(#REF!<(TODAY()+365),1,\"X\")))","v":{"$error":"#REF!"}},{"$f":"IF(#REF!=\"\",\"\",\"X\")","v":{"$error":"#REF!"}}]
[null,null,null,null,null,null,null,null,null,null,null,null,null,null,{"$f":"IF(#REF!=\"\",\"\",IF(#REF!<TODAY(),0,IF(#REF!<(TODAY()+365),1,\"X\")))","v":{"$error":"#REF!"}},{"$f":"IF(#REF!=\"\",\"\",\"X\")","v":{"$error":"#REF!"}}]
[null,null,null,null,null,null,null,null,null,null,null,null,null,null,{"$f":"IF(#REF!=\"\",\"\",IF(#REF!<TODAY(),0,IF(#REF!<(TODAY()+365),1,\"X\")))","v":{"$error":"#REF!"}},{"$f":"IF(#REF!=\"\",\"\",\"X\")","v":{"$error":"#REF!"}}]
[null,null,null,null,null,null,null,null,null,null,null,null,null,null,{"$f":"IF(#REF!=\"\",\"\",IF(#REF!<TODAY(),0,IF(#REF!<(TODAY()+365),1,\"X\")))","v":{"$error":"#REF!"}},{"$f":"IF(#REF!=\"\",\"\",\"X\")","v":{"$error":"#REF!"}}]
[null,null,null,null,null,null,null,null,null,null,null,null,null,null,{"$f":"IF(#REF!=\"\",\"\",IF(#REF!<TODAY(),0,IF(#REF!<(TODAY()+365),1,\"X\")))","v":{"$error":"#REF!"}},{"$f":"IF(#REF!=\"\",\"\",\"X\")","v":{"$error":"#REF!"}}]
[null,null,null,null,null,null,null,null,null,null,null,null,null,null,{"$f":"IF(#REF!=\"\",\"\",IF(#REF!<TODAY(),0,IF(#REF!<(TODAY()+365),1,\"X\")))","v":{"$error":"#REF!"}},{"$f":"IF(#REF!=\"\",\"\",\"X\")","v":{"$error":"#REF!"}}]
[null,null,null,null,null,null,null,null,null,null,null,null,null,null,{"$f":"IF(#REF!=\"\",\"\",IF(#REF!<TODAY(),0,IF(#REF!<(TODAY()+365),1,\"X\")))","v":{"$error":"#REF!"}},{"$f":"IF(#REF!=\"\",\"\",\"X\")","v":{"$error":"#REF!"}}]
[null,null,null,null,null,null,null,null,null,null,null,null,null,null,{"$f":"IF(#REF!=\"\",\"\",IF(#REF!<TODAY(),0,IF(#REF!<(TODAY()+365),1,\"X\")))","v":{"$error":"#REF!"}},{"$f":"IF(#REF!=\"\",\"\",\"X\")","v":{"$error":"#REF!"}}]
[null,null,null,null,null,null,null,null,null,null,null,null,null,null,{"$f":"IF(#REF!=\"\",\"\",IF(#REF!<TODAY(),0,IF(#REF!<(TODAY()+365),1,\"X\")))","v":{"$error":"#REF!"}},{"$f":"IF(#REF!=\"\",\"\",\"X\")","v":{"$error":"#REF!"}}]
[null,null,null,null,null,null,null,null,null,null,null,null,null,null,{"$f":"IF(#REF!=\"\",\"\",IF(#REF!<TODAY(),0,IF(#REF!<(TODAY()+365),1,\"X\")))","v":{"$error":"#REF!"}},{"$f":"IF(#REF!=\"\",\"\",\"X\")","v":{"$error":"#REF!"}}]
[null,null,null,null,null,null,null,null,null,null,null,null,null,null,{"$f":"IF(#REF!=\"\",\"\",IF(#REF!<TODAY(),0,IF(#REF!<(TODAY()+365),1,\"X\")))","v":{"$error":"#REF!"}},{"$f":"IF(#REF!=\"\",\"\",\"X\")","v":{"$error":"#REF!"}}]
[null,null,null,null,null,null,null,null,null,null,null,null,null,null,{"$f":"IF(#REF!=\"\",\"\",IF(#REF!<TODAY(),0,IF(#REF!<(TODAY()+365),1,\"X\")))","v":{"$error":"#REF!"}},{"$f":"IF(#REF!=\"\",\"\",\"X\")","v":{"$error":"#REF!"}}]
[null,null,null,null,null,null,null,null,null,null,null,null,null,null,{"$f":"IF(#REF!=\"\",\"\",IF(#REF!<TODAY(),0,IF(#REF!<(TODAY()+365),1,\"X\")))","v":{"$error":"#REF!"}},{"$f":"IF(#REF!=\"\",\"\",\"X\")","v":{"$error":"#REF!"}}]
[null,null,null,null,null,null,null,null,null,null,null,null,null,null,{"$f":"IF(#REF!=\"\",\"\",IF(#REF!<TODAY(),0,IF(#REF!<(TODAY()+365),1,\"X\")))","v":{"$error":"#REF!"}},{"$f":"IF(#REF!=\"\",\"\",\"X\")","v":{"$error":"#REF!"}}]
[null,null,null,null,null,null,null,null,null,null,null,null,null,null,{"$f":"IF(#REF!=\"\",\"\",IF(#REF!<TODAY(),0,IF(#REF!<(TODAY()+365),1,\"X\")))","v":{"$error":"#REF!"}},{"$f":"IF(#REF!=\"\",\"\",\"X\")","v":{"$error":"#REF!"}}]
[null,null,null,null,null,null,null,null,null,null,null,null,null,null,{"$f":"IF(#REF!=\"\",\"\",IF(#REF!<TODAY(),0,IF(#REF!<(TODAY()+365),1,\"X\")))","v":{"$error":"#REF!"}},{"$f":"IF(#REF!=\"\",\"\",\"X\")","v":{"$error":"#REF!"}}]
[null,null,null,null,null,null,null,null,null,null,null,null,null,null,{"$f":"IF(#REF!=\"\",\"\",IF(#REF!<TODAY(),0,IF(#REF!<(TODAY()+365),1,\"X\")))","v":{"$error":"#REF!"}},{"$f":"IF(#REF!=\"\",\"\",\"X\")","v":{"$error":"#REF!"}}]
[null,null,null,null,null,null,null,null,null,null,null,null,null,null,{"$f":"IF(#REF!=\"\",\"\",IF(#REF!<TODAY(),0,IF(#REF!<(TODAY()+365),1,\"X\")))","v":{"$error":"#REF!"}},{"$f":"IF(#REF!=\"\",\"\",\"X\")","v":{"$error":"#REF!"}}]
[null,null,null,null,null,null,null,null,null,null,null,null,null,null,{"$f":"IF(#REF!=\"\",\"\",IF(#REF!<TODAY(),0,IF(#REF!<(TODAY()+365),1,\"X\")))","v":{"$error":"#REF!"}},{"$f":"IF(#REF!=\"\",\"\",\"X\")","v":{"$error":"#REF!"}}]
[null,null,null,null,null,null,null,null,null,null,null,null,null,null,{"$f":"IF(#REF!=\"\",\"\",IF(#REF!<TODAY(),0,IF(#REF!<(TODAY()+365),1,\"X\")))","v":{"$error":"#REF!"}},{"$f":"IF(#REF!=\"\",\"\",\"X\")","v":{"$error":"#REF!"}}]
[null,null,null,null,null,null,null,null,null,null,null,null,null,null,{"$f":"IF(#REF!=\"\",\"\",IF(#REF!<TODAY(),0,IF(#REF!<(TODAY()+365),1,\"X\")))","v":{"$error":"#REF!"}},{"$f":"IF(#REF!=\"\",\"\",\"X\")","v":{"$error":"#REF!"}}]
[null,null,null,null,null,null,null,null,null,null,null,null,null,null,{"$f":"IF(#REF!=\"\",\"\",IF(#REF!<TODAY(),0,IF(#REF!<(TODAY()+365),1,\"X\")))","v":{"$error":"#REF!"}},{"$f":"IF(#REF!=\"\",\"\",\"X\")","v":{"$error":"#REF!"}}]
[null,null,null,null,null,null,null,null,null,null,null,null,null,null,{"$f":"IF(#REF!=\"\",\"\",IF(#REF!<TODAY(),0,IF(#REF!<(TODAY()+365),1,\"X\")))","v":{"$error":"#REF!"}},{"$f":"IF(#REF!=\"\",\"\",\"X\")","v":{"$error":"#REF!"}}]
[null,null,null,null,null,null,null,null,null,null,null,null,null,null,{"$f":"IF(#REF!=\"\",\"\",IF(#REF!<TODAY(),0,IF(#REF!<(TODAY()+365),1,\"X\")))","v":{"$error":"#REF!"}},{"$f":"IF(#REF!=\"\",\"\",\"X\")","v":{"$error":"#REF!"}}]
[null,null,null,null,null,null,null,null,null,null,null,null,null,null,{"$f":"IF(#REF!=\"\",\"\",IF(#REF!<TODAY(),0,IF(#REF!<(TODAY()+365),1,\"X\")))","v":{"$error":"#REF!"}},{"$f":"IF(#REF!=\"\",\"\",\"X\")","v":{"$error":"#REF!"}}]
[null,null,null,null,null,null,null,null,null,null,null,null,null,null,{"$f":"IF(#REF!=\"\",\"\",IF(#REF!<TODAY(),0,IF(#REF!<(TODAY()+365),1,\"X\")))","v":{"$error":"#REF!"}},{"$f":"IF(#REF!=\"\",\"\",\"X\")","v":{"$error":"#REF!"}}]
[null,null,null,null,null,null,null,null,null,null,null,null,null,null,{"$f":"IF(#REF!=\"\",\"\",IF(#REF!<TODAY(),0,IF(#REF!<(TODAY()+365),1,\"X\")))","v":{"$error":"#REF!"}},{"$f":"IF(#REF!=\"\",\"\",\"X\")","v":{"$error":"#REF!"}}]
[null,null,null,null,null,null,null,null,null,null,null,null,null,null,{"$f":"IF(#REF!=\"\",\"\",IF(#REF!<TODAY(),0,IF(#REF!<(TODAY()+365),1,\"X\")))","v":{"$error":"#REF!"}},{"$f":"IF(#REF!=\"\",\"\",\"X\")","v":{"$error":"#REF!"}}]
[null,null,null,null,null,null,null,null,null,null,null,null,null,null,{"$f":"IF(#REF!=\"\",\"\",IF(#REF!<TODAY(),0,IF(#REF!<(TODAY()+365),1,\"X\")))","v":{"$error":"#REF!"}},{"$f":"IF(#REF!=\"\",\"\",\"X\")","v":{"$error":"#REF!"}}]
[null,null,null,null,null,null,null,null,null,null,null,null,null,null,{"$f":"IF(#REF!=\"\",\"\",IF(#REF!<TODAY(),0,IF(#REF!<(TODAY()+365),1,\"X\")))","v":{"$error":"#REF!"}},{"$f":"IF(#REF!=\"\",\"\",\"X\")","v":{"$error":"#REF!"}}]
[null,null,null,null,null,null,null,null,null,null,null,null,null,null,{"$f":"IF(#REF!=\"\",\"\",IF(#REF!<TODAY(),0,IF(#REF!<(TODAY()+365),1,\"X\")))","v":{"$error":"#REF!"}},{"$f":"IF(#REF!=\"\",\"\",\"X\")","v":{"$error":"#REF!"}}]
[null,null,null,null,null,null,null,null,null,null,null,null,null,null,{"$f":"IF(#REF!=\"\",\"\",IF(#REF!<TODAY(),0,IF(#REF!<(TODAY()+365),1,\"X\")))","v":{"$error":"#REF!"}},{"$f":"IF(#REF!=\"\",\"\",\"X\")","v":{"$error":"#REF!"}}]
[null,null,null,null,null,null,null,null,null,null,null,null,null,null,{"$f":"IF(#REF!=\"\",\"\",IF(#REF!<TODAY(),0,IF(#REF!<(TODAY()+365),1,\"X\")))","v":{"$error":"#REF!"}},{"$f":"IF(#REF!=\"\",\"\",\"X\")","v":{"$error":"#REF!"}}]
[null,null,null,null,null,null,null,null,null,null,null,null,null,null,{"$f":"IF(#REF!=\"\",\"\",IF(#REF!<TODAY(),0,IF(#REF!<(TODAY()+365),1,\"X\")))","v":{"$error":"#REF!"}},{"$f":"IF(#REF!=\"\",\"\",\"X\")","v":{"$error":"#REF!"}}]
[null,null,null,null,null,null,null,null,null,null,null,null,null,null,{"$f":"IF(#REF!=\"\",\"\",IF(#REF!<TODAY(),0,IF(#REF!<(TODAY()+365),1,\"X\")))","v":{"$error":"#REF!"}},{"$f":"IF(#REF!=\"\",\"\",\"X\")","v":{"$error":"#REF!"}}]
[null,null,null,null,null,null,null,null,null,null,null,null,null,null,{"$f":"IF(#REF!=\"\",\"\",IF(#REF!<TODAY(),0,IF(#REF!<(TODAY()+365),1,\"X\")))","v":{"$error":"#REF!"}},{"$f":"IF(#REF!=\"\",\"\",\"X\")","v":{"$error":"#REF!"}}]
[null,null,null,null,null,null,null,null,null,null,null,null,null,null,{"$f":"IF(#REF!=\"\",\"\",IF(#REF!<TODAY(),0,IF(#REF!<(TODAY()+365),1,\"X\")))","v":{"$error":"#REF!"}},{"$f":"IF(#REF!=\"\",\"\",\"X\")","v":{"$error":"#REF!"}}]
[null,null,null,null,null,null,null,null,null,null,null,null,null,null,{"$f":"IF(#REF!=\"\",\"\",IF(#REF!<TODAY(),0,IF(#REF!<(TODAY()+365),1,\"X\")))","v":{"$error":"#REF!"}},{"$f":"IF(#REF!=\"\",\"\",\"X\")","v":{"$error":"#REF!"}}]
[null,null,null,null,null,null,null,null,null,null,null,null,null,null,{"$f":"IF(#REF!=\"\",\"\",IF(#REF!<TODAY(),0,IF(#REF!<(TODAY()+365),1,\"X\")))","v":{"$error":"#REF!"}},{"$f":"IF(#REF!=\"\",\"\",\"X\")","v":{"$error":"#REF!"}}]
[null,null,null,null,null,null,null,null,null,null,null,null,null,null,{"$f":"IF(#REF!=\"\",\"\",IF(#REF!<TODAY(),0,IF(#REF!<(TODAY()+365),1,\"X\")))","v":{"$error":"#REF!"}},{"$f":"IF(#REF!=\"\",\"\",\"X\")","v":{"$error":"#REF!"}}]
[null,null,null,null,null,null,null,null,null,null,null,null,null,null,{"$f":"IF(#REF!=\"\",\"\",IF(#REF!<TODAY(),0,IF(#REF!<(TODAY()+365),1,\"X\")))","v":{"$error":"#REF!"}},{"$f":"IF(#REF!=\"\",\"\",\"X\")","v":{"$error":"#REF!"}}]
[null,null,null,null,null,null,null,null,null,null,null,null,null,null,{"$f":"IF(#REF!=\"\",\"\",IF(#REF!<TODAY(),0,IF(#REF!<(TODAY()+365),1,\"X\")))","v":{"$error":"#REF!"}},{"$f":"IF(#REF!=\"\",\"\",\"X\")","v":{"$error":"#REF!"}}]
[null,null,null,null,null,null,null,null,null,null,null,null,null,null,{"$f":"IF(#REF!=\"\",\"\",IF(#REF!<TODAY(),0,IF(#REF!<(TODAY()+365),1,\"X\")))","v":{"$error":"#REF!"}},{"$f":"IF(#REF!=\"\",\"\",\"X\")","v":{"$error":"#REF!"}}]
[null,null,null,null,null,null,null,null,null,null,null,null,null,null,{"$f":"IF(#REF!=\"\",\"\",IF(#REF!<TODAY(),0,IF(#REF!<(TODAY()+365),1,\"X\")))","v":{"$error":"#REF!"}},{"$f":"IF(#REF!=\"\",\"\",\"X\")","v":{"$error":"#REF!"}}]
[null,null,null,null,null,null,null,null,null,null,null,null,null,null,{"$f":"IF(#REF!=\"\",\"\",IF(#REF!<TODAY(),0,IF(#REF!<(TODAY()+365),1,\"X\")))","v":{"$error":"#REF!"}},{"$f":"IF(#REF!=\"\",\"\",\"X\")","v":{"$error":"#REF!"}}]
[null,null,null,null,null,null,null,null,null,null,null,null,null,null,{"$f":"IF(#REF!=\"\",\"\",IF(#REF!<TODAY(),0,IF(#REF!<(TODAY()+365),1,\"X\")))","v":{"$error":"#REF!"}},{"$f":"IF(#REF!=\"\",\"\",\"X\")","v":{"$error":"#REF!"}}]
[null,null,null,null,null,null,null,null,null,null,null,null,null,null,{"$f":"IF(#REF!=\"\",\"\",IF(#REF!<TODAY(),0,IF(#REF!<(TODAY()+365),1,\"X\")))","v":{"$error":"#REF!"}},{"$f":"IF(#REF!=\"\",\"\",\"X\")","v":{"$error":"#REF!"}}]
[null,null,null,null,null,null,null,null,null,null,null,null,null,null,{"$f":"IF(#REF!=\"\",\"\",IF(#REF!<TODAY(),0,IF(#REF!<(TODAY()+365),1,\"X\")))","v":{"$error":"#REF!"}},{"$f":"IF(#REF!=\"\",\"\",\"X\")","v":{"$error":"#REF!"}}]
[null,null,null,null,null,null,null,null,null,null,null,null,null,null,{"$f":"IF(#REF!=\"\",\"\",IF(#REF!<TODAY(),0,IF(#REF!<(TODAY()+365),1,\"X\")))","v":{"$error":"#REF!"}},{"$f":"IF(#REF!=\"\",\"\",\"X\")","v":{"$error":"#REF!"}}]
[null,null,null,null,null,null,null,null,null,null,null,null,null,null,{"$f":"IF(#REF!=\"\",\"\",IF(#REF!<TODAY(),0,IF(#REF!<(TODAY()+365),1,\"X\")))","v":{"$error":"#REF!"}},{"$f":"IF(#REF!=\"\",\"\",\"X\")","v":{"$error":"#REF!"}}]
[null,null,null,null,null,null,null,null,null,null,null,null,null,null,{"$f":"IF(#REF!=\"\",\"\",IF(#REF!<TODAY(),0,IF(#REF!<(TODAY()+365),1,\"X\")))","v":{"$error":"#REF!"}},{"$f":"IF(#REF!=\"\",\"\",\"X\")","v":{"$error":"#REF!"}}]
[null,null,null,null,null,null,null,null,null,null,null,null,null,null,{"$f":"IF(#REF!=\"\",\"\",IF(#REF!<TODAY(),0,IF(#REF!<(TODAY()+365),1,\"X\")))","v":{"$error":"#REF!"}},{"$f":"IF(#REF!=\"\",\"\",\"X\")","v":{"$error":"#REF!"}}]
[null,null,null,null,null,null,null,null,null,null,null,null,null,null,{"$f":"IF(#REF!=\"\",\"\",IF(#REF!<TODAY(),0,IF(#REF!<(TODAY()+365),1,\"X\")))","v":{"$error":"#REF!"}},{"$f":"IF(#REF!=\"\",\"\",\"X\")","v":{"$error":"#REF!"}}]
[null,null,null,null,null,null,null,null,null,null,null,null,null,null,{"$f":"IF(#REF!=\"\",\"\",IF(#REF!<TODAY(),0,IF(#REF!<(TODAY()+365),1,\"X\")))","v":{"$error":"#REF!"}},{"$f":"IF(#REF!=\"\",\"\",\"X\")","v":{"$error":"#REF!"}}]
[null,null,null,null,null,null,null,null,null,null,null,null,null,null,{"$f":"IF(#REF!=\"\",\"\",IF(#REF!<TODAY(),0,IF(#REF!<(TODAY()+365),1,\"X\")))","v":{"$error":"#REF!"}},{"$f":"IF(#REF!=\"\",\"\",\"X\")","v":{"$error":"#REF!"}}]
[null,null,null,null,null,null,null,null,null,null,null,null,null,null,{"$f":"IF(#REF!=\"\",\"\",IF(#REF!<TODAY(),0,IF(#REF!<(TODAY()+365),1,\"X\")))","v":{"$error":"#REF!"}},{"$f":"IF(#REF!=\"\",\"\",\"X\")","v":{"$error":"#REF!"}}]
[null,null,null,null,null,null,null,null,null,null,null,null,null,null,{"$f":"IF(#REF!=\"\",\"\",IF(#REF!<TODAY(),0,IF(#REF!<(TODAY()+365),1,\"X\")))","v":{"$error":"#REF!"}},{"$f":"IF(#REF!=\"\",\"\",\"X\")","v":{"$error":"#REF!"}}]
[null,null,null,null,null,null,null,null,null,null,null,null,null,null,{"$f":"IF(#REF!=\"\",\"\",IF(#REF!<TODAY(),0,IF(#REF!<(TODAY()+365),1,\"X\")))","v":{"$error":"#REF!"}},{"$f":"IF(#REF!=\"\",\"\",\"X\")","v":{"$error":"#REF!"}}]
[null,null,null,null,null,null,null,null,null,null,null,null,null,null,{"$f":"IF(#REF!=\"\",\"\",IF(#REF!<TODAY(),0,IF(#REF!<(TODAY()+365),1,\"X\")))","v":{"$error":"#REF!"}},{"$f":"IF(#REF!=\"\",\"\",\"X\")","v":{"$error":"#REF!"}}]
[null,null,null,null,null,null,null,null,null,null,null,null,null,null,{"$f":"IF(#REF!=\"\",\"\",IF(#REF!<TODAY(),0,IF(#REF!<(TODAY()+365),1,\"X\")))","v":{"$error":"#REF!"}},{"$f":"IF(#REF!=\"\",\"\",\"X\")","v":{"$error":"#REF!"}}]
[null,null,null,null,null,null,null,null,null,null,null,null,null,null,{"$f":"IF(#REF!=\"\",\"\",IF(#REF!<TODAY(),0,IF(#REF!<(TODAY()+365),1,\"X\")))","v":{"$error":"#REF!"}},{"$f":"IF(#REF!=\"\",\"\",\"X\")","v":{"$error":"#REF!"}}]
[null,null,null,null,null,null,null,null,null,null,null,null,null,null,{"$f":"IF(#REF!=\"\",\"\",IF(#REF!<TODAY(),0,IF(#REF!<(TODAY()+365),1,\"X\")))","v":{"$error":"#REF!"}},{"$f":"IF(#REF!=\"\",\"\",\"X\")","v":{"$error":"#REF!"}}]
[null,null,null,null,null,null,null,null,null,null,null,null,null,null,{"$f":"IF(#REF!=\"\",\"\",IF(#REF!<TODAY(),0,IF(#REF!<(TODAY()+365),1,\"X\")))","v":{"$error":"#REF!"}},{"$f":"IF(#REF!=\"\",\"\",\"X\")","v":{"$error":"#REF!"}}]
[null,null,null,null,null,null,null,null,null,null,null,null,null,null,{"$f":"IF(#REF!=\"\",\"\",IF(#REF!<TODAY(),0,IF(#REF!<(TODAY()+365),1,\"X\")))","v":{"$error":"#REF!"}},{"$f":"IF(#REF!=\"\",\"\",\"X\")","v":{"$error":"#REF!"}}]
[null,null,null,null,null,null,null,null,null,null,null,null,null,null,{"$f":"IF(#REF!=\"\",\"\",IF(#REF!<TODAY(),0,IF(#REF!<(TODAY()+365),1,\"X\")))","v":{"$error":"#REF!"}},{"$f":"IF(#REF!=\"\",\"\",\"X\")","v":{"$error":"#REF!"}}]
[null,null,null,null,null,null,null,null,null,null,null,null,null,null,{"$f":"IF(#REF!=\"\",\"\",IF(#REF!<TODAY(),0,IF(#REF!<(TODAY()+365),1,\"X\")))","v":{"$error":"#REF!"}},{"$f":"IF(#REF!=\"\",\"\",\"X\")","v":{"$error":"#REF!"}}]
[null,null,null,null,null,null,null,null,null,null,null,null,null,null,{"$f":"IF(#REF!=\"\",\"\",IF(#REF!<TODAY(),0,IF(#REF!<(TODAY()+365),1,\"X\")))","v":{"$error":"#REF!"}},{"$f":"IF(#REF!=\"\",\"\",\"X\")","v":{"$error":"#REF!"}}]
[null,null,null,null,null,null,null,null,null,null,null,null,null,null,{"$f":"IF(#REF!=\"\",\"\",IF(#REF!<TODAY(),0,IF(#REF!<(TODAY()+365),1,\"X\")))","v":{"$error":"#REF!"}},{"$f":"IF(#REF!=\"\",\"\",\"X\")","v":{"$error":"#REF!"}}]
[null,null,null,null,null,null,null,null,null,null,null,null,null,null,{"$f":"IF(#REF!=\"\",\"\",IF(#REF!<TODAY(),0,IF(#REF!<(TODAY()+365),1,\"X\")))","v":{"$error":"#REF!"}},{"$f":"IF(#REF!=\"\",\"\",\"X\")","v":{"$error":"#REF!"}}]
[null,null,null,null,null,null,null,null,null,null,null,null,null,null,{"$f":"IF(#REF!=\"\",\"\",IF(#REF!<TODAY(),0,IF(#REF!<(TODAY()+365),1,\"X\")))","v":{"$error":"#REF!"}},{"$f":"IF(#REF!=\"\",\"\",\"X\")","v":{"$error":"#REF!"}}]
[null,null,null,null,null,null,null,null,null,null,null,null,null,null,{"$f":"IF(#REF!=\"\",\"\",IF(#REF!<TODAY(),0,IF(#REF!<(TODAY()+365),1,\"X\")))","v":{"$error":"#REF!"}},{"$f":"IF(#REF!=\"\",\"\",\"X\")","v":{"$error":"#REF!"}}]
[null,null,null,null,null,null,null,null,null,null,null,null,null,null,{"$f":"IF(#REF!=\"\",\"\",IF(#REF!<TODAY(),0,IF(#REF!<(TODAY()+365),1,\"X\")))","v":{"$error":"#REF!"}},{"$f":"IF(#REF!=\"\",\"\",\"X\")","v":{"$error":"#REF!"}}]
[null,null,null,null,null,null,null,null,null,null,null,null,null,null,{"$f":"IF(#REF!=\"\",\"\",IF(#REF!<TODAY(),0,IF(#REF!<(TODAY()+365),1,\"X\")))","v":{"$error":"#REF!"}},{"$f":"IF(#REF!=\"\",\"\",\"X\")","v":{"$error":"#REF!"}}]
[null,null,null,null,null,null,null,null,null,null,null,null,null,null,{"$f":"IF(#REF!=\"\",\"\",IF(#REF!<TODAY(),0,IF(#REF!<(TODAY()+365),1,\"X\")))","v":{"$error":"#REF!"}},{"$f":"IF(#REF!=\"\",\"\",\"X\")","v":{"$error":"#REF!"}}]
[null,null,null,null,null,null,null,null,null,null,null,null,null,null,{"$f":"IF(#REF!=\"\",\"\",IF(#REF!<TODAY(),0,IF(#REF!<(TODAY()+365),1,\"X\")))","v":{"$error":"#REF!"}},{"$f":"IF(#REF!=\"\",\"\",\"X\")","v":{"$error":"#REF!"}}]
[null,null,null,null,null,null,null,null,null,null,null,null,null,null,{"$f":"IF(#REF!=\"\",\"\",IF(#REF!<TODAY(),0,IF(#REF!<(TODAY()+365),1,\"X\")))","v":{"$error":"#REF!"}},{"$f":"IF(#REF!=\"\",\"\",\"X\")","v":{"$error":"#REF!"}}]
[null,null,null,null,null,null,null,null,null,null,null,null,null,null,{"$f":"IF(#REF!=\"\",\"\",IF(#REF!<TODAY(),0,IF(#REF!<(TODAY()+365),1,\"X\")))","v":{"$error":"#REF!"}},{"$f":"IF(#REF!=\"\",\"\",\"X\")","v":{"$error":"#REF!"}}]
[null,null,null,null,null,null,null,null,null,null,null,null,null,null,{"$f":"IF(#REF!=\"\",\"\",IF(#REF!<TODAY(),0,IF(#REF!<(TODAY()+365),1,\"X\")))","v":{"$error":"#REF!"}},{"$f":"IF(#REF!=\"\",\"\",\"X\")","v":{"$error":"#REF!"}}]
[null,null,null,null,null,null,null,null,null,null,null,null,null,null,{"$f":"IF(#REF!=\"\",\"\",IF(#REF!<TODAY(),0,IF(#REF!<(TODAY()+365),1,\"X\")))","v":{"$error":"#REF!"}},{"$f":"IF(#REF!=\"\",\"\",\"X\")","v":{"$error":"#REF!"}}]
[null,null,null,null,null,null,null,null,null,null,null,null,null,null,{"$f":"IF(#REF!=\"\",\"\",IF(#REF!<TODAY(),0,IF(#REF!<(TODAY()+365),1,\"X\")))","v":{"$error":"#REF!"}},{"$f":"IF(#REF!=\"\",\"\",\"X\")","v":{"$error":"#REF!"}}]
[null,null,null,null,null,null,null,null,null,null,null,null,null,null,{"$f":"IF(#REF!=\"\",\"\",IF(#REF!<TODAY(),0,IF(#REF!<(TODAY()+365),1,\"X\")))","v":{"$error":"#REF!"}},{"$f":"IF(#REF!=\"\",\"\",\"X\")","v":{"$error":"#REF!"}}]
[null,null,null,null,null,null,null,null,null,null,null,null,null,null,{"$f":"IF(#REF!=\"\",\"\",IF(#REF!<TODAY(),0,IF(#REF!<(TODAY()+365),1,\"X\")))","v":{"$error":"#REF!"}},{"$f":"IF(#REF!=\"\",\"\",\"X\")","v":{"$error":"#REF!"}}]
[null,null,null,null,null,null,null,null,null,null,null,null,null,null,{"$f":"IF(#REF!=\"\",\"\",IF(#REF!<TODAY(),0,IF(#REF!<(TODAY()+365),1,\"X\")))","v":{"$error":"#REF!"}},{"$f":"IF(#REF!=\"\",\"\",\"X\")","v":{"$error":"#REF!"}}]
[null,null,null,null,null,null,null,null,null,null,null,null,null,null,{"$f":"IF(#REF!=\"\",\"\",IF(#REF!<TODAY(),0,IF(#REF!<(TODAY()+365),1,\"X\")))","v":{"$error":"#REF!"}},{"$f":"IF(#REF!=\"\",\"\",\"X\")","v":{"$error":"#REF!"}}]
[null,null,null,null,null,null,null,null,null,null,null,null,null,null,{"$f":"IF(#REF!=\"\",\"\",IF(#REF!<TODAY(),0,IF(#REF!<(TODAY()+365),1,\"X\")))","v":{"$error":"#REF!"}},{"$f":"IF(#REF!=\"\",\"\",\"X\")","v":{"$error":"#REF!"}}]
[null,null,null,null,null,null,null,null,null,null,null,null,null,null,{"$f":"IF(#REF!=\"\",\"\",IF(#REF!<TODAY(),0,IF(#REF!<(TODAY()+365),1,\"X\")))","v":{"$error":"#REF!"}},{"$f":"IF(#REF!=\"\",\"\",\"X\")","v":{"$error":"#REF!"}}]
[null,null,null,null,null,null,null,null,null,null,null,null,null,null,{"$f":"IF(#REF!=\"\",\"\",IF(#REF!<TODAY(),0,IF(#REF!<(TODAY()+365),1,\"X\")))","v":{"$error":"#REF!"}},{"$f":"IF(#REF!=\"\",\"\",\"X\")","v":{"$error":"#REF!"}}]
[null,null,null,null,null,null,null,null,null,null,null,null,null,null,{"$f":"IF(#REF!=\"\",\"\",IF(#REF!<TODAY(),0,IF(#REF!<(TODAY()+365),1,\"X\")))","v":{"$error":"#REF!"}},{"$f":"IF(#REF!=\"\",\"\",\"X\")","v":{"$error":"#REF!"}}]
[null,null,null,null,null,null,null,null,null,null,null,null,null,null,{"$f":"IF(#REF!=\"\",\"\",IF(#REF!<TODAY(),0,IF(#REF!<(TODAY()+365),1,\"X\")))","v":{"$error":"#REF!"}},{"$f":"IF(#REF!=\"\",\"\",\"X\")","v":{"$error":"#REF!"}}]
[null,null,null,null,null,null,null,null,null,null,null,null,null,null,{"$f":"IF(#REF!=\"\",\"\",IF(#REF!<TODAY(),0,IF(#REF!<(TODAY()+365),1,\"X\")))","v":{"$error":"#REF!"}},{"$f":"IF(#REF!=\"\",\"\",\"X\")","v":{"$error":"#REF!"}}]
[null,null,null,null,null,null,null,null,null,null,null,null,null,null,{"$f":"IF(#REF!=\"\",\"\",IF(#REF!<TODAY(),0,IF(#REF!<(TODAY()+365),1,\"X\")))","v":{"$error":"#REF!"}},{"$f":"IF(#REF!=\"\",\"\",\"X\")","v":{"$error":"#REF!"}}]
[null,null,null,null,null,null,null,null,null,null,null,null,null,null,{"$f":"IF(#REF!=\"\",\"\",IF(#REF!<TODAY(),0,IF(#REF!<(TODAY()+365),1,\"X\")))","v":{"$error":"#REF!"}},{"$f":"IF(#REF!=\"\",\"\",\"X\")","v":{"$error":"#REF!"}}]
[null,null,null,null,null,null,null,null,null,null,null,null,null,null,{"$f":"IF(#REF!=\"\",\"\",IF(#REF!<TODAY(),0,IF(#REF!<(TODAY()+365),1,\"X\")))","v":{"$error":"#REF!"}},{"$f":"IF(#REF!=\"\",\"\",\"X\")","v":{"$error":"#REF!"}}]
[null,null,null,null,null,null,null,null,null,null,null,null,null,null,{"$f":"IF(#REF!=\"\",\"\",IF(#REF!<TODAY(),0,IF(#REF!<(TODAY()+365),1,\"X\")))","v":{"$error":"#REF!"}},{"$f":"IF(#REF!=\"\",\"\",\"X\")","v":{"$error":"#REF!"}}]
[null,null,null,null,null,null,null,null,null,null,null,null,null,null,{"$f":"IF(#REF!=\"\",\"\",IF(#REF!<TODAY(),0,IF(#REF!<(TODAY()+365),1,\"X\")))","v":{"$error":"#REF!"}},{"$f":"IF(#REF!=\"\",\"\",\"X\")","v":{"$error":"#REF!"}}]
[null,null,null,null,null,null,null,null,null,null,null,null,null,null,{"$f":"IF(#REF!=\"\",\"\",IF(#REF!<TODAY(),0,IF(#REF!<(TODAY()+365),1,\"X\")))","v":{"$error":"#REF!"}},{"$f":"IF(#REF!=\"\",\"\",\"X\")","v":{"$error":"#REF!"}}]
[null,null,null,null,null,null,null,null,null,null,null,null,null,null,{"$f":"IF(#REF!=\"\",\"\",IF(#REF!<TODAY(),0,IF(#REF!<(TODAY()+365),1,\"X\")))","v":{"$error":"#REF!"}},{"$f":"IF(#REF!=\"\",\"\",\"X\")","v":{"$error":"#REF!"}}]
[null,null,null,null,null,null,null,null,null,null,null,null,null,null,{"$f":"IF(#REF!=\"\",\"\",IF(#REF!<TODAY(),0,IF(#REF!<(TODAY()+365),1,\"X\")))","v":{"$error":"#REF!"}},{"$f":"IF(#REF!=\"\",\"\",\"X\")","v":{"$error":"#REF!"}}]
[null,null,null,null,null,null,null,null,null,null,null,null,null,null,{"$f":"IF(#REF!=\"\",\"\",IF(#REF!<TODAY(),0,IF(#REF!<(TODAY()+365),1,\"X\")))","v":{"$error":"#REF!"}},{"$f":"IF(#REF!=\"\",\"\",\"X\")","v":{"$error":"#REF!"}}]
[null,null,null,null,null,null,null,null,null,null,null,null,null,null,{"$f":"IF(#REF!=\"\",\"\",IF(#REF!<TODAY(),0,IF(#REF!<(TODAY()+365),1,\"X\")))","v":{"$error":"#REF!"}},{"$f":"IF(#REF!=\"\",\"\",\"X\")","v":{"$error":"#REF!"}}]
[null,null,null,null,null,null,null,null,null,null,null,null,null,null,{"$f":"IF(#REF!=\"\",\"\",IF(#REF!<TODAY(),0,IF(#REF!<(TODAY()+365),1,\"X\")))","v":{"$error":"#REF!"}},{"$f":"IF(#REF!=\"\",\"\",\"X\")","v":{"$error":"#REF!"}}]
[null,null,null,null,null,null,null,null,null,null,null,null,null,null,{"$f":"IF(#REF!=\"\",\"\",IF(#REF!<TODAY(),0,IF(#REF!<(TODAY()+365),1,\"X\")))","v":{"$error":"#REF!"}},{"$f":"IF(#REF!=\"\",\"\",\"X\")","v":{"$error":"#REF!"}}]
[null,null,null,null,null,null,null,null,null,null,null,null,null,null,{"$f":"IF(#REF!=\"\",\"\",IF(#REF!<TODAY(),0,IF(#REF!<(TODAY()+365),1,\"X\")))","v":{"$error":"#REF!"}},{"$f":"IF(#REF!=\"\",\"\",\"X\")","v":{"$error":"#REF!"}}]
[null,null,null,null,null,null,null,null,null,null,null,null,null,null,{"$f":"IF(#REF!=\"\",\"\",IF(#REF!<TODAY(),0,IF(#REF!<(TODAY()+365),1,\"X\")))","v":{"$error":"#REF!"}},{"$f":"IF(#REF!=\"\",\"\",\"X\")","v":{"$error":"#REF!"}}]
[null,null,null,null,null,null,null,null,null,null,null,null,null,null,{"$f":"IF(#REF!=\"\",\"\",IF(#REF!<TODAY(),0,IF(#REF!<(TODAY()+365),1,\"X\")))","v":{"$error":"#REF!"}},{"$f":"IF(#REF!=\"\",\"\",\"X\")","v":{"$error":"#REF!"}}]
[null,null,null,null,null,null,null,null,null,null,null,null,null,null,{"$f":"IF(#REF!=\"\",\"\",IF(#REF!<TODAY(),0,IF(#REF!<(TODAY()+365),1,\"X\")))","v":{"$error":"#REF!"}},{"$f":"IF(#REF!=\"\",\"\",\"X\")","v":{"$error":"#REF!"}}]
[null,null,null,null,null,null,null,null,null,null,null,null,null,null,{"$f":"IF(#REF!=\"\",\"\",IF(#REF!<TODAY(),0,IF(#REF!<(TODAY()+365),1,\"X\")))","v":{"$error":"#REF!"}},{"$f":"IF(#REF!=\"\",\"\",\"X\")","v":{"$error":"#REF!"}}]
[null,null,null,null,null,null,null,null,null,null,null,null,null,null,{"$f":"IF(#REF!=\"\",\"\",IF(#REF!<TODAY(),0,IF(#REF!<(TODAY()+365),1,\"X\")))","v":{"$error":"#REF!"}},{"$f":"IF(#REF!=\"\",\"\",\"X\")","v":{"$error":"#REF!"}}]
[null,null,null,null,null,null,null,null,null,null,null,null,null,null,{"$f":"IF(#REF!=\"\",\"\",IF(#REF!<TODAY(),0,IF(#REF!<(TODAY()+365),1,\"X\")))","v":{"$error":"#REF!"}},{"$f":"IF(#REF!=\"\",\"\",\"X\")","v":{"$error":"#REF!"}}]
[null,null,null,null,null,null,null,null,null,null,null,null,null,null,{"$f":"IF(#REF!=\"\",\"\",IF(#REF!<TODAY(),0,IF(#REF!<(TODAY()+365),1,\"X\")))","v":{"$error":"#REF!"}},{"$f":"IF(#REF!=\"\",\"\",\"X\")","v":{"$error":"#REF!"}}]
[null,null,null,null,null,null,null,null,null,null,null,null,null,null,{"$f":"IF(#REF!=\"\",\"\",IF(#REF!<TODAY(),0,IF(#REF!<(TODAY()+365),1,\"X\")))","v":{"$error":"#REF!"}},{"$f":"IF(#REF!=\"\",\"\",\"X\")","v":{"$error":"#REF!"}}]
[null,null,null,null,null,null,null,null,null,null,null,null,null,null,{"$f":"IF(#REF!=\"\",\"\",IF(#REF!<TODAY(),0,IF(#REF!<(TODAY()+365),1,\"X\")))","v":{"$error":"#REF!"}},{"$f":"IF(#REF!=\"\",\"\",\"X\")","v":{"$error":"#REF!"}}]
[null,null,null,null,null,null,null,null,null,null,null,null,null,null,{"$f":"IF(#REF!=\"\",\"\",IF(#REF!<TODAY(),0,IF(#REF!<(TODAY()+365),1,\"X\")))","v":{"$error":"#REF!"}},{"$f":"IF(#REF!=\"\",\"\",\"X\")","v":{"$error":"#REF!"}}]
[null,null,null,null,null,null,null,null,null,null,null,null,null,null,{"$f":"IF(#REF!=\"\",\"\",IF(#REF!<TODAY(),0,IF(#REF!<(TODAY()+365),1,\"X\")))","v":{"$error":"#REF!"}},{"$f":"IF(#REF!=\"\",\"\",\"X\")","v":{"$error":"#REF!"}}]
[null,null,null,null,null,null,null,null,null,null,null,null,null,null,{"$f":"IF(#REF!=\"\",\"\",IF(#REF!<TODAY(),0,IF(#REF!<(TODAY()+365),1,\"X\")))","v":{"$error":"#REF!"}},{"$f":"IF(#REF!=\"\",\"\",\"X\")","v":{"$error":"#REF!"}}]
[null,null,null,null,null,null,null,null,null,null,null,null,null,null,{"$f":"IF(#REF!=\"\",\"\",IF(#REF!<TODAY(),0,IF(#REF!<(TODAY()+365),1,\"X\")))","v":{"$error":"#REF!"}},{"$f":"IF(#REF!=\"\",\"\",\"X\")","v":{"$error":"#REF!"}}]
[null,null,null,null,null,null,null,null,null,null,null,null,null,null,{"$f":"IF(#REF!=\"\",\"\",IF(#REF!<TODAY(),0,IF(#REF!<(TODAY()+365),1,\"X\")))","v":{"$error":"#REF!"}},{"$f":"IF(#REF!=\"\",\"\",\"X\")","v":{"$error":"#REF!"}}]
[null,null,null,null,null,null,null,null,null,null,null,null,null,null,{"$f":"IF(#REF!=\"\",\"\",IF(#REF!<TODAY(),0,IF(#REF!<(TODAY()+365),1,\"X\")))","v":{"$error":"#REF!"}},{"$f":"IF(#REF!=\"\",\"\",\"X\")","v":{"$error":"#REF!"}}]
[null,null,null,null,null,null,null,null,null,null,null,null,null,null,{"$f":"IF(#REF!=\"\",\"\",IF(#REF!<TODAY(),0,IF(#REF!<(TODAY()+365),1,\"X\")))","v":{"$error":"#REF!"}},{"$f":"IF(#REF!=\"\",\"\",\"X\")","v":{"$error":"#REF!"}}]
[null,null,null,null,null,null,null,null,null,null,null,null,null,null,{"$f":"IF(#REF!=\"\",\"\",IF(#REF!<TODAY(),0,IF(#REF!<(TODAY()+365),1,\"X\")))","v":{"$error":"#REF!"}},{"$f":"IF(#REF!=\"\",\"\",\"X\")","v":{"$error":"#REF!"}}]
[null,null,null,null,null,null,null,null,null,null,null,null,null,null,{"$f":"IF(#REF!=\"\",\"\",IF(#REF!<TODAY(),0,IF(#REF!<(TODAY()+365),1,\"X\")))","v":{"$error":"#REF!"}},{"$f":"IF(#REF!=\"\",\"\",\"X\")","v":{"$error":"#REF!"}}]
[null,null,null,null,null,null,null,null,null,null,null,null,null,null,{"$f":"IF(#REF!=\"\",\"\",IF(#REF!<TODAY(),0,IF(#REF!<(TODAY()+365),1,\"X\")))","v":{"$error":"#REF!"}},{"$f":"IF(#REF!=\"\",\"\",\"X\")","v":{"$error":"#REF!"}}]
[null,null,null,null,null,null,null,null,null,null,null,null,null,null,{"$f":"IF(#REF!=\"\",\"\",IF(#REF!<TODAY(),0,IF(#REF!<(TODAY()+365),1,\"X\")))","v":{"$error":"#REF!"}},{"$f":"IF(#REF!=\"\",\"\",\"X\")","v":{"$error":"#REF!"}}]
[null,null,null,null,null,null,null,null,null,null,null,null,null,null,{"$f":"IF(#REF!=\"\",\"\",IF(#REF!<TODAY(),0,IF(#REF!<(TODAY()+365),1,\"X\")))","v":{"$error":"#REF!"}},{"$f":"IF(#REF!=\"\",\"\",\"X\")","v":{"$error":"#REF!"}}]
[null,null,null,null,null,null,null,null,null,null,null,null,null,null,{"$f":"IF(#REF!=\"\",\"\",IF(#REF!<TODAY(),0,IF(#REF!<(TODAY()+365),1,\"X\")))","v":{"$error":"#REF!"}},{"$f":"IF(#REF!=\"\",\"\",\"X\")","v":{"$error":"#REF!"}}]
[null,null,null,null,null,null,null,null,null,null,null,null,null,null,{"$f":"IF(#REF!=\"\",\"\",IF(#REF!<TODAY(),0,IF(#REF!<(TODAY()+365),1,\"X\")))","v":{"$error":"#REF!"}},{"$f":"IF(#REF!=\"\",\"\",\"X\")","v":{"$error":"#REF!"}}]
[null,null,null,null,null,null,null,null,null,null,null,null,null,null,{"$f":"IF(#REF!=\"\",\"\",IF(#REF!<TODAY(),0,IF(#REF!<(TODAY()+365),1,\"X\")))","v":{"$error":"#REF!"}},{"$f":"IF(#REF!=\"\",\"\",\"X\")","v":{"$error":"#REF!"}}]
[null,null,null,null,null,null,null,null,null,null,null,null,null,null,{"$f":"IF(#REF!=\"\",\"\",IF(#REF!<TODAY(),0,IF(#REF!<(TODAY()+365),1,\"X\")))","v":{"$error":"#REF!"}},{"$f":"IF(#REF!=\"\",\"\",\"X\")","v":{"$error":"#REF!"}}]
[null,null,null,null,null,null,null,null,null,null,null,null,null,null,{"$f":"IF(#REF!=\"\",\"\",IF(#REF!<TODAY(),0,IF(#REF!<(TODAY()+365),1,\"X\")))","v":{"$error":"#REF!"}},{"$f":"IF(#REF!=\"\",\"\",\"X\")","v":{"$error":"#REF!"}}]
[null,null,null,null,null,null,null,null,null,null,null,null,null,null,{"$f":"IF(#REF!=\"\",\"\",IF(#REF!<TODAY(),0,IF(#REF!<(TODAY()+365),1,\"X\")))","v":{"$error":"#REF!"}},{"$f":"IF(#REF!=\"\",\"\",\"X\")","v":{"$error":"#REF!"}}]
[null,null,null,null,null,null,null,null,null,null,null,null,null,null,{"$f":"IF(#REF!=\"\",\"\",IF(#REF!<TODAY(),0,IF(#REF!<(TODAY()+365),1,\"X\")))","v":{"$error":"#REF!"}},{"$f":"IF(#REF!=\"\",\"\",\"X\")","v":{"$error":"#REF!"}}]
[null,null,null,null,null,null,null,null,null,null,null,null,null,null,{"$f":"IF(#REF!=\"\",\"\",IF(#REF!<TODAY(),0,IF(#REF!<(TODAY()+365),1,\"X\")))","v":{"$error":"#REF!"}},{"$f":"IF(#REF!=\"\",\"\",\"X\")","v":{"$error":"#REF!"}}]
[null,null,null,null,null,null,null,null,null,null,null,null,null,null,{"$f":"IF(#REF!=\"\",\"\",IF(#REF!<TODAY(),0,IF(#REF!<(TODAY()+365),1,\"X\")))","v":{"$error":"#REF!"}},{"$f":"IF(#REF!=\"\",\"\",\"X\")","v":{"$error":"#REF!"}}]
[null,null,null,null,null,null,null,null,null,null,null,null,null,null,{"$f":"IF(#REF!=\"\",\"\",IF(#REF!<TODAY(),0,IF(#REF!<(TODAY()+365),1,\"X\")))","v":{"$error":"#REF!"}},{"$f":"IF(#REF!=\"\",\"\",\"X\")","v":{"$error":"#REF!"}}]
[null,null,null,null,null,null,null,null,null,null,null,null,null,null,{"$f":"IF(#REF!=\"\",\"\",IF(#REF!<TODAY(),0,IF(#REF!<(TODAY()+365),1,\"X\")))","v":{"$error":"#REF!"}},{"$f":"IF(#REF!=\"\",\"\",\"X\")","v":{"$error":"#REF!"}}]
[null,null,null,null,null,null,null,null,null,null,null,null,null,null,{"$f":"IF(#REF!=\"\",\"\",IF(#REF!<TODAY(),0,IF(#REF!<(TODAY()+365),1,\"X\")))","v":{"$error":"#REF!"}},{"$f":"IF(#REF!=\"\",\"\",\"X\")","v":{"$error":"#REF!"}}]
[null,null,null,null,null,null,null,null,null,null,null,null,null,null,{"$f":"IF(#REF!=\"\",\"\",IF(#REF!<TODAY(),0,IF(#REF!<(TODAY()+365),1,\"X\")))","v":{"$error":"#REF!"}},{"$f":"IF(#REF!=\"\",\"\",\"X\")","v":{"$error":"#REF!"}}]
[null,null,null,null,null,null,null,null,null,null,null,null,null,null,{"$f":"IF(#REF!=\"\",\"\",IF(#REF!<TODAY(),0,IF(#REF!<(TODAY()+365),1,\"X\")))","v":{"$error":"#REF!"}},{"$f":"IF(#REF!=\"\",\"\",\"X\")","v":{"$error":"#REF!"}}]
[null,null,null,null,null,null,null,null,null,null,null,null,null,null,{"$f":"IF(#REF!=\"\",\"\",IF(#REF!<TODAY(),0,IF(#REF!<(TODAY()+365),1,\"X\")))","v":{"$error":"#REF!"}},{"$f":"IF(#REF!=\"\",\"\",\"X\")","v":{"$error":"#REF!"}}]
[null,null,null,null,null,null,null,null,null,null,null,null,null,null,{"$f":"IF(#REF!=\"\",\"\",IF(#REF!<TODAY(),0,IF(#REF!<(TODAY()+365),1,\"X\")))","v":{"$error":"#REF!"}},{"$f":"IF(#REF!=\"\",\"\",\"X\")","v":{"$error":"#REF!"}}]
[null,null,null,null,null,null,null,null,null,null,null,null,null,null,{"$f":"IF(#REF!=\"\",\"\",IF(#REF!<TODAY(),0,IF(#REF!<(TODAY()+365),1,\"X\")))","v":{"$error":"#REF!"}},{"$f":"IF(#REF!=\"\",\"\",\"X\")","v":{"$error":"#REF!"}}]
[null,null,null,null,null,null,null,null,null,null,null,null,null,null,{"$f":"IF(#REF!=\"\",\"\",IF(#REF!<TODAY(),0,IF(#REF!<(TODAY()+365),1,\"X\")))","v":{"$error":"#REF!"}},{"$f":"IF(#REF!=\"\",\"\",\"X\")","v":{"$error":"#REF!"}}]
[null,null,null,null,null,null,null,null,null,null,null,null,null,null,{"$f":"IF(#REF!=\"\",\"\",IF(#REF!<TODAY(),0,IF(#REF!<(TODAY()+365),1,\"X\")))","v":{"$error":"#REF!"}},{"$f":"IF(#REF!=\"\",\"\",\"X\")","v":{"$error":"#REF!"}}]
[null,null,null,null,null,null,null,null,null,null,null,null,null,null,{"$f":"IF(#REF!=\"\",\"\",IF(#REF!<TODAY(),0,IF(#REF!<(TODAY()+365),1,\"X\")))","v":{"$error":"#REF!"}},{"$f":"IF(#REF!=\"\",\"\",\"X\")","v":{"$error":"#REF!"}}]
[null,null,null,null,null,null,null,null,null,null,null,null,null,null,{"$f":"IF(#REF!=\"\",\"\",IF(#REF!<TODAY(),0,IF(#REF!<(TODAY()+365),1,\"X\")))","v":{"$error":"#REF!"}},{"$f":"IF(#REF!=\"\",\"\",\"X\")","v":{"$error":"#REF!"}}]
[null,null,null,null,null,null,null,null,null,null,null,null,null,null,{"$f":"IF(#REF!=\"\",\"\",IF(#REF!<TODAY(),0,IF(#REF!<(TODAY()+365),1,\"X\")))","v":{"$error":"#REF!"}},{"$f":"IF(#REF!=\"\",\"\",\"X\")","v":{"$error":"#REF!"}}]
[null,null,null,null,null,null,null,null,null,null,null,null,null,null,{"$f":"IF(#REF!=\"\",\"\",IF(#REF!<TODAY(),0,IF(#REF!<(TODAY()+365),1,\"X\")))","v":{"$error":"#REF!"}},{"$f":"IF(#REF!=\"\",\"\",\"X\")","v":{"$error":"#REF!"}}]
[null,null,null,null,null,null,null,null,null,null,null,null,null,null,{"$f":"IF(#REF!=\"\",\"\",IF(#REF!<TODAY(),0,IF(#REF!<(TODAY()+365),1,\"X\")))","v":{"$error":"#REF!"}},{"$f":"IF(#REF!=\"\",\"\",\"X\")","v":{"$error":"#REF!"}}]
[null,null,null,null,null,null,null,null,null,null,null,null,null,null,{"$f":"IF(#REF!=\"\",\"\",IF(#REF!<TODAY(),0,IF(#REF!<(TODAY()+365),1,\"X\")))","v":{"$error":"#REF!"}},{"$f":"IF(#REF!=\"\",\"\",\"X\")","v":{"$error":"#REF!"}}]
[null,null,null,null,null,null,null,null,null,null,null,null,null,null,{"$f":"IF(#REF!=\"\",\"\",IF(#REF!<TODAY(),0,IF(#REF!<(TODAY()+365),1,\"X\")))","v":{"$error":"#REF!"}},{"$f":"IF(#REF!=\"\",\"\",\"X\")","v":{"$error":"#REF!"}}]
[null,null,null,null,null,null,null,null,null,null,null,null,null,null,{"$f":"IF(#REF!=\"\",\"\",IF(#REF!<TODAY(),0,IF(#REF!<(TODAY()+365),1,\"X\")))","v":{"$error":"#REF!"}},{"$f":"IF(#REF!=\"\",\"\",\"X\")","v":{"$error":"#REF!"}}]
[null,null,null,null,null,null,null,null,null,null,null,null,null,null,{"$f":"IF(#REF!=\"\",\"\",IF(#REF!<TODAY(),0,IF(#REF!<(TODAY()+365),1,\"X\")))","v":{"$error":"#REF!"}},{"$f":"IF(#REF!=\"\",\"\",\"X\")","v":{"$error":"#REF!"}}]
[null,null,null,null,null,null,null,null,null,null,null,null,null,null,{"$f":"IF(#REF!=\"\",\"\",IF(#REF!<TODAY(),0,IF(#REF!<(TODAY()+365),1,\"X\")))","v":{"$error":"#REF!"}},{"$f":"IF(#REF!=\"\",\"\",\"X\")","v":{"$error":"#REF!"}}]
[null,null,null,null,null,null,null,null,null,null,null,null,null,null,{"$f":"IF(#REF!=\"\",\"\",IF(#REF!<TODAY(),0,IF(#REF!<(TODAY()+365),1,\"X\")))","v":{"$error":"#REF!"}},{"$f":"IF(#REF!=\"\",\"\",\"X\")","v":{"$error":"#REF!"}}]
[null,null,null,null,null,null,null,null,null,null,null,null,null,null,{"$f":"IF(#REF!=\"\",\"\",IF(#REF!<TODAY(),0,IF(#REF!<(TODAY()+365),1,\"X\")))","v":{"$error":"#REF!"}},{"$f":"IF(#REF!=\"\",\"\",\"X\")","v":{"$error":"#REF!"}}]
[null,null,null,null,null,null,null,null,null,null,null,null,null,null,{"$f":"IF(#REF!=\"\",\"\",IF(#REF!<TODAY(),0,IF(#REF!<(TODAY()+365),1,\"X\")))","v":{"$error":"#REF!"}},{"$f":"IF(#REF!=\"\",\"\",\"X\")","v":{"$error":"#REF!"}}]
[null,null,null,null,null,null,null,null,null,null,null,null,null,null,{"$f":"IF(#REF!=\"\",\"\",IF(#REF!<TODAY(),0,IF(#REF!<(TODAY()+365),1,\"X\")))","v":{"$error":"#REF!"}},{"$f":"IF(#REF!=\"\",\"\",\"X\")","v":{"$error":"#REF!"}}]
[null,null,null,null,null,null,null,null,null,null,null,null,null,null,{"$f":"IF(#REF!=\"\",\"\",IF(#REF!<TODAY(),0,IF(#REF!<(TODAY()+365),1,\"X\")))","v":{"$error":"#REF!"}},{"$f":"IF(#REF!=\"\",\"\",\"X\")","v":{"$error":"#REF!"}}]
[null,null,null,null,null,null,null,null,null,null,null,null,null,null,{"$f":"IF(#REF!=\"\",\"\",IF(#REF!<TODAY(),0,IF(#REF!<(TODAY()+365),1,\"X\")))","v":{"$error":"#REF!"}},{"$f":"IF(#REF!=\"\",\"\",\"X\")","v":{"$error":"#REF!"}}]
[null,null,null,null,null,null,null,null,null,null,null,null,null,null,{"$f":"IF(#REF!=\"\",\"\",IF(#REF!<TODAY(),0,IF(#REF!<(TODAY()+365),1,\"X\")))","v":{"$error":"#REF!"}},{"$f":"IF(#REF!=\"\",\"\",\"X\")","v":{"$error":"#REF!"}}]
[null,null,null,null,null,null,null,null,null,null,null,null,null,null,{"$f":"IF(#REF!=\"\",\"\",IF(#REF!<TODAY(),0,IF(#REF!<(TODAY()+365),1,\"X\")))","v":{"$error":"#REF!"}},{"$f":"IF(#REF!=\"\",\"\",\"X\")","v":{"$error":"#REF!"}}]
[null,null,null,null,null,null,null,null,null,null,null,null,null,null,{"$f":"IF(#REF!=\"\",\"\",IF(#REF!<TODAY(),0,IF(#REF!<(TODAY()+365),1,\"X\")))","v":{"$error":"#REF!"}},{"$f":"IF(#REF!=\"\",\"\",\"X\")","v":{"$error":"#REF!"}}]
[null,null,null,null,null,null,null,null,null,null,null,null,null,null,{"$f":"IF(#REF!=\"\",\"\",IF(#REF!<TODAY(),0,IF(#REF!<(TODAY()+365),1,\"X\")))","v":{"$error":"#REF!"}},{"$f":"IF(#REF!=\"\",\"\",\"X\")","v":{"$error":"#REF!"}}]
[null,null,null,null,null,null,null,null,null,null,null,null,null,null,{"$f":"IF(#REF!=\"\",\"\",IF(#REF!<TODAY(),0,IF(#REF!<(TODAY()+365),1,\"X\")))","v":{"$error":"#REF!"}},{"$f":"IF(#REF!=\"\",\"\",\"X\")","v":{"$error":"#REF!"}}]
[null,null,null,null,null,null,null,null,null,null,null,null,null,null,{"$f":"IF(#REF!=\"\",\"\",IF(#REF!<TODAY(),0,IF(#REF!<(TODAY()+365),1,\"X\")))","v":{"$error":"#REF!"}},{"$f":"IF(#REF!=\"\",\"\",\"X\")","v":{"$error":"#REF!"}}]
[null,null,null,null,null,null,null,null,null,null,null,null,null,null,{"$f":"IF(#REF!=\"\",\"\",IF(#REF!<TODAY(),0,IF(#REF!<(TODAY()+365),1,\"X\")))","v":{"$error":"#REF!"}},{"$f":"IF(#REF!=\"\",\"\",\"X\")","v":{"$error":"#REF!"}}]
[null,null,null,null,null,null,null,null,null,null,null,null,null,null,{"$f":"IF(#REF!=\"\",\"\",IF(#REF!<TODAY(),0,IF(#REF!<(TODAY()+365),1,\"X\")))","v":{"$error":"#REF!"}},{"$f":"IF(#REF!=\"\",\"\",\"X\")","v":{"$error":"#REF!"}}]
[null,null,null,null,null,null,null,null,null,null,null,null,null,null,{"$f":"IF(#REF!=\"\",\"\",IF(#REF!<TODAY(),0,IF(#REF!<(TODAY()+365),1,\"X\")))","v":{"$error":"#REF!"}},{"$f":"IF(#REF!=\"\",\"\",\"X\")","v":{"$error":"#REF!"}}]
[null,null,null,null,null,null,null,null,null,null,null,null,null,null,{"$f":"IF(#REF!=\"\",\"\",IF(#REF!<TODAY(),0,IF(#REF!<(TODAY()+365),1,\"X\")))","v":{"$error":"#REF!"}},{"$f":"IF(#REF!=\"\",\"\",\"X\")","v":{"$error":"#REF!"}}]
[null,null,null,null,null,null,null,null,null,null,null,null,null,null,{"$f":"IF(#REF!=\"\",\"\",IF(#REF!<TODAY(),0,IF(#REF!<(TODAY()+365),1,\"X\")))","v":{"$error":"#REF!"}},{"$f":"IF(#REF!=\"\",\"\",\"X\")","v":{"$error":"#REF!"}}]
[null,null,null,null,null,null,null,null,null,null,null,null,null,null,{"$f":"IF(#REF!=\"\",\"\",IF(#REF!<TODAY(),0,IF(#REF!<(TODAY()+365),1,\"X\")))","v":{"$error":"#REF!"}},{"$f":"IF(#REF!=\"\",\"\",\"X\")","v":{"$error":"#REF!"}}]
[null,null,null,null,null,null,null,null,null,null,null,null,null,null,{"$f":"IF(#REF!=\"\",\"\",IF(#REF!<TODAY(),0,IF(#REF!<(TODAY()+365),1,\"X\")))","v":{"$error":"#REF!"}},{"$f":"IF(#REF!=\"\",\"\",\"X\")","v":{"$error":"#REF!"}}]
[null,null,null,null,null,null,null,null,null,null,null,null,null,null,{"$f":"IF(#REF!=\"\",\"\",IF(#REF!<TODAY(),0,IF(#REF!<(TODAY()+365),1,\"X\")))","v":{"$error":"#REF!"}},{"$f":"IF(#REF!=\"\",\"\",\"X\")","v":{"$error":"#REF!"}}]
[null,null,null,null,null,null,null,null,null,null,null,null,null,null,{"$f":"IF(#REF!=\"\",\"\",IF(#REF!<TODAY(),0,IF(#REF!<(TODAY()+365),1,\"X\")))","v":{"$error":"#REF!"}},{"$f":"IF(#REF!=\"\",\"\",\"X\")","v":{"$error":"#REF!"}}]
[null,null,null,null,null,null,null,null,null,null,null,null,null,null,{"$f":"IF(#REF!=\"\",\"\",IF(#REF!<TODAY(),0,IF(#REF!<(TODAY()+365),1,\"X\")))","v":{"$error":"#REF!"}},{"$f":"IF(#REF!=\"\",\"\",\"X\")","v":{"$error":"#REF!"}}]
[null,null,null,null,null,null,null,null,null,null,null,null,null,null,{"$f":"IF(#REF!=\"\",\"\",IF(#REF!<TODAY(),0,IF(#REF!<(TODAY()+365),1,\"X\")))","v":{"$error":"#REF!"}},{"$f":"IF(#REF!=\"\",\"\",\"X\")","v":{"$error":"#REF!"}}]
[null,null,null,null,null,null,null,null,null,null,null,null,null,null,{"$f":"IF(#REF!=\"\",\"\",IF(#REF!<TODAY(),0,IF(#REF!<(TODAY()+365),1,\"X\")))","v":{"$error":"#REF!"}},{"$f":"IF(#REF!=\"\",\"\",\"X\")","v":{"$error":"#REF!"}}]
[null,null,null,null,null,null,null,null,null,null,null,null,null,null,{"$f":"IF(#REF!=\"\",\"\",IF(#REF!<TODAY(),0,IF(#REF!<(TODAY()+365),1,\"X\")))","v":{"$error":"#REF!"}},{"$f":"IF(#REF!=\"\",\"\",\"X\")","v":{"$error":"#REF!"}}]
[null,null,null,null,null,null,null,null,null,null,null,null,null,null,{"$f":"IF(#REF!=\"\",\"\",IF(#REF!<TODAY(),0,IF(#REF!<(TODAY()+365),1,\"X\")))","v":{"$error":"#REF!"}},{"$f":"IF(#REF!=\"\",\"\",\"X\")","v":{"$error":"#REF!"}}]
[null,null,null,null,null,null,null,null,null,null,null,null,null,null,{"$f":"IF(#REF!=\"\",\"\",IF(#REF!<TODAY(),0,IF(#REF!<(TODAY()+365),1,\"X\")))","v":{"$error":"#REF!"}},{"$f":"IF(#REF!=\"\",\"\",\"X\")","v":{"$error":"#REF!"}}]
[null,null,null,null,null,null,null,null,null,null,null,null,null,null,{"$f":"IF(#REF!=\"\",\"\",IF(#REF!<TODAY(),0,IF(#REF!<(TODAY()+365),1,\"X\")))","v":{"$error":"#REF!"}},{"$f":"IF(#REF!=\"\",\"\",\"X\")","v":{"$error":"#REF!"}}]
[null,null,null,null,null,null,null,null,null,null,null,null,null,null,{"$f":"IF(#REF!=\"\",\"\",IF(#REF!<TODAY(),0,IF(#REF!<(TODAY()+365),1,\"X\")))","v":{"$error":"#REF!"}},{"$f":"IF(#REF!=\"\",\"\",\"X\")","v":{"$error":"#REF!"}}]
[null,null,null,null,null,null,null,null,null,null,null,null,null,null,{"$f":"IF(#REF!=\"\",\"\",IF(#REF!<TODAY(),0,IF(#REF!<(TODAY()+365),1,\"X\")))","v":{"$error":"#REF!"}},{"$f":"IF(#REF!=\"\",\"\",\"X\")","v":{"$error":"#REF!"}}]
[null,null,null,null,null,null,null,null,null,null,null,null,null,null,{"$f":"IF(#REF!=\"\",\"\",IF(#REF!<TODAY(),0,IF(#REF!<(TODAY()+365),1,\"X\")))","v":{"$error":"#REF!"}},{"$f":"IF(#REF!=\"\",\"\",\"X\")","v":{"$error":"#REF!"}}]
[null,null,null,null,null,null,null,null,null,null,null,null,null,null,{"$f":"IF(#REF!=\"\",\"\",IF(#REF!<TODAY(),0,IF(#REF!<(TODAY()+365),1,\"X\")))","v":{"$error":"#REF!"}},{"$f":"IF(#REF!=\"\",\"\",\"X\")","v":{"$error":"#REF!"}}]
[null,null,null,null,null,null,null,null,null,null,null,null,null,null,{"$f":"IF(#REF!=\"\",\"\",IF(#REF!<TODAY(),0,IF(#REF!<(TODAY()+365),1,\"X\")))","v":{"$error":"#REF!"}},{"$f":"IF(#REF!=\"\",\"\",\"X\")","v":{"$error":"#REF!"}}]
[null,null,null,null,null,null,null,null,null,null,null,null,null,null,{"$f":"IF(#REF!=\"\",\"\",IF(#REF!<TODAY(),0,IF(#REF!<(TODAY()+365),1,\"X\")))","v":{"$error":"#REF!"}},{"$f":"IF(#REF!=\"\",\"\",\"X\")","v":{"$error":"#REF!"}}]
[null,null,null,null,null,null,null,null,null,null,null,null,null,null,{"$f":"IF(#REF!=\"\",\"\",IF(#REF!<TODAY(),0,IF(#REF!<(TODAY()+365),1,\"X\")))","v":{"$error":"#REF!"}},{"$f":"IF(#REF!=\"\",\"\",\"X\")","v":{"$error":"#REF!"}}]
[null,null,null,null,null,null,null,null,null,null,null,null,null,null,{"$f":"IF(#REF!=\"\",\"\",IF(#REF!<TODAY(),0,IF(#REF!<(TODAY()+365),1,\"X\")))","v":{"$error":"#REF!"}},{"$f":"IF(#REF!=\"\",\"\",\"X\")","v":{"$error":"#REF!"}}]
[null,null,null,null,null,null,null,null,null,null,null,null,null,null,{"$f":"IF(#REF!=\"\",\"\",IF(#REF!<TODAY(),0,IF(#REF!<(TODAY()+365),1,\"X\")))","v":{"$error":"#REF!"}},{"$f":"IF(#REF!=\"\",\"\",\"X\")","v":{"$error":"#REF!"}}]
[null,null,null,null,null,null,null,null,null,null,null,null,null,null,{"$f":"IF(#REF!=\"\",\"\",IF(#REF!<TODAY(),0,IF(#REF!<(TODAY()+365),1,\"X\")))","v":{"$error":"#REF!"}},{"$f":"IF(#REF!=\"\",\"\",\"X\")","v":{"$error":"#REF!"}}]
[null,null,null,null,null,null,null,null,null,null,null,null,null,null,{"$f":"IF(#REF!=\"\",\"\",IF(#REF!<TODAY(),0,IF(#REF!<(TODAY()+365),1,\"X\")))","v":{"$error":"#REF!"}},{"$f":"IF(#REF!=\"\",\"\",\"X\")","v":{"$error":"#REF!"}}]
[null,null,null,null,null,null,null,null,null,null,null,null,null,null,{"$f":"IF(#REF!=\"\",\"\",IF(#REF!<TODAY(),0,IF(#REF!<(TODAY()+365),1,\"X\")))","v":{"$error":"#REF!"}},{"$f":"IF(#REF!=\"\",\"\",\"X\")","v":{"$error":"#REF!"}}]
[null,null,null,null,null,null,null,null,null,null,null,null,null,null,{"$f":"IF(#REF!=\"\",\"\",IF(#REF!<TODAY(),0,IF(#REF!<(TODAY()+365),1,\"X\")))","v":{"$error":"#REF!"}},{"$f":"IF(#REF!=\"\",\"\",\"X\")","v":{"$error":"#REF!"}}]
[null,null,null,null,null,null,null,null,null,null,null,null,null,null,{"$f":"IF(#REF!=\"\",\"\",IF(#REF!<TODAY(),0,IF(#REF!<(TODAY()+365),1,\"X\")))","v":{"$error":"#REF!"}},{"$f":"IF(#REF!=\"\",\"\",\"X\")","v":{"$error":"#REF!"}}]
[null,null,null,null,null,null,null,null,null,null,null,null,null,null,{"$f":"IF(#REF!=\"\",\"\",IF(#REF!<TODAY(),0,IF(#REF!<(TODAY()+365),1,\"X\")))","v":{"$error":"#REF!"}},{"$f":"IF(#REF!=\"\",\"\",\"X\")","v":{"$error":"#REF!"}}]
[null,null,null,null,null,null,null,null,null,null,null,null,null,null,{"$f":"IF(#REF!=\"\",\"\",IF(#REF!<TODAY(),0,IF(#REF!<(TODAY()+365),1,\"X\")))","v":{"$error":"#REF!"}},{"$f":"IF(#REF!=\"\",\"\",\"X\")","v":{"$error":"#REF!"}}]
[null,null,null,null,null,null,null,null,null,null,null,null,null,null,{"$f":"IF(#REF!=\"\",\"\",IF(#REF!<TODAY(),0,IF(#REF!<(TODAY()+365),1,\"X\")))","v":{"$error":"#REF!"}},{"$f":"IF(#REF!=\"\",\"\",\"X\")","v":{"$error":"#REF!"}}]
[null,null,null,null,null,null,null,null,null,null,null,null,null,null,{"$f":"IF(#REF!=\"\",\"\",IF(#REF!<TODAY(),0,IF(#REF!<(TODAY()+365),1,\"X\")))","v":{"$error":"#REF!"}},{"$f":"IF(#REF!=\"\",\"\",\"X\")","v":{"$error":"#REF!"}}]
[null,null,null,null,null,null,null,null,null,null,null,null,null,null,{"$f":"IF(#REF!=\"\",\"\",IF(#REF!<TODAY(),0,IF(#REF!<(TODAY()+365),1,\"X\")))","v":{"$error":"#REF!"}},{"$f":"IF(#REF!=\"\",\"\",\"X\")","v":{"$error":"#REF!"}}]
[null,null,null,null,null,null,null,null,null,null,null,null,null,null,{"$f":"IF(#REF!=\"\",\"\",IF(#REF!<TODAY(),0,IF(#REF!<(TODAY()+365),1,\"X\")))","v":{"$error":"#REF!"}},{"$f":"IF(#REF!=\"\",\"\",\"X\")","v":{"$error":"#REF!"}}]
[null,null,null,null,null,null,null,null,null,null,null,null,null,null,{"$f":"IF(#REF!=\"\",\"\",IF(#REF!<TODAY(),0,IF(#REF!<(TODAY()+365),1,\"X\")))","v":{"$error":"#REF!"}},{"$f":"IF(#REF!=\"\",\"\",\"X\")","v":{"$error":"#REF!"}}]
[null,null,null,null,null,null,null,null,null,null,null,null,null,null,{"$f":"IF(#REF!=\"\",\"\",IF(#REF!<TODAY(),0,IF(#REF!<(TODAY()+365),1,\"X\")))","v":{"$error":"#REF!"}},{"$f":"IF(#REF!=\"\",\"\",\"X\")","v":{"$error":"#REF!"}}]
[null,null,null,null,null,null,null,null,null,null,null,null,null,null,{"$f":"IF(#REF!=\"\",\"\",IF(#REF!<TODAY(),0,IF(#REF!<(TODAY()+365),1,\"X\")))","v":{"$error":"#REF!"}},{"$f":"IF(#REF!=\"\",\"\",\"X\")","v":{"$error":"#REF!"}}]
[null,null,null,null,null,null,null,null,null,null,null,null,null,null,{"$f":"IF(#REF!=\"\",\"\",IF(#REF!<TODAY(),0,IF(#REF!<(TODAY()+365),1,\"X\")))","v":{"$error":"#REF!"}},{"$f":"IF(#REF!=\"\",\"\",\"X\")","v":{"$error":"#REF!"}}]
[null,null,null,null,null,null,null,null,null,null,null,null,null,null,{"$f":"IF(#REF!=\"\",\"\",IF(#REF!<TODAY(),0,IF(#REF!<(TODAY()+365),1,\"X\")))","v":{"$error":"#REF!"}},{"$f":"IF(#REF!=\"\",\"\",\"X\")","v":{"$error":"#REF!"}}]
[null,null,null,null,null,null,null,null,null,null,null,null,null,null,{"$f":"IF(#REF!=\"\",\"\",IF(#REF!<TODAY(),0,IF(#REF!<(TODAY()+365),1,\"X\")))","v":{"$error":"#REF!"}},{"$f":"IF(#REF!=\"\",\"\",\"X\")","v":{"$error":"#REF!"}}]
[null,null,null,null,null,null,null,null,null,null,null,null,null,null,{"$f":"IF(#REF!=\"\",\"\",IF(#REF!<TODAY(),0,IF(#REF!<(TODAY()+365),1,\"X\")))","v":{"$error":"#REF!"}},{"$f":"IF(#REF!=\"\",\"\",\"X\")","v":{"$error":"#REF!"}}]
[null,null,null,null,null,null,null,null,null,null,null,null,null,null,{"$f":"IF(#REF!=\"\",\"\",IF(#REF!<TODAY(),0,IF(#REF!<(TODAY()+365),1,\"X\")))","v":{"$error":"#REF!"}},{"$f":"IF(#REF!=\"\",\"\",\"X\")","v":{"$error":"#REF!"}}]
[null,null,null,null,null,null,null,null,null,null,null,null,null,null,{"$f":"IF(#REF!=\"\",\"\",IF(#REF!<TODAY(),0,IF(#REF!<(TODAY()+365),1,\"X\")))","v":{"$error":"#REF!"}},{"$f":"IF(#REF!=\"\",\"\",\"X\")","v":{"$error":"#REF!"}}]
[null,null,null,null,null,null,null,null,null,null,null,null,null,null,{"$f":"IF(#REF!=\"\",\"\",IF(#REF!<TODAY(),0,IF(#REF!<(TODAY()+365),1,\"X\")))","v":{"$error":"#REF!"}},{"$f":"IF(#REF!=\"\",\"\",\"X\")","v":{"$error":"#REF!"}}]
[null,null,null,null,null,null,null,null,null,null,null,null,null,null,{"$f":"IF(#REF!=\"\",\"\",IF(#REF!<TODAY(),0,IF(#REF!<(TODAY()+365),1,\"X\")))","v":{"$error":"#REF!"}},{"$f":"IF(#REF!=\"\",\"\",\"X\")","v":{"$error":"#REF!"}}]
[null,null,null,null,null,null,null,null,null,null,null,null,null,null,{"$f":"IF(#REF!=\"\",\"\",IF(#REF!<TODAY(),0,IF(#REF!<(TODAY()+365),1,\"X\")))","v":{"$error":"#REF!"}},{"$f":"IF(#REF!=\"\",\"\",\"X\")","v":{"$error":"#REF!"}}]
[null,null,null,null,null,null,null,null,null,null,null,null,null,null,{"$f":"IF(#REF!=\"\",\"\",IF(#REF!<TODAY(),0,IF(#REF!<(TODAY()+365),1,\"X\")))","v":{"$error":"#REF!"}},{"$f":"IF(#REF!=\"\",\"\",\"X\")","v":{"$error":"#REF!"}}]
[null,null,null,null,null,null,null,null,null,null,null,null,null,null,{"$f":"IF(#REF!=\"\",\"\",IF(#REF!<TODAY(),0,IF(#REF!<(TODAY()+365),1,\"X\")))","v":{"$error":"#REF!"}},{"$f":"IF(#REF!=\"\",\"\",\"X\")","v":{"$error":"#REF!"}}]
[null,null,null,null,null,null,null,null,null,null,null,null,null,null,{"$f":"IF(#REF!=\"\",\"\",IF(#REF!<TODAY(),0,IF(#REF!<(TODAY()+365),1,\"X\")))","v":{"$error":"#REF!"}},{"$f":"IF(#REF!=\"\",\"\",\"X\")","v":{"$error":"#REF!"}}]
[null,null,null,null,null,null,null,null,null,null,null,null,null,null,{"$f":"IF(#REF!=\"\",\"\",IF(#REF!<TODAY(),0,IF(#REF!<(TODAY()+365),1,\"X\")))","v":{"$error":"#REF!"}},{"$f":"IF(#REF!=\"\",\"\",\"X\")","v":{"$error":"#REF!"}}]
[null,null,null,null,null,null,null,null,null,null,null,null,null,null,{"$f":"IF(#REF!=\"\",\"\",IF(#REF!<TODAY(),0,IF(#REF!<(TODAY()+365),1,\"X\")))","v":{"$error":"#REF!"}},{"$f":"IF(#REF!=\"\",\"\",\"X\")","v":{"$error":"#REF!"}}]
[null,null,null,null,null,null,null,null,null,null,null,null,null,null,{"$f":"IF(#REF!=\"\",\"\",IF(#REF!<TODAY(),0,IF(#REF!<(TODAY()+365),1,\"X\")))","v":{"$error":"#REF!"}},{"$f":"IF(#REF!=\"\",\"\",\"X\")","v":{"$error":"#REF!"}}]
[null,null,null,null,null,null,null,null,null,null,null,null,null,null,{"$f":"IF(#REF!=\"\",\"\",IF(#REF!<TODAY(),0,IF(#REF!<(TODAY()+365),1,\"X\")))","v":{"$error":"#REF!"}},{"$f":"IF(#REF!=\"\",\"\",\"X\")","v":{"$error":"#REF!"}}]
[null,null,null,null,null,null,null,null,null,null,null,null,null,null,{"$f":"IF(#REF!=\"\",\"\",IF(#REF!<TODAY(),0,IF(#REF!<(TODAY()+365),1,\"X\")))","v":{"$error":"#REF!"}},{"$f":"IF(#REF!=\"\",\"\",\"X\")","v":{"$error":"#REF!"}}]
[null,null,null,null,null,null,null,null,null,null,null,null,null,null,{"$f":"IF(#REF!=\"\",\"\",IF(#REF!<TODAY(),0,IF(#REF!<(TODAY()+365),1,\"X\")))","v":{"$error":"#REF!"}},{"$f":"IF(#REF!=\"\",\"\",\"X\")","v":{"$error":"#REF!"}}]
[null,null,null,null,null,null,null,null,null,null,null,null,null,null,{"$f":"IF(#REF!=\"\",\"\",IF(#REF!<TODAY(),0,IF(#REF!<(TODAY()+365),1,\"X\")))","v":{"$error":"#REF!"}},{"$f":"IF(#REF!=\"\",\"\",\"X\")","v":{"$error":"#REF!"}}]
[null,null,null,null,null,null,null,null,null,null,null,null,null,null,{"$f":"IF(#REF!=\"\",\"\",IF(#REF!<TODAY(),0,IF(#REF!<(TODAY()+365),1,\"X\")))","v":{"$error":"#REF!"}},{"$f":"IF(#REF!=\"\",\"\",\"X\")","v":{"$error":"#REF!"}}]
[null,null,null,null,null,null,null,null,null,null,null,null,null,null,{"$f":"IF(#REF!=\"\",\"\",IF(#REF!<TODAY(),0,IF(#REF!<(TODAY()+365),1,\"X\")))","v":{"$error":"#REF!"}},{"$f":"IF(#REF!=\"\",\"\",\"X\")","v":{"$error":"#REF!"}}]
[null,null,null,null,null,null,null,null,null,null,null,null,null,null,{"$f":"IF(#REF!=\"\",\"\",IF(#REF!<TODAY(),0,IF(#REF!<(TODAY()+365),1,\"X\")))","v":{"$error":"#REF!"}},{"$f":"IF(#REF!=\"\",\"\",\"X\")","v":{"$error":"#REF!"}}]
[null,null,null,null,null,null,null,null,null,null,null,null,null,null,{"$f":"IF(#REF!=\"\",\"\",IF(#REF!<TODAY(),0,IF(#REF!<(TODAY()+365),1,\"X\")))","v":{"$error":"#REF!"}},{"$f":"IF(#REF!=\"\",\"\",\"X\")","v":{"$error":"#REF!"}}]
[null,null,null,null,null,null,null,null,null,null,null,null,null,null,{"$f":"IF(#REF!=\"\",\"\",IF(#REF!<TODAY(),0,IF(#REF!<(TODAY()+365),1,\"X\")))","v":{"$error":"#REF!"}},{"$f":"IF(#REF!=\"\",\"\",\"X\")","v":{"$error":"#REF!"}}]
[null,null,null,null,null,null,null,null,null,null,null,null,null,null,{"$f":"IF(#REF!=\"\",\"\",IF(#REF!<TODAY(),0,IF(#REF!<(TODAY()+365),1,\"X\")))","v":{"$error":"#REF!"}},{"$f":"IF(#REF!=\"\",\"\",\"X\")","v":{"$error":"#REF!"}}]
[null,null,null,null,null,null,null,null,null,null,null,null,null,null,{"$f":"IF(#REF!=\"\",\"\",IF(#REF!<TODAY(),0,IF(#REF!<(TODAY()+365),1,\"X\")))","v":{"$error":"#REF!"}},{"$f":"IF(#REF!=\"\",\"\",\"X\")","v":{"$error":"#REF!"}}]
[null,null,null,null,null,null,null,null,null,null,null,null,null,null,{"$f":"IF(#REF!=\"\",\"\",IF(#REF!<TODAY(),0,IF(#REF!<(TODAY()+365),1,\"X\")))","v":{"$error":"#REF!"}},{"$f":"IF(#REF!=\"\",\"\",\"X\")","v":{"$error":"#REF!"}}]
[null,null,null,null,null,null,null,null,null,null,null,null,null,null,{"$f":"IF(#REF!=\"\",\"\",IF(#REF!<TODAY(),0,IF(#REF!<(TODAY()+365),1,\"X\")))","v":{"$error":"#REF!"}},{"$f":"IF(#REF!=\"\",\"\",\"X\")","v":{"$error":"#REF!"}}]
[null,null,null,null,null,null,null,null,null,null,null,null,null,null,{"$f":"IF(#REF!=\"\",\"\",IF(#REF!<TODAY(),0,IF(#REF!<(TODAY()+365),1,\"X\")))","v":{"$error":"#REF!"}},{"$f":"IF(#REF!=\"\",\"\",\"X\")","v":{"$error":"#REF!"}}]
[null,null,null,null,null,null,null,null,null,null,null,null,null,null,{"$f":"IF(#REF!=\"\",\"\",IF(#REF!<TODAY(),0,IF(#REF!<(TODAY()+365),1,\"X\")))","v":{"$error":"#REF!"}},{"$f":"IF(#REF!=\"\",\"\",\"X\")","v":{"$error":"#REF!"}}]
[null,null,null,null,null,null,null,null,null,null,null,null,null,null,{"$f":"IF(#REF!=\"\",\"\",IF(#REF!<TODAY(),0,IF(#REF!<(TODAY()+365),1,\"X\")))","v":{"$error":"#REF!"}},{"$f":"IF(#REF!=\"\",\"\",\"X\")","v":{"$error":"#REF!"}}]
[null,null,null,null,null,null,null,null,null,null,null,null,null,null,{"$f":"IF(#REF!=\"\",\"\",IF(#REF!<TODAY(),0,IF(#REF!<(TODAY()+365),1,\"X\")))","v":{"$error":"#REF!"}},{"$f":"IF(#REF!=\"\",\"\",\"X\")","v":{"$error":"#REF!"}}]
[null,null,null,null,null,null,null,null,null,null,null,null,null,null,{"$f":"IF(#REF!=\"\",\"\",IF(#REF!<TODAY(),0,IF(#REF!<(TODAY()+365),1,\"X\")))","v":{"$error":"#REF!"}},{"$f":"IF(#REF!=\"\",\"\",\"X\")","v":{"$error":"#REF!"}}]
[null,null,null,null,null,null,null,null,null,null,null,null,null,null,{"$f":"IF(#REF!=\"\",\"\",IF(#REF!<TODAY(),0,IF(#REF!<(TODAY()+365),1,\"X\")))","v":{"$error":"#REF!"}},{"$f":"IF(#REF!=\"\",\"\",\"X\")","v":{"$error":"#REF!"}}]
[null,null,null,null,null,null,null,null,null,null,null,null,null,null,{"$f":"IF(#REF!=\"\",\"\",IF(#REF!<TODAY(),0,IF(#REF!<(TODAY()+365),1,\"X\")))","v":{"$error":"#REF!"}},{"$f":"IF(#REF!=\"\",\"\",\"X\")","v":{"$error":"#REF!"}}]
[null,null,null,null,null,null,null,null,null,null,null,null,null,null,{"$f":"IF(#REF!=\"\",\"\",IF(#REF!<TODAY(),0,IF(#REF!<(TODAY()+365),1,\"X\")))","v":{"$error":"#REF!"}},{"$f":"IF(#REF!=\"\",\"\",\"X\")","v":{"$error":"#REF!"}}]
[null,null,null,null,null,null,null,null,null,null,null,null,null,null,{"$f":"IF(#REF!=\"\",\"\",IF(#REF!<TODAY(),0,IF(#REF!<(TODAY()+365),1,\"X\")))","v":{"$error":"#REF!"}},{"$f":"IF(#REF!=\"\",\"\",\"X\")","v":{"$error":"#REF!"}}]
[null,null,null,null,null,null,null,null,null,null,null,null,null,null,{"$f":"IF(#REF!=\"\",\"\",IF(#REF!<TODAY(),0,IF(#REF!<(TODAY()+365),1,\"X\")))","v":{"$error":"#REF!"}},{"$f":"IF(#REF!=\"\",\"\",\"X\")","v":{"$error":"#REF!"}}]
[null,null,null,null,null,null,null,null,null,null,null,null,null,null,{"$f":"IF(#REF!=\"\",\"\",IF(#REF!<TODAY(),0,IF(#REF!<(TODAY()+365),1,\"X\")))","v":{"$error":"#REF!"}},{"$f":"IF(#REF!=\"\",\"\",\"X\")","v":{"$error":"#REF!"}}]
[null,null,null,null,null,null,null,null,null,null,null,null,null,null,{"$f":"IF(#REF!=\"\",\"\",IF(#REF!<TODAY(),0,IF(#REF!<(TODAY()+365),1,\"X\")))","v":{"$error":"#REF!"}},{"$f":"IF(#REF!=\"\",\"\",\"X\")","v":{"$error":"#REF!"}}]
[null,null,null,null,null,null,null,null,null,null,null,null,null,null,{"$f":"IF(#REF!=\"\",\"\",IF(#REF!<TODAY(),0,IF(#REF!<(TODAY()+365),1,\"X\")))","v":{"$error":"#REF!"}},{"$f":"IF(#REF!=\"\",\"\",\"X\")","v":{"$error":"#REF!"}}]
[null,null,null,null,null,null,null,null,null,null,null,null,null,null,{"$f":"IF(#REF!=\"\",\"\",IF(#REF!<TODAY(),0,IF(#REF!<(TODAY()+365),1,\"X\")))","v":{"$error":"#REF!"}},{"$f":"IF(#REF!=\"\",\"\",\"X\")","v":{"$error":"#REF!"}}]
[null,null,null,null,null,null,null,null,null,null,null,null,null,null,{"$f":"IF(#REF!=\"\",\"\",IF(#REF!<TODAY(),0,IF(#REF!<(TODAY()+365),1,\"X\")))","v":{"$error":"#REF!"}},{"$f":"IF(#REF!=\"\",\"\",\"X\")","v":{"$error":"#REF!"}}]
[null,null,null,null,null,null,null,null,null,null,null,null,null,null,{"$f":"IF(#REF!=\"\",\"\",IF(#REF!<TODAY(),0,IF(#REF!<(TODAY()+365),1,\"X\")))","v":{"$error":"#REF!"}},{"$f":"IF(#REF!=\"\",\"\",\"X\")","v":{"$error":"#REF!"}}]
[null,null,null,null,null,null,null,null,null,null,null,null,null,null,{"$f":"IF(#REF!=\"\",\"\",IF(#REF!<TODAY(),0,IF(#REF!<(TODAY()+365),1,\"X\")))","v":{"$error":"#REF!"}},{"$f":"IF(#REF!=\"\",\"\",\"X\")","v":{"$error":"#REF!"}}]
[null,null,null,null,null,null,null,null,null,null,null,null,null,null,{"$f":"IF(#REF!=\"\",\"\",IF(#REF!<TODAY(),0,IF(#REF!<(TODAY()+365),1,\"X\")))","v":{"$error":"#REF!"}},{"$f":"IF(#REF!=\"\",\"\",\"X\")","v":{"$error":"#REF!"}}]
[null,null,null,null,null,null,null,null,null,null,null,null,null,null,{"$f":"IF(#REF!=\"\",\"\",IF(#REF!<TODAY(),0,IF(#REF!<(TODAY()+365),1,\"X\")))","v":{"$error":"#REF!"}},{"$f":"IF(#REF!=\"\",\"\",\"X\")","v":{"$error":"#REF!"}}]
[null,null,null,null,null,null,null,null,null,null,null,null,null,null,{"$f":"IF(#REF!=\"\",\"\",IF(#REF!<TODAY(),0,IF(#REF!<(TODAY()+365),1,\"X\")))","v":{"$error":"#REF!"}},{"$f":"IF(#REF!=\"\",\"\",\"X\")","v":{"$error":"#REF!"}}]
[null,null,null,null,null,null,null,null,null,null,null,null,null,null,{"$f":"IF(#REF!=\"\",\"\",IF(#REF!<TODAY(),0,IF(#REF!<(TODAY()+365),1,\"X\")))","v":{"$error":"#REF!"}},{"$f":"IF(#REF!=\"\",\"\",\"X\")","v":{"$error":"#REF!"}}]
[null,null,null,null,null,null,null,null,null,null,null,null,null,null,{"$f":"IF(#REF!=\"\",\"\",IF(#REF!<TODAY(),0,IF(#REF!<(TODAY()+365),1,\"X\")))","v":{"$error":"#REF!"}},{"$f":"IF(#REF!=\"\",\"\",\"X\")","v":{"$error":"#REF!"}}]
[null,null,null,null,null,null,null,null,null,null,null,null,null,null,{"$f":"IF(#REF!=\"\",\"\",IF(#REF!<TODAY(),0,IF(#REF!<(TODAY()+365),1,\"X\")))","v":{"$error":"#REF!"}},{"$f":"IF(#REF!=\"\",\"\",\"X\")","v":{"$error":"#REF!"}}]
[null,null,null,null,null,null,null,null,null,null,null,null,null,null,{"$f":"IF(#REF!=\"\",\"\",IF(#REF!<TODAY(),0,IF(#REF!<(TODAY()+365),1,\"X\")))","v":{"$error":"#REF!"}},{"$f":"IF(#REF!=\"\",\"\",\"X\")","v":{"$error":"#REF!"}}]
[null,null,null,null,null,null,null,null,null,null,null,null,null,null,{"$f":"IF(#REF!=\"\",\"\",IF(#REF!<TODAY(),0,IF(#REF!<(TODAY()+365),1,\"X\")))","v":{"$error":"#REF!"}},{"$f":"IF(#REF!=\"\",\"\",\"X\")","v":{"$error":"#REF!"}}]
[null,null,null,null,null,null,null,null,null,null,null,null,null,null,{"$f":"IF(#REF!=\"\",\"\",IF(#REF!<TODAY(),0,IF(#REF!<(TODAY()+365),1,\"X\")))","v":{"$error":"#REF!"}},{"$f":"IF(#REF!=\"\",\"\",\"X\")","v":{"$error":"#REF!"}}]
[null,null,null,null,null,null,null,null,null,null,null,null,null,null,{"$f":"IF(#REF!=\"\",\"\",IF(#REF!<TODAY(),0,IF(#REF!<(TODAY()+365),1,\"X\")))","v":{"$error":"#REF!"}},{"$f":"IF(#REF!=\"\",\"\",\"X\")","v":{"$error":"#REF!"}}]
[null,null,null,null,null,null,null,null,null,null,null,null,null,null,{"$f":"IF(#REF!=\"\",\"\",IF(#REF!<TODAY(),0,IF(#REF!<(TODAY()+365),1,\"X\")))","v":{"$error":"#REF!"}},{"$f":"IF(#REF!=\"\",\"\",\"X\")","v":{"$error":"#REF!"}}]
[null,null,null,null,null,null,null,null,null,null,null,null,null,null,{"$f":"IF(#REF!=\"\",\"\",IF(#REF!<TODAY(),0,IF(#REF!<(TODAY()+365),1,\"X\")))","v":{"$error":"#REF!"}},{"$f":"IF(#REF!=\"\",\"\",\"X\")","v":{"$error":"#REF!"}}]
[null,null,null,null,null,null,null,null,null,null,null,null,null,null,{"$f":"IF(#REF!=\"\",\"\",IF(#REF!<TODAY(),0,IF(#REF!<(TODAY()+365),1,\"X\")))","v":{"$error":"#REF!"}},{"$f":"IF(#REF!=\"\",\"\",\"X\")","v":{"$error":"#REF!"}}]
[null,null,null,null,null,null,null,null,null,null,null,null,null,null,{"$f":"IF(#REF!=\"\",\"\",IF(#REF!<TODAY(),0,IF(#REF!<(TODAY()+365),1,\"X\")))","v":{"$error":"#REF!"}},{"$f":"IF(#REF!=\"\",\"\",\"X\")","v":{"$error":"#REF!"}}]
[null,null,null,null,null,null,null,null,null,null,null,null,null,null,{"$f":"IF(#REF!=\"\",\"\",IF(#REF!<TODAY(),0,IF(#REF!<(TODAY()+365),1,\"X\")))","v":{"$error":"#REF!"}},{"$f":"IF(#REF!=\"\",\"\",\"X\")","v":{"$error":"#REF!"}}]
[null,null,null,null,null,null,null,null,null,null,null,null,null,null,{"$f":"IF(#REF!=\"\",\"\",IF(#REF!<TODAY(),0,IF(#REF!<(TODAY()+365),1,\"X\")))","v":{"$error":"#REF!"}},{"$f":"IF(#REF!=\"\",\"\",\"X\")","v":{"$error":"#REF!"}}]
[null,null,null,null,null,null,null,null,null,null,null,null,null,null,{"$f":"IF(#REF!=\"\",\"\",IF(#REF!<TODAY(),0,IF(#REF!<(TODAY()+365),1,\"X\")))","v":{"$error":"#REF!"}},{"$f":"IF(#REF!=\"\",\"\",\"X\")","v":{"$error":"#REF!"}}]
[null,null,null,null,null,null,null,null,null,null,null,null,null,null,{"$f":"IF(#REF!=\"\",\"\",IF(#REF!<TODAY(),0,IF(#REF!<(TODAY()+365),1,\"X\")))","v":{"$error":"#REF!"}},{"$f":"IF(#REF!=\"\",\"\",\"X\")","v":{"$error":"#REF!"}}]
[null,null,null,null,null,null,null,null,null,null,null,null,null,null,{"$f":"IF(#REF!=\"\",\"\",IF(#REF!<TODAY(),0,IF(#REF!<(TODAY()+365),1,\"X\")))","v":{"$error":"#REF!"}},{"$f":"IF(#REF!=\"\",\"\",\"X\")","v":{"$error":"#REF!"}}]
[null,null,null,null,null,null,null,null,null,null,null,null,null,null,{"$f":"IF(#REF!=\"\",\"\",IF(#REF!<TODAY(),0,IF(#REF!<(TODAY()+365),1,\"X\")))","v":{"$error":"#REF!"}},{"$f":"IF(#REF!=\"\",\"\",\"X\")","v":{"$error":"#REF!"}}]
[null,null,null,null,null,null,null,null,null,null,null,null,null,null,{"$f":"IF(#REF!=\"\",\"\",IF(#REF!<TODAY(),0,IF(#REF!<(TODAY()+365),1,\"X\")))","v":{"$error":"#REF!"}},{"$f":"IF(#REF!=\"\",\"\",\"X\")","v":{"$error":"#REF!"}}]
[null,null,null,null,null,null,null,null,null,null,null,null,null,null,{"$f":"IF(#REF!=\"\",\"\",IF(#REF!<TODAY(),0,IF(#REF!<(TODAY()+365),1,\"X\")))","v":{"$error":"#REF!"}},{"$f":"IF(#REF!=\"\",\"\",\"X\")","v":{"$error":"#REF!"}}]
[null,null,null,null,null,null,null,null,null,null,null,null,null,null,{"$f":"IF(#REF!=\"\",\"\",IF(#REF!<TODAY(),0,IF(#REF!<(TODAY()+365),1,\"X\")))","v":{"$error":"#REF!"}},{"$f":"IF(#REF!=\"\",\"\",\"X\")","v":{"$error":"#REF!"}}]
[null,null,null,null,null,null,null,null,null,null,null,null,null,null,{"$f":"IF(#REF!=\"\",\"\",IF(#REF!<TODAY(),0,IF(#REF!<(TODAY()+365),1,\"X\")))","v":{"$error":"#REF!"}},{"$f":"IF(#REF!=\"\",\"\",\"X\")","v":{"$error":"#REF!"}}]
[null,null,null,null,null,null,null,null,null,null,null,null,null,null,{"$f":"IF(#REF!=\"\",\"\",IF(#REF!<TODAY(),0,IF(#REF!<(TODAY()+365),1,\"X\")))","v":{"$error":"#REF!"}},{"$f":"IF(#REF!=\"\",\"\",\"X\")","v":{"$error":"#REF!"}}]
[null,null,null,null,null,null,null,null,null,null,null,null,null,null,{"$f":"IF(#REF!=\"\",\"\",IF(#REF!<TODAY(),0,IF(#REF!<(TODAY()+365),1,\"X\")))","v":{"$error":"#REF!"}},{"$f":"IF(#REF!=\"\",\"\",\"X\")","v":{"$error":"#REF!"}}]
[null,null,null,null,null,null,null,null,null,null,null,null,null,null,{"$f":"IF(#REF!=\"\",\"\",IF(#REF!<TODAY(),0,IF(#REF!<(TODAY()+365),1,\"X\")))","v":{"$error":"#REF!"}},{"$f":"IF(#REF!=\"\",\"\",\"X\")","v":{"$error":"#REF!"}}]
[null,null,null,null,null,null,null,null,null,null,null,null,null,null,{"$f":"IF(#REF!=\"\",\"\",IF(#REF!<TODAY(),0,IF(#REF!<(TODAY()+365),1,\"X\")))","v":{"$error":"#REF!"}},{"$f":"IF(#REF!=\"\",\"\",\"X\")","v":{"$error":"#REF!"}}]
[null,null,null,null,null,null,null,null,null,null,null,null,null,null,{"$f":"IF(#REF!=\"\",\"\",IF(#REF!<TODAY(),0,IF(#REF!<(TODAY()+365),1,\"X\")))","v":{"$error":"#REF!"}},{"$f":"IF(#REF!=\"\",\"\",\"X\")","v":{"$error":"#REF!"}}]
[null,null,null,null,null,null,null,null,null,null,null,null,null,null,{"$f":"IF(#REF!=\"\",\"\",IF(#REF!<TODAY(),0,IF(#REF!<(TODAY()+365),1,\"X\")))","v":{"$error":"#REF!"}},{"$f":"IF(#REF!=\"\",\"\",\"X\")","v":{"$error":"#REF!"}}]
[null,null,null,null,null,null,null,null,null,null,null,null,null,null,{"$f":"IF(#REF!=\"\",\"\",IF(#REF!<TODAY(),0,IF(#REF!<(TODAY()+365),1,\"X\")))","v":{"$error":"#REF!"}},{"$f":"IF(#REF!=\"\",\"\",\"X\")","v":{"$error":"#REF!"}}]
[null,null,null,null,null,null,null,null,null,null,null,null,null,null,{"$f":"IF(#REF!=\"\",\"\",IF(#REF!<TODAY(),0,IF(#REF!<(TODAY()+365),1,\"X\")))","v":{"$error":"#REF!"}},{"$f":"IF(#REF!=\"\",\"\",\"X\")","v":{"$error":"#REF!"}}]
[null,null,null,null,null,null,null,null,null,null,null,null,null,null,{"$f":"IF(#REF!=\"\",\"\",IF(#REF!<TODAY(),0,IF(#REF!<(TODAY()+365),1,\"X\")))","v":{"$error":"#REF!"}},{"$f":"IF(#REF!=\"\",\"\",\"X\")","v":{"$error":"#REF!"}}]
[null,null,null,null,null,null,null,null,null,null,null,null,null,null,{"$f":"IF(#REF!=\"\",\"\",IF(#REF!<TODAY(),0,IF(#REF!<(TODAY()+365),1,\"X\")))","v":{"$error":"#REF!"}},{"$f":"IF(#REF!=\"\",\"\",\"X\")","v":{"$error":"#REF!"}}]
[null,null,null,null,null,null,null,null,null,null,null,null,null,null,{"$f":"IF(#REF!=\"\",\"\",IF(#REF!<TODAY(),0,IF(#REF!<(TODAY()+365),1,\"X\")))","v":{"$error":"#REF!"}},{"$f":"IF(#REF!=\"\",\"\",\"X\")","v":{"$error":"#REF!"}}]
[null,null,null,null,null,null,null,null,null,null,null,null,null,null,{"$f":"IF(#REF!=\"\",\"\",IF(#REF!<TODAY(),0,IF(#REF!<(TODAY()+365),1,\"X\")))","v":{"$error":"#REF!"}},{"$f":"IF(#REF!=\"\",\"\",\"X\")","v":{"$error":"#REF!"}}]
[null,null,null,null,null,null,null,null,null,null,null,null,null,null,{"$f":"IF(#REF!=\"\",\"\",IF(#REF!<TODAY(),0,IF(#REF!<(TODAY()+365),1,\"X\")))","v":{"$error":"#REF!"}},{"$f":"IF(#REF!=\"\",\"\",\"X\")","v":{"$error":"#REF!"}}]
[null,null,null,null,null,null,null,null,null,null,null,null,null,null,{"$f":"IF(#REF!=\"\",\"\",IF(#REF!<TODAY(),0,IF(#REF!<(TODAY()+365),1,\"X\")))","v":{"$error":"#REF!"}},{"$f":"IF(#REF!=\"\",\"\",\"X\")","v":{"$error":"#REF!"}}]
[null,null,null,null,null,null,null,null,null,null,null,null,null,null,{"$f":"IF(#REF!=\"\",\"\",IF(#REF!<TODAY(),0,IF(#REF!<(TODAY()+365),1,\"X\")))","v":{"$error":"#REF!"}},{"$f":"IF(#REF!=\"\",\"\",\"X\")","v":{"$error":"#REF!"}}]
[null,null,null,null,null,null,null,null,null,null,null,null,null,null,{"$f":"IF(#REF!=\"\",\"\",IF(#REF!<TODAY(),0,IF(#REF!<(TODAY()+365),1,\"X\")))","v":{"$error":"#REF!"}},{"$f":"IF(#REF!=\"\",\"\",\"X\")","v":{"$error":"#REF!"}}]
[null,null,null,null,null,null,null,null,null,null,null,null,null,null,{"$f":"IF(#REF!=\"\",\"\",IF(#REF!<TODAY(),0,IF(#REF!<(TODAY()+365),1,\"X\")))","v":{"$error":"#REF!"}},{"$f":"IF(#REF!=\"\",\"\",\"X\")","v":{"$error":"#REF!"}}]
[null,null,null,null,null,null,null,null,null,null,null,null,null,null,{"$f":"IF(#REF!=\"\",\"\",IF(#REF!<TODAY(),0,IF(#REF!<(TODAY()+365),1,\"X\")))","v":{"$error":"#REF!"}},{"$f":"IF(#REF!=\"\",\"\",\"X\")","v":{"$error":"#REF!"}}]
[null,null,null,null,null,null,null,null,null,null,null,null,null,null,{"$f":"IF(#REF!=\"\",\"\",IF(#REF!<TODAY(),0,IF(#REF!<(TODAY()+365),1,\"X\")))","v":{"$error":"#REF!"}},{"$f":"IF(#REF!=\"\",\"\",\"X\")","v":{"$error":"#REF!"}}]
[null,null,null,null,null,null,null,null,null,null,null,null,null,null,{"$f":"IF(#REF!=\"\",\"\",IF(#REF!<TODAY(),0,IF(#REF!<(TODAY()+365),1,\"X\")))","v":{"$error":"#REF!"}},{"$f":"IF(#REF!=\"\",\"\",\"X\")","v":{"$error":"#REF!"}}]
[null,null,null,null,null,null,null,null,null,null,null,null,null,null,{"$f":"IF(#REF!=\"\",\"\",IF(#REF!<TODAY(),0,IF(#REF!<(TODAY()+365),1,\"X\")))","v":{"$error":"#REF!"}},{"$f":"IF(#REF!=\"\",\"\",\"X\")","v":{"$error":"#REF!"}}]
[null,null,null,null,null,null,null,null,null,null,null,null,null,null,{"$f":"IF(#REF!=\"\",\"\",IF(#REF!<TODAY(),0,IF(#REF!<(TODAY()+365),1,\"X\")))","v":{"$error":"#REF!"}},{"$f":"IF(#REF!=\"\",\"\",\"X\")","v":{"$error":"#REF!"}}]
[null,null,null,null,null,null,null,null,null,null,null,null,null,null,{"$f":"IF(#REF!=\"\",\"\",IF(#REF!<TODAY(),0,IF(#REF!<(TODAY()+365),1,\"X\")))","v":{"$error":"#REF!"}},{"$f":"IF(#REF!=\"\",\"\",\"X\")","v":{"$error":"#REF!"}}]
[null,null,null,null,null,null,null,null,null,null,null,null,null,null,{"$f":"IF(#REF!=\"\",\"\",IF(#REF!<TODAY(),0,IF(#REF!<(TODAY()+365),1,\"X\")))","v":{"$error":"#REF!"}},{"$f":"IF(#REF!=\"\",\"\",\"X\")","v":{"$error":"#REF!"}}]
[null,null,null,null,null,null,null,null,null,null,null,null,null,null,{"$f":"IF(#REF!=\"\",\"\",IF(#REF!<TODAY(),0,IF(#REF!<(TODAY()+365),1,\"X\")))","v":{"$error":"#REF!"}},{"$f":"IF(#REF!=\"\",\"\",\"X\")","v":{"$error":"#REF!"}}]
[null,null,null,null,null,null,null,null,null,null,null,null,null,null,{"$f":"IF(#REF!=\"\",\"\",IF(#REF!<TODAY(),0,IF(#REF!<(TODAY()+365),1,\"X\")))","v":{"$error":"#REF!"}},{"$f":"IF(#REF!=\"\",\"\",\"X\")","v":{"$error":"#REF!"}}]
[null,null,null,null,null,null,null,null,null,null,null,null,null,null,{"$f":"IF(#REF!=\"\",\"\",IF(#REF!<TODAY(),0,IF(#REF!<(TODAY()+365),1,\"X\")))","v":{"$error":"#REF!"}},{"$f":"IF(#REF!=\"\",\"\",\"X\")","v":{"$error":"#REF!"}}]
[null,null,null,null,null,null,null,null,null,null,null,null,null,null,{"$f":"IF(#REF!=\"\",\"\",IF(#REF!<TODAY(),0,IF(#REF!<(TODAY()+365),1,\"X\")))","v":{"$error":"#REF!"}},{"$f":"IF(#REF!=\"\",\"\",\"X\")","v":{"$error":"#REF!"}}]
[null,null,null,null,null,null,null,null,null,null,null,null,null,null,{"$f":"IF(#REF!=\"\",\"\",IF(#REF!<TODAY(),0,IF(#REF!<(TODAY()+365),1,\"X\")))","v":{"$error":"#REF!"}},{"$f":"IF(#REF!=\"\",\"\",\"X\")","v":{"$error":"#REF!"}}]
[null,null,null,null,null,null,null,null,null,null,null,null,null,null,{"$f":"IF(#REF!=\"\",\"\",IF(#REF!<TODAY(),0,IF(#REF!<(TODAY()+365),1,\"X\")))","v":{"$error":"#REF!"}},{"$f":"IF(#REF!=\"\",\"\",\"X\")","v":{"$error":"#REF!"}}]
[null,null,null,null,null,null,null,null,null,null,null,null,null,null,{"$f":"IF(#REF!=\"\",\"\",IF(#REF!<TODAY(),0,IF(#REF!<(TODAY()+365),1,\"X\")))","v":{"$error":"#REF!"}},{"$f":"IF(#REF!=\"\",\"\",\"X\")","v":{"$error":"#REF!"}}]
[null,null,null,null,null,null,null,null,null,null,null,null,null,null,{"$f":"IF(#REF!=\"\",\"\",IF(#REF!<TODAY(),0,IF(#REF!<(TODAY()+365),1,\"X\")))","v":{"$error":"#REF!"}},{"$f":"IF(#REF!=\"\",\"\",\"X\")","v":{"$error":"#REF!"}}]
[null,null,null,null,null,null,null,null,null,null,null,null,null,null,{"$f":"IF(#REF!=\"\",\"\",IF(#REF!<TODAY(),0,IF(#REF!<(TODAY()+365),1,\"X\")))","v":{"$error":"#REF!"}},{"$f":"IF(#REF!=\"\",\"\",\"X\")","v":{"$error":"#REF!"}}]
[null,null,null,null,null,null,null,null,null,null,null,null,null,null,{"$f":"IF(#REF!=\"\",\"\",IF(#REF!<TODAY(),0,IF(#REF!<(TODAY()+365),1,\"X\")))","v":{"$error":"#REF!"}},{"$f":"IF(#REF!=\"\",\"\",\"X\")","v":{"$error":"#REF!"}}]
[null,null,null,null,null,null,null,null,null,null,null,null,null,null,{"$f":"IF(#REF!=\"\",\"\",IF(#REF!<TODAY(),0,IF(#REF!<(TODAY()+365),1,\"X\")))","v":{"$error":"#REF!"}},{"$f":"IF(#REF!=\"\",\"\",\"X\")","v":{"$error":"#REF!"}}]
[null,null,null,null,null,null,null,null,null,null,null,null,null,null,{"$f":"IF(#REF!=\"\",\"\",IF(#REF!<TODAY(),0,IF(#REF!<(TODAY()+365),1,\"X\")))","v":{"$error":"#REF!"}},{"$f":"IF(#REF!=\"\",\"\",\"X\")","v":{"$error":"#REF!"}}]
[null,null,null,null,null,null,null,null,null,null,null,null,null,null,{"$f":"IF(#REF!=\"\",\"\",IF(#REF!<TODAY(),0,IF(#REF!<(TODAY()+365),1,\"X\")))","v":{"$error":"#REF!"}},{"$f":"IF(#REF!=\"\",\"\",\"X\")","v":{"$error":"#REF!"}}]
[null,null,null,null,null,null,null,null,null,null,null,null,null,null,{"$f":"IF(#REF!=\"\",\"\",IF(#REF!<TODAY(),0,IF(#REF!<(TODAY()+365),1,\"X\")))","v":{"$error":"#REF!"}},{"$f":"IF(#REF!=\"\",\"\",\"X\")","v":{"$error":"#REF!"}}]
[null,null,null,null,null,null,null,null,null,null,null,null,null,null,{"$f":"IF(#REF!=\"\",\"\",IF(#REF!<TODAY(),0,IF(#REF!<(TODAY()+365),1,\"X\")))","v":{"$error":"#REF!"}},{"$f":"IF(#REF!=\"\",\"\",\"X\")","v":{"$error":"#REF!"}}]
[null,null,null,null,null,null,null,null,null,null,null,null,null,null,{"$f":"IF(#REF!=\"\",\"\",IF(#REF!<TODAY(),0,IF(#REF!<(TODAY()+365),1,\"X\")))","v":{"$error":"#REF!"}},{"$f":"IF(#REF!=\"\",\"\",\"X\")","v":{"$error":"#REF!"}}]
[null,null,null,null,null,null,null,null,null,null,null,null,null,null,{"$f":"IF(#REF!=\"\",\"\",IF(#REF!<TODAY(),0,IF(#REF!<(TODAY()+365),1,\"X\")))","v":{"$error":"#REF!"}},{"$f":"IF(#REF!=\"\",\"\",\"X\")","v":{"$error":"#REF!"}}]
[null,null,null,null,null,null,null,null,null,null,null,null,null,null,{"$f":"IF(#REF!=\"\",\"\",IF(#REF!<TODAY(),0,IF(#REF!<(TODAY()+365),1,\"X\")))","v":{"$error":"#REF!"}},{"$f":"IF(#REF!=\"\",\"\",\"X\")","v":{"$error":"#REF!"}}]
[null,null,null,null,null,null,null,null,null,null,null,null,null,null,{"$f":"IF(#REF!=\"\",\"\",IF(#REF!<TODAY(),0,IF(#REF!<(TODAY()+365),1,\"X\")))","v":{"$error":"#REF!"}},{"$f":"IF(#REF!=\"\",\"\",\"X\")","v":{"$error":"#REF!"}}]
[null,null,null,null,null,null,null,null,null,null,null,null,null,null,{"$f":"IF(#REF!=\"\",\"\",IF(#REF!<TODAY(),0,IF(#REF!<(TODAY()+365),1,\"X\")))","v":{"$error":"#REF!"}},{"$f":"IF(#REF!=\"\",\"\",\"X\")","v":{"$error":"#REF!"}}]
[null,null,null,null,null,null,null,null,null,null,null,null,null,null,{"$f":"IF(#REF!=\"\",\"\",IF(#REF!<TODAY(),0,IF(#REF!<(TODAY()+365),1,\"X\")))","v":{"$error":"#REF!"}},{"$f":"IF(#REF!=\"\",\"\",\"X\")","v":{"$error":"#REF!"}}]
[null,null,null,null,null,null,null,null,null,null,null,null,null,null,{"$f":"IF(#REF!=\"\",\"\",IF(#REF!<TODAY(),0,IF(#REF!<(TODAY()+365),1,\"X\")))","v":{"$error":"#REF!"}},{"$f":"IF(#REF!=\"\",\"\",\"X\")","v":{"$error":"#REF!"}}]
[null,null,null,null,null,null,null,null,null,null,null,null,null,null,{"$f":"IF(#REF!=\"\",\"\",IF(#REF!<TODAY(),0,IF(#REF!<(TODAY()+365),1,\"X\")))","v":{"$error":"#REF!"}},{"$f":"IF(#REF!=\"\",\"\",\"X\")","v":{"$error":"#REF!"}}]
[null,null,null,null,null,null,null,null,null,null,null,null,null,null,{"$f":"IF(#REF!=\"\",\"\",IF(#REF!<TODAY(),0,IF(#REF!<(TODAY()+365),1,\"X\")))","v":{"$error":"#REF!"}},{"$f":"IF(#REF!=\"\",\"\",\"X\")","v":{"$error":"#REF!"}}]
[null,null,null,null,null,null,null,null,null,null,null,null,null,null,{"$f":"IF(#REF!=\"\",\"\",IF(#REF!<TODAY(),0,IF(#REF!<(TODAY()+365),1,\"X\")))","v":{"$error":"#REF!"}},{"$f":"IF(#REF!=\"\",\"\",\"X\")","v":{"$error":"#REF!"}}]
[null,null,null,null,null,null,null,null,null,null,null,null,null,null,{"$f":"IF(#REF!=\"\",\"\",IF(#REF!<TODAY(),0,IF(#REF!<(TODAY()+365),1,\"X\")))","v":{"$error":"#REF!"}},{"$f":"IF(#REF!=\"\",\"\",\"X\")","v":{"$error":"#REF!"}}]
[null,null,null,null,null,null,null,null,null,null,null,null,null,null,{"$f":"IF(#REF!=\"\",\"\",IF(#REF!<TODAY(),0,IF(#REF!<(TODAY()+365),1,\"X\")))","v":{"$error":"#REF!"}},{"$f":"IF(#REF!=\"\",\"\",\"X\")","v":{"$error":"#REF!"}}]
[null,null,null,null,null,null,null,null,null,null,null,null,null,null,{"$f":"IF(#REF!=\"\",\"\",IF(#REF!<TODAY(),0,IF(#REF!<(TODAY()+365),1,\"X\")))","v":{"$error":"#REF!"}},{"$f":"IF(#REF!=\"\",\"\",\"X\")","v":{"$error":"#REF!"}}]
[null,null,null,null,null,null,null,null,null,null,null,null,null,null,{"$f":"IF(#REF!=\"\",\"\",IF(#REF!<TODAY(),0,IF(#REF!<(TODAY()+365),1,\"X\")))","v":{"$error":"#REF!"}},{"$f":"IF(#REF!=\"\",\"\",\"X\")","v":{"$error":"#REF!"}}]
[null,null,null,null,null,null,null,null,null,null,null,null,null,null,{"$f":"IF(#REF!=\"\",\"\",IF(#REF!<TODAY(),0,IF(#REF!<(TODAY()+365),1,\"X\")))","v":{"$error":"#REF!"}},{"$f":"IF(#REF!=\"\",\"\",\"X\")","v":{"$error":"#REF!"}}]
[null,null,null,null,null,null,null,null,null,null,null,null,null,null,{"$f":"IF(#REF!=\"\",\"\",IF(#REF!<TODAY(),0,IF(#REF!<(TODAY()+365),1,\"X\")))","v":{"$error":"#REF!"}},{"$f":"IF(#REF!=\"\",\"\",\"X\")","v":{"$error":"#REF!"}}]
[null,null,null,null,null,null,null,null,null,null,null,null,null,null,{"$f":"IF(#REF!=\"\",\"\",IF(#REF!<TODAY(),0,IF(#REF!<(TODAY()+365),1,\"X\")))","v":{"$error":"#REF!"}},{"$f":"IF(#REF!=\"\",\"\",\"X\")","v":{"$error":"#REF!"}}]
[null,null,null,null,null,null,null,null,null,null,null,null,null,null,{"$f":"IF(#REF!=\"\",\"\",IF(#REF!<TODAY(),0,IF(#REF!<(TODAY()+365),1,\"X\")))","v":{"$error":"#REF!"}},{"$f":"IF(#REF!=\"\",\"\",\"X\")","v":{"$error":"#REF!"}}]
[null,null,null,null,null,null,null,null,null,null,null,null,null,null,{"$f":"IF(#REF!=\"\",\"\",IF(#REF!<TODAY(),0,IF(#REF!<(TODAY()+365),1,\"X\")))","v":{"$error":"#REF!"}},{"$f":"IF(#REF!=\"\",\"\",\"X\")","v":{"$error":"#REF!"}}]
[null,null,null,null,null,null,null,null,null,null,null,null,null,null,{"$f":"IF(#REF!=\"\",\"\",IF(#REF!<TODAY(),0,IF(#REF!<(TODAY()+365),1,\"X\")))","v":{"$error":"#REF!"}},{"$f":"IF(#REF!=\"\",\"\",\"X\")","v":{"$error":"#REF!"}}]
[null,null,null,null,null,null,null,null,null,null,null,null,null,null,{"$f":"IF(#REF!=\"\",\"\",IF(#REF!<TODAY(),0,IF(#REF!<(TODAY()+365),1,\"X\")))","v":{"$error":"#REF!"}},{"$f":"IF(#REF!=\"\",\"\",\"X\")","v":{"$error":"#REF!"}}]
[null,null,null,null,null,null,null,null,null,null,null,null,null,null,{"$f":"IF(#REF!=\"\",\"\",IF(#REF!<TODAY(),0,IF(#REF!<(TODAY()+365),1,\"X\")))","v":{"$error":"#REF!"}},{"$f":"IF(#REF!=\"\",\"\",\"X\")","v":{"$error":"#REF!"}}]
[null,null,null,null,null,null,null,null,null,null,null,null,null,null,{"$f":"IF(#REF!=\"\",\"\",IF(#REF!<TODAY(),0,IF(#REF!<(TODAY()+365),1,\"X\")))","v":{"$error":"#REF!"}},{"$f":"IF(#REF!=\"\",\"\",\"X\")","v":{"$error":"#REF!"}}]
[null,null,null,null,null,null,null,null,null,null,null,null,null,null,{"$f":"IF(#REF!=\"\",\"\",IF(#REF!<TODAY(),0,IF(#REF!<(TODAY()+365),1,\"X\")))","v":{"$error":"#REF!"}},{"$f":"IF(#REF!=\"\",\"\",\"X\")","v":{"$error":"#REF!"}}]
[null,null,null,null,null,null,null,null,null,null,null,null,null,null,{"$f":"IF(#REF!=\"\",\"\",IF(#REF!<TODAY(),0,IF(#REF!<(TODAY()+365),1,\"X\")))","v":{"$error":"#REF!"}},{"$f":"IF(#REF!=\"\",\"\",\"X\")","v":{"$error":"#REF!"}}]
[null,null,null,null,null,null,null,null,null,null,null,null,null,null,{"$f":"IF(#REF!=\"\",\"\",IF(#REF!<TODAY(),0,IF(#REF!<(TODAY()+365),1,\"X\")))","v":{"$error":"#REF!"}},{"$f":"IF(#REF!=\"\",\"\",\"X\")","v":{"$error":"#REF!"}}]
[null,null,null,null,null,null,null,null,null,null,null,null,null,null,{"$f":"IF(#REF!=\"\",\"\",IF(#REF!<TODAY(),0,IF(#REF!<(TODAY()+365),1,\"X\")))","v":{"$error":"#REF!"}},{"$f":"IF(#REF!=\"\",\"\",\"X\")","v":{"$error":"#REF!"}}]
[null,null,null,null,null,null,null,null,null,null,null,null,null,null,{"$f":"IF(#REF!=\"\",\"\",IF(#REF!<TODAY(),0,IF(#REF!<(TODAY()+365),1,\"X\")))","v":{"$error":"#REF!"}},{"$f":"IF(#REF!=\"\",\"\",\"X\")","v":{"$error":"#REF!"}}]
[null,null,null,null,null,null,null,null,null,null,null,null,null,null,{"$f":"IF(#REF!=\"\",\"\",IF(#REF!<TODAY(),0,IF(#REF!<(TODAY()+365),1,\"X\")))","v":{"$error":"#REF!"}},{"$f":"IF(#REF!=\"\",\"\",\"X\")","v":{"$error":"#REF!"}}]
[null,null,null,null,null,null,null,null,null,null,null,null,null,null,{"$f":"IF(#REF!=\"\",\"\",IF(#REF!<TODAY(),0,IF(#REF!<(TODAY()+365),1,\"X\")))","v":{"$error":"#REF!"}},{"$f":"IF(#REF!=\"\",\"\",\"X\")","v":{"$error":"#REF!"}}]
[null,null,null,null,null,null,null,null,null,null,null,null,null,null,{"$f":"IF(#REF!=\"\",\"\",IF(#REF!<TODAY(),0,IF(#REF!<(TODAY()+365),1,\"X\")))","v":{"$error":"#REF!"}},{"$f":"IF(#REF!=\"\",\"\",\"X\")","v":{"$error":"#REF!"}}]
[null,null,null,null,null,null,null,null,null,null,null,null,null,null,{"$f":"IF(#REF!=\"\",\"\",IF(#REF!<TODAY(),0,IF(#REF!<(TODAY()+365),1,\"X\")))","v":{"$error":"#REF!"}},{"$f":"IF(#REF!=\"\",\"\",\"X\")","v":{"$error":"#REF!"}}]
[null,null,null,null,null,null,null,null,null,null,null,null,null,null,{"$f":"IF(#REF!=\"\",\"\",IF(#REF!<TODAY(),0,IF(#REF!<(TODAY()+365),1,\"X\")))","v":{"$error":"#REF!"}},{"$f":"IF(#REF!=\"\",\"\",\"X\")","v":{"$error":"#REF!"}}]
[null,null,null,null,null,null,null,null,null,null,null,null,null,null,{"$f":"IF(#REF!=\"\",\"\",IF(#REF!<TODAY(),0,IF(#REF!<(TODAY()+365),1,\"X\")))","v":{"$error":"#REF!"}},{"$f":"IF(#REF!=\"\",\"\",\"X\")","v":{"$error":"#REF!"}}]
[null,null,null,null,null,null,null,null,null,null,null,null,null,null,{"$f":"IF(#REF!=\"\",\"\",IF(#REF!<TODAY(),0,IF(#REF!<(TODAY()+365),1,\"X\")))","v":{"$error":"#REF!"}},{"$f":"IF(#REF!=\"\",\"\",\"X\")","v":{"$error":"#REF!"}}]
[null,null,null,null,null,null,null,null,null,null,null,null,null,null,{"$f":"IF(#REF!=\"\",\"\",IF(#REF!<TODAY(),0,IF(#REF!<(TODAY()+365),1,\"X\")))","v":{"$error":"#REF!"}},{"$f":"IF(#REF!=\"\",\"\",\"X\")","v":{"$error":"#REF!"}}]
[null,null,null,null,null,null,null,null,null,null,null,null,null,null,{"$f":"IF(#REF!=\"\",\"\",IF(#REF!<TODAY(),0,IF(#REF!<(TODAY()+365),1,\"X\")))","v":{"$error":"#REF!"}},{"$f":"IF(#REF!=\"\",\"\",\"X\")","v":{"$error":"#REF!"}}]
[null,null,null,null,null,null,null,null,null,null,null,null,null,null,{"$f":"IF(#REF!=\"\",\"\",IF(#REF!<TODAY(),0,IF(#REF!<(TODAY()+365),1,\"X\")))","v":{"$error":"#REF!"}},{"$f":"IF(#REF!=\"\",\"\",\"X\")","v":{"$error":"#REF!"}}]
[null,null,null,null,null,null,null,null,null,null,null,null,null,null,{"$f":"IF(#REF!=\"\",\"\",IF(#REF!<TODAY(),0,IF(#REF!<(TODAY()+365),1,\"X\")))","v":{"$error":"#REF!"}},{"$f":"IF(#REF!=\"\",\"\",\"X\")","v":{"$error":"#REF!"}}]
[null,null,null,null,null,null,null,null,null,null,null,null,null,null,{"$f":"IF(#REF!=\"\",\"\",IF(#REF!<TODAY(),0,IF(#REF!<(TODAY()+365),1,\"X\")))","v":{"$error":"#REF!"}},{"$f":"IF(#REF!=\"\",\"\",\"X\")","v":{"$error":"#REF!"}}]
[null,null,null,null,null,null,null,null,null,null,null,null,null,null,{"$f":"IF(#REF!=\"\",\"\",IF(#REF!<TODAY(),0,IF(#REF!<(TODAY()+365),1,\"X\")))","v":{"$error":"#REF!"}},{"$f":"IF(#REF!=\"\",\"\",\"X\")","v":{"$error":"#REF!"}}]
[null,null,null,null,null,null,null,null,null,null,null,null,null,null,{"$f":"IF(#REF!=\"\",\"\",IF(#REF!<TODAY(),0,IF(#REF!<(TODAY()+365),1,\"X\")))","v":{"$error":"#REF!"}},{"$f":"IF(#REF!=\"\",\"\",\"X\")","v":{"$error":"#REF!"}}]
[null,null,null,null,null,null,null,null,null,null,null,null,null,null,{"$f":"IF(#REF!=\"\",\"\",IF(#REF!<TODAY(),0,IF(#REF!<(TODAY()+365),1,\"X\")))","v":{"$error":"#REF!"}},{"$f":"IF(#REF!=\"\",\"\",\"X\")","v":{"$error":"#REF!"}}]
[null,null,null,null,null,null,null,null,null,null,null,null,null,null,{"$f":"IF(#REF!=\"\",\"\",IF(#REF!<TODAY(),0,IF(#REF!<(TODAY()+365),1,\"X\")))","v":{"$error":"#REF!"}},{"$f":"IF(#REF!=\"\",\"\",\"X\")","v":{"$error":"#REF!"}}]
[null,null,null,null,null,null,null,null,null,null,null,null,null,null,{"$f":"IF(#REF!=\"\",\"\",IF(#REF!<TODAY(),0,IF(#REF!<(TODAY()+365),1,\"X\")))","v":{"$error":"#REF!"}},{"$f":"IF(#REF!=\"\",\"\",\"X\")","v":{"$error":"#REF!"}}]
[null,null,null,null,null,null,null,null,null,null,null,null,null,null,{"$f":"IF(#REF!=\"\",\"\",IF(#REF!<TODAY(),0,IF(#REF!<(TODAY()+365),1,\"X\")))","v":{"$error":"#REF!"}},{"$f":"IF(#REF!=\"\",\"\",\"X\")","v":{"$error":"#REF!"}}]
[null,null,null,null,null,null,null,null,null,null,null,null,null,null,{"$f":"IF(#REF!=\"\",\"\",IF(#REF!<TODAY(),0,IF(#REF!<(TODAY()+365),1,\"X\")))","v":{"$error":"#REF!"}},{"$f":"IF(#REF!=\"\",\"\",\"X\")","v":{"$error":"#REF!"}}]
[null,null,null,null,null,null,null,null,null,null,null,null,null,null,{"$f":"IF(#REF!=\"\",\"\",IF(#REF!<TODAY(),0,IF(#REF!<(TODAY()+365),1,\"X\")))","v":{"$error":"#REF!"}},{"$f":"IF(#REF!=\"\",\"\",\"X\")","v":{"$error":"#REF!"}}]
[null,null,null,null,null,null,null,null,null,null,null,null,null,null,{"$f":"IF(#REF!=\"\",\"\",IF(#REF!<TODAY(),0,IF(#REF!<(TODAY()+365),1,\"X\")))","v":{"$error":"#REF!"}},{"$f":"IF(#REF!=\"\",\"\",\"X\")","v":{"$error":"#REF!"}}]
[null,null,null,null,null,null,null,null,null,null,null,null,null,null,{"$f":"IF(#REF!=\"\",\"\",IF(#REF!<TODAY(),0,IF(#REF!<(TODAY()+365),1,\"X\")))","v":{"$error":"#REF!"}},{"$f":"IF(#REF!=\"\",\"\",\"X\")","v":{"$error":"#REF!"}}]
[null,null,null,null,null,null,null,null,null,null,null,null,null,null,{"$f":"IF(#REF!=\"\",\"\",IF(#REF!<TODAY(),0,IF(#REF!<(TODAY()+365),1,\"X\")))","v":{"$error":"#REF!"}},{"$f":"IF(#REF!=\"\",\"\",\"X\")","v":{"$error":"#REF!"}}]
[null,null,null,null,null,null,null,null,null,null,null,null,null,null,{"$f":"IF(#REF!=\"\",\"\",IF(#REF!<TODAY(),0,IF(#REF!<(TODAY()+365),1,\"X\")))","v":{"$error":"#REF!"}},{"$f":"IF(#REF!=\"\",\"\",\"X\")","v":{"$error":"#REF!"}}]
[null,null,null,null,null,null,null,null,null,null,null,null,null,null,{"$f":"IF(#REF!=\"\",\"\",IF(#REF!<TODAY(),0,IF(#REF!<(TODAY()+365),1,\"X\")))","v":{"$error":"#REF!"}},{"$f":"IF(#REF!=\"\",\"\",\"X\")","v":{"$error":"#REF!"}}]
[null,null,null,null,null,null,null,null,null,null,null,null,null,null,{"$f":"IF(#REF!=\"\",\"\",IF(#REF!<TODAY(),0,IF(#REF!<(TODAY()+365),1,\"X\")))","v":{"$error":"#REF!"}},{"$f":"IF(#REF!=\"\",\"\",\"X\")","v":{"$error":"#REF!"}}]
[null,null,null,null,null,null,null,null,null,null,null,null,null,null,{"$f":"IF(#REF!=\"\",\"\",IF(#REF!<TODAY(),0,IF(#REF!<(TODAY()+365),1,\"X\")))","v":{"$error":"#REF!"}},{"$f":"IF(#REF!=\"\",\"\",\"X\")","v":{"$error":"#REF!"}}]
[null,null,null,null,null,null,null,null,null,null,null,null,null,null,{"$f":"IF(#REF!=\"\",\"\",IF(#REF!<TODAY(),0,IF(#REF!<(TODAY()+365),1,\"X\")))","v":{"$error":"#REF!"}},{"$f":"IF(#REF!=\"\",\"\",\"X\")","v":{"$error":"#REF!"}}]
[null,null,null,null,null,null,null,null,null,null,null,null,null,null,{"$f":"IF(#REF!=\"\",\"\",IF(#REF!<TODAY(),0,IF(#REF!<(TODAY()+365),1,\"X\")))","v":{"$error":"#REF!"}},{"$f":"IF(#REF!=\"\",\"\",\"X\")","v":{"$error":"#REF!"}}]
[null,null,null,null,null,null,null,null,null,null,null,null,null,null,{"$f":"IF(#REF!=\"\",\"\",IF(#REF!<TODAY(),0,IF(#REF!<(TODAY()+365),1,\"X\")))","v":{"$error":"#REF!"}},{"$f":"IF(#REF!=\"\",\"\",\"X\")","v":{"$error":"#REF!"}}]
[null,null,null,null,null,null,null,null,null,null,null,null,null,null,{"$f":"IF(#REF!=\"\",\"\",IF(#REF!<TODAY(),0,IF(#REF!<(TODAY()+365),1,\"X\")))","v":{"$error":"#REF!"}},{"$f":"IF(#REF!=\"\",\"\",\"X\")","v":{"$error":"#REF!"}}]
[null,null,null,null,null,null,null,null,null,null,null,null,null,null,{"$f":"IF(#REF!=\"\",\"\",IF(#REF!<TODAY(),0,IF(#REF!<(TODAY()+365),1,\"X\")))","v":{"$error":"#REF!"}},{"$f":"IF(#REF!=\"\",\"\",\"X\")","v":{"$error":"#REF!"}}]
[null,null,null,null,null,null,null,null,null,null,null,null,null,null,{"$f":"IF(#REF!=\"\",\"\",IF(#REF!<TODAY(),0,IF(#REF!<(TODAY()+365),1,\"X\")))","v":{"$error":"#REF!"}},{"$f":"IF(#REF!=\"\",\"\",\"X\")","v":{"$error":"#REF!"}}]
[null,null,null,null,null,null,null,null,null,null,null,null,null,null,{"$f":"IF(#REF!=\"\",\"\",IF(#REF!<TODAY(),0,IF(#REF!<(TODAY()+365),1,\"X\")))","v":{"$error":"#REF!"}},{"$f":"IF(#REF!=\"\",\"\",\"X\")","v":{"$error":"#REF!"}}]
[null,null,null,null,null,null,null,null,null,null,null,null,null,null,{"$f":"IF(#REF!=\"\",\"\",IF(#REF!<TODAY(),0,IF(#REF!<(TODAY()+365),1,\"X\")))","v":{"$error":"#REF!"}},{"$f":"IF(#REF!=\"\",\"\",\"X\")","v":{"$error":"#REF!"}}]
[null,null,null,null,null,null,null,null,null,null,null,null,null,null,{"$f":"IF(#REF!=\"\",\"\",IF(#REF!<TODAY(),0,IF(#REF!<(TODAY()+365),1,\"X\")))","v":{"$error":"#REF!"}},{"$f":"IF(#REF!=\"\",\"\",\"X\")","v":{"$error":"#REF!"}}]
[null,null,null,null,null,null,null,null,null,null,null,null,null,null,{"$f":"IF(#REF!=\"\",\"\",IF(#REF!<TODAY(),0,IF(#REF!<(TODAY()+365),1,\"X\")))","v":{"$error":"#REF!"}},{"$f":"IF(#REF!=\"\",\"\",\"X\")","v":{"$error":"#REF!"}}]
[null,null,null,null,null,null,null,null,null,null,null,null,null,null,{"$f":"IF(#REF!=\"\",\"\",IF(#REF!<TODAY(),0,IF(#REF!<(TODAY()+365),1,\"X\")))","v":{"$error":"#REF!"}},{"$f":"IF(#REF!=\"\",\"\",\"X\")","v":{"$error":"#REF!"}}]
[null,null,null,null,null,null,null,null,null,null,null,null,null,null,{"$f":"IF(#REF!=\"\",\"\",IF(#REF!<TODAY(),0,IF(#REF!<(TODAY()+365),1,\"X\")))","v":{"$error":"#REF!"}},{"$f":"IF(#REF!=\"\",\"\",\"X\")","v":{"$error":"#REF!"}}]
[null,null,null,null,null,null,null,null,null,null,null,null,null,null,{"$f":"IF(#REF!=\"\",\"\",IF(#REF!<TODAY(),0,IF(#REF!<(TODAY()+365),1,\"X\")))","v":{"$error":"#REF!"}},{"$f":"IF(#REF!=\"\",\"\",\"X\")","v":{"$error":"#REF!"}}]
[null,null,null,null,null,null,null,null,null,null,null,null,null,null,{"$f":"IF(#REF!=\"\",\"\",IF(#REF!<TODAY(),0,IF(#REF!<(TODAY()+365),1,\"X\")))","v":{"$error":"#REF!"}},{"$f":"IF(#REF!=\"\",\"\",\"X\")","v":{"$error":"#REF!"}}]
[null,null,null,null,null,null,null,null,null,null,null,null,null,null,{"$f":"IF(#REF!=\"\",\"\",IF(#REF!<TODAY(),0,IF(#REF!<(TODAY()+365),1,\"X\")))","v":{"$error":"#REF!"}},{"$f":"IF(#REF!=\"\",\"\",\"X\")","v":{"$error":"#REF!"}}]
[null,null,null,null,null,null,null,null,null,null,null,null,null,null,{"$f":"IF(#REF!=\"\",\"\",IF(#REF!<TODAY(),0,IF(#REF!<(TODAY()+365),1,\"X\")))","v":{"$error":"#REF!"}},{"$f":"IF(#REF!=\"\",\"\",\"X\")","v":{"$error":"#REF!"}}]
[null,null,null,null,null,null,null,null,null,null,null,null,null,null,{"$f":"IF(#REF!=\"\",\"\",IF(#REF!<TODAY(),0,IF(#REF!<(TODAY()+365),1,\"X\")))","v":{"$error":"#REF!"}},{"$f":"IF(#REF!=\"\",\"\",\"X\")","v":{"$error":"#REF!"}}]
[null,null,null,null,null,null,null,null,null,null,null,null,null,null,{"$f":"IF(#REF!=\"\",\"\",IF(#REF!<TODAY(),0,IF(#REF!<(TODAY()+365),1,\"X\")))","v":{"$error":"#REF!"}},{"$f":"IF(#REF!=\"\",\"\",\"X\")","v":{"$error":"#REF!"}}]
[null,null,null,null,null,null,null,null,null,null,null,null,null,null,{"$f":"IF(#REF!=\"\",\"\",IF(#REF!<TODAY(),0,IF(#REF!<(TODAY()+365),1,\"X\")))","v":{"$error":"#REF!"}},{"$f":"IF(#REF!=\"\",\"\",\"X\")","v":{"$error":"#REF!"}}]
[null,null,null,null,null,null,null,null,null,null,null,null,null,null,{"$f":"IF(#REF!=\"\",\"\",IF(#REF!<TODAY(),0,IF(#REF!<(TODAY()+365),1,\"X\")))","v":{"$error":"#REF!"}},{"$f":"IF(#REF!=\"\",\"\",\"X\")","v":{"$error":"#REF!"}}]
[null,null,null,null,null,null,null,null,null,null,null,null,null,null,{"$f":"IF(#REF!=\"\",\"\",IF(#REF!<TODAY(),0,IF(#REF!<(TODAY()+365),1,\"X\")))","v":{"$error":"#REF!"}},{"$f":"IF(#REF!=\"\",\"\",\"X\")","v":{"$error":"#REF!"}}]
[null,null,null,null,null,null,null,null,null,null,null,null,null,null,{"$f":"IF(#REF!=\"\",\"\",IF(#REF!<TODAY(),0,IF(#REF!<(TODAY()+365),1,\"X\")))","v":{"$error":"#REF!"}},{"$f":"IF(#REF!=\"\",\"\",\"X\")","v":{"$error":"#REF!"}}]
[null,null,null,null,null,null,null,null,null,null,null,null,null,null,{"$f":"IF(#REF!=\"\",\"\",IF(#REF!<TODAY(),0,IF(#REF!<(TODAY()+365),1,\"X\")))","v":{"$error":"#REF!"}},{"$f":"IF(#REF!=\"\",\"\",\"X\")","v":{"$error":"#REF!"}}]
[null,null,null,null,null,null,null,null,null,null,null,null,null,null,{"$f":"IF(#REF!=\"\",\"\",IF(#REF!<TODAY(),0,IF(#REF!<(TODAY()+365),1,\"X\")))","v":{"$error":"#REF!"}},{"$f":"IF(#REF!=\"\",\"\",\"X\")","v":{"$error":"#REF!"}}]
[null,null,null,null,null,null,null,null,null,null,null,null,null,null,{"$f":"IF(#REF!=\"\",\"\",IF(#REF!<TODAY(),0,IF(#REF!<(TODAY()+365),1,\"X\")))","v":{"$error":"#REF!"}},{"$f":"IF(#REF!=\"\",\"\",\"X\")","v":{"$error":"#REF!"}}]
[null,null,null,null,null,null,null,null,null,null,null,null,null,null,{"$f":"IF(#REF!=\"\",\"\",IF(#REF!<TODAY(),0,IF(#REF!<(TODAY()+365),1,\"X\")))","v":{"$error":"#REF!"}},{"$f":"IF(#REF!=\"\",\"\",\"X\")","v":{"$error":"#REF!"}}]
[null,null,null,null,null,null,null,null,null,null,null,null,null,null,{"$f":"IF(#REF!=\"\",\"\",IF(#REF!<TODAY(),0,IF(#REF!<(TODAY()+365),1,\"X\")))","v":{"$error":"#REF!"}},{"$f":"IF(#REF!=\"\",\"\",\"X\")","v":{"$error":"#REF!"}}]
[null,null,null,null,null,null,null,null,null,null,null,null,null,null,{"$f":"IF(#REF!=\"\",\"\",IF(#REF!<TODAY(),0,IF(#REF!<(TODAY()+365),1,\"X\")))","v":{"$error":"#REF!"}},{"$f":"IF(#REF!=\"\",\"\",\"X\")","v":{"$error":"#REF!"}}]
[null,null,null,null,null,null,null,null,null,null,null,null,null,null,{"$f":"IF(#REF!=\"\",\"\",IF(#REF!<TODAY(),0,IF(#REF!<(TODAY()+365),1,\"X\")))","v":{"$error":"#REF!"}},{"$f":"IF(#REF!=\"\",\"\",\"X\")","v":{"$error":"#REF!"}}]
[null,null,null,null,null,null,null,null,null,null,null,null,null,null,{"$f":"IF(#REF!=\"\",\"\",IF(#REF!<TODAY(),0,IF(#REF!<(TODAY()+365),1,\"X\")))","v":{"$error":"#REF!"}},{"$f":"IF(#REF!=\"\",\"\",\"X\")","v":{"$error":"#REF!"}}]
[null,null,null,null,null,null,null,null,null,null,null,null,null,null,{"$f":"IF(#REF!=\"\",\"\",IF(#REF!<TODAY(),0,IF(#REF!<(TODAY()+365),1,\"X\")))","v":{"$error":"#REF!"}},{"$f":"IF(#REF!=\"\",\"\",\"X\")","v":{"$error":"#REF!"}}]
[null,null,null,null,null,null,null,null,null,null,null,null,null,null,{"$f":"IF(#REF!=\"\",\"\",IF(#REF!<TODAY(),0,IF(#REF!<(TODAY()+365),1,\"X\")))","v":{"$error":"#REF!"}},{"$f":"IF(#REF!=\"\",\"\",\"X\")","v":{"$error":"#REF!"}}]
[null,null,null,null,null,null,null,null,null,null,null,null,null,null,{"$f":"IF(#REF!=\"\",\"\",IF(#REF!<TODAY(),0,IF(#REF!<(TODAY()+365),1,\"X\")))","v":{"$error":"#REF!"}},{"$f":"IF(#REF!=\"\",\"\",\"X\")","v":{"$error":"#REF!"}}]
[null,null,null,null,null,null,null,null,null,null,null,null,null,null,{"$f":"IF(#REF!=\"\",\"\",IF(#REF!<TODAY(),0,IF(#REF!<(TODAY()+365),1,\"X\")))","v":{"$error":"#REF!"}},{"$f":"IF(#REF!=\"\",\"\",\"X\")","v":{"$error":"#REF!"}}]
[null,null,null,null,null,null,null,null,null,null,null,null,null,null,{"$f":"IF(#REF!=\"\",\"\",IF(#REF!<TODAY(),0,IF(#REF!<(TODAY()+365),1,\"X\")))","v":{"$error":"#REF!"}},{"$f":"IF(#REF!=\"\",\"\",\"X\")","v":{"$error":"#REF!"}}]
[null,null,null,null,null,null,null,null,null,null,null,null,null,null,{"$f":"IF(#REF!=\"\",\"\",IF(#REF!<TODAY(),0,IF(#REF!<(TODAY()+365),1,\"X\")))","v":{"$error":"#REF!"}},{"$f":"IF(#REF!=\"\",\"\",\"X\")","v":{"$error":"#REF!"}}]
[null,null,null,null,null,null,null,null,null,null,null,null,null,null,{"$f":"IF(#REF!=\"\",\"\",IF(#REF!<TODAY(),0,IF(#REF!<(TODAY()+365),1,\"X\")))","v":{"$error":"#REF!"}},{"$f":"IF(#REF!=\"\",\"\",\"X\")","v":{"$error":"#REF!"}}]
[null,null,null,null,null,null,null,null,null,null,null,null,null,null,{"$f":"IF(#REF!=\"\",\"\",IF(#REF!<TODAY(),0,IF(#REF!<(TODAY()+365),1,\"X\")))","v":{"$error":"#REF!"}},{"$f":"IF(#REF!=\"\",\"\",\"X\")","v":{"$error":"#REF!"}}]
[null,null,null,null,null,null,null,null,null,null,null,null,null,null,{"$f":"IF(#REF!=\"\",\"\",IF(#REF!<TODAY(),0,IF(#REF!<(TODAY()+365),1,\"X\")))","v":{"$error":"#REF!"}},{"$f":"IF(#REF!=\"\",\"\",\"X\")","v":{"$error":"#REF!"}}]
[null,null,null,null,null,null,null,null,null,null,null,null,null,null,{"$f":"IF(#REF!=\"\",\"\",IF(#REF!<TODAY(),0,IF(#REF!<(TODAY()+365),1,\"X\")))","v":{"$error":"#REF!"}},{"$f":"IF(#REF!=\"\",\"\",\"X\")","v":{"$error":"#REF!"}}]
[null,null,null,null,null,null,null,null,null,null,null,null,null,null,{"$f":"IF(#REF!=\"\",\"\",IF(#REF!<TODAY(),0,IF(#REF!<(TODAY()+365),1,\"X\")))","v":{"$error":"#REF!"}},{"$f":"IF(#REF!=\"\",\"\",\"X\")","v":{"$error":"#REF!"}}]
[null,null,null,null,null,null,null,null,null,null,null,null,null,null,{"$f":"IF(#REF!=\"\",\"\",IF(#REF!<TODAY(),0,IF(#REF!<(TODAY()+365),1,\"X\")))","v":{"$error":"#REF!"}},{"$f":"IF(#REF!=\"\",\"\",\"X\")","v":{"$error":"#REF!"}}]
[null,null,null,null,null,null,null,null,null,null,null,null,null,null,{"$f":"IF(#REF!=\"\",\"\",IF(#REF!<TODAY(),0,IF(#REF!<(TODAY()+365),1,\"X\")))","v":{"$error":"#REF!"}},{"$f":"IF(#REF!=\"\",\"\",\"X\")","v":{"$error":"#REF!"}}]
[null,null,null,null,null,null,null,null,null,null,null,null,null,null,{"$f":"IF(#REF!=\"\",\"\",IF(#REF!<TODAY(),0,IF(#REF!<(TODAY()+365),1,\"X\")))","v":{"$error":"#REF!"}},{"$f":"IF(#REF!=\"\",\"\",\"X\")","v":{"$error":"#REF!"}}]
[null,null,null,null,null,null,null,null,null,null,null,null,null,null,{"$f":"IF(#REF!=\"\",\"\",IF(#REF!<TODAY(),0,IF(#REF!<(TODAY()+365),1,\"X\")))","v":{"$error":"#REF!"}},{"$f":"IF(#REF!=\"\",\"\",\"X\")","v":{"$error":"#REF!"}}]
[null,null,null,null,null,null,null,null,null,null,null,null,null,null,{"$f":"IF(#REF!=\"\",\"\",IF(#REF!<TODAY(),0,IF(#REF!<(TODAY()+365),1,\"X\")))","v":{"$error":"#REF!"}},{"$f":"IF(#REF!=\"\",\"\",\"X\")","v":{"$error":"#REF!"}}]
[null,null,null,null,null,null,null,null,null,null,null,null,null,null,{"$f":"IF(#REF!=\"\",\"\",IF(#REF!<TODAY(),0,IF(#REF!<(TODAY()+365),1,\"X\")))","v":{"$error":"#REF!"}},{"$f":"IF(#REF!=\"\",\"\",\"X\")","v":{"$error":"#REF!"}}]
[null,null,null,null,null,null,null,null,null,null,null,null,null,null,{"$f":"IF(#REF!=\"\",\"\",IF(#REF!<TODAY(),0,IF(#REF!<(TODAY()+365),1,\"X\")))","v":{"$error":"#REF!"}},{"$f":"IF(#REF!=\"\",\"\",\"X\")","v":{"$error":"#REF!"}}]
[null,null,null,null,null,null,null,null,null,null,null,null,null,null,{"$f":"IF(#REF!=\"\",\"\",IF(#REF!<TODAY(),0,IF(#REF!<(TODAY()+365),1,\"X\")))","v":{"$error":"#REF!"}},{"$f":"IF(#REF!=\"\",\"\",\"X\")","v":{"$error":"#REF!"}}]
[null,null,null,null,null,null,null,null,null,null,null,null,null,null,{"$f":"IF(#REF!=\"\",\"\",IF(#REF!<TODAY(),0,IF(#REF!<(TODAY()+365),1,\"X\")))","v":{"$error":"#REF!"}},{"$f":"IF(#REF!=\"\",\"\",\"X\")","v":{"$error":"#REF!"}}]
[null,null,null,null,null,null,null,null,null,null,null,null,null,null,{"$f":"IF(#REF!=\"\",\"\",IF(#REF!<TODAY(),0,IF(#REF!<(TODAY()+365),1,\"X\")))","v":{"$error":"#REF!"}},{"$f":"IF(#REF!=\"\",\"\",\"X\")","v":{"$error":"#REF!"}}]
[null,null,null,null,null,null,null,null,null,null,null,null,null,null,{"$f":"IF(#REF!=\"\",\"\",IF(#REF!<TODAY(),0,IF(#REF!<(TODAY()+365),1,\"X\")))","v":{"$error":"#REF!"}},{"$f":"IF(#REF!=\"\",\"\",\"X\")","v":{"$error":"#REF!"}}]
[null,null,null,null,null,null,null,null,null,null,null,null,null,null,{"$f":"IF(#REF!=\"\",\"\",IF(#REF!<TODAY(),0,IF(#REF!<(TODAY()+365),1,\"X\")))","v":{"$error":"#REF!"}},{"$f":"IF(#REF!=\"\",\"\",\"X\")","v":{"$error":"#REF!"}}]
[null,null,null,null,null,null,null,null,null,null,null,null,null,null,{"$f":"IF(#REF!=\"\",\"\",IF(#REF!<TODAY(),0,IF(#REF!<(TODAY()+365),1,\"X\")))","v":{"$error":"#REF!"}},{"$f":"IF(#REF!=\"\",\"\",\"X\")","v":{"$error":"#REF!"}}]
[null,null,null,null,null,null,null,null,null,null,null,null,null,null,{"$f":"IF(#REF!=\"\",\"\",IF(#REF!<TODAY(),0,IF(#REF!<(TODAY()+365),1,\"X\")))","v":{"$error":"#REF!"}},{"$f":"IF(#REF!=\"\",\"\",\"X\")","v":{"$error":"#REF!"}}]
[null,null,null,null,null,null,null,null,null,null,null,null,null,null,{"$f":"IF(#REF!=\"\",\"\",IF(#REF!<TODAY(),0,IF(#REF!<(TODAY()+365),1,\"X\")))","v":{"$error":"#REF!"}},{"$f":"IF(#REF!=\"\",\"\",\"X\")","v":{"$error":"#REF!"}}]
[null,null,null,null,null,null,null,null,null,null,null,null,null,null,{"$f":"IF(#REF!=\"\",\"\",IF(#REF!<TODAY(),0,IF(#REF!<(TODAY()+365),1,\"X\")))","v":{"$error":"#REF!"}},{"$f":"IF(#REF!=\"\",\"\",\"X\")","v":{"$error":"#REF!"}}]
[null,null,null,null,null,null,null,null,null,null,null,null,null,null,{"$f":"IF(#REF!=\"\",\"\",IF(#REF!<TODAY(),0,IF(#REF!<(TODAY()+365),1,\"X\")))","v":{"$error":"#REF!"}},{"$f":"IF(#REF!=\"\",\"\",\"X\")","v":{"$error":"#REF!"}}]
[null,null,null,null,null,null,null,null,null,null,null,null,null,null,{"$f":"IF(#REF!=\"\",\"\",IF(#REF!<TODAY(),0,IF(#REF!<(TODAY()+365),1,\"X\")))","v":{"$error":"#REF!"}},{"$f":"IF(#REF!=\"\",\"\",\"X\")","v":{"$error":"#REF!"}}]
[null,null,null,null,null,null,null,null,null,null,null,null,null,null,{"$f":"IF(#REF!=\"\",\"\",IF(#REF!<TODAY(),0,IF(#REF!<(TODAY()+365),1,\"X\")))","v":{"$error":"#REF!"}},{"$f":"IF(#REF!=\"\",\"\",\"X\")","v":{"$error":"#REF!"}}]
[null,null,null,null,null,null,null,null,null,null,null,null,null,null,{"$f":"IF(#REF!=\"\",\"\",IF(#REF!<TODAY(),0,IF(#REF!<(TODAY()+365),1,\"X\")))","v":{"$error":"#REF!"}},{"$f":"IF(#REF!=\"\",\"\",\"X\")","v":{"$error":"#REF!"}}]
[null,null,null,null,null,null,null,null,null,null,null,null,null,null,{"$f":"IF(#REF!=\"\",\"\",IF(#REF!<TODAY(),0,IF(#REF!<(TODAY()+365),1,\"X\")))","v":{"$error":"#REF!"}},{"$f":"IF(#REF!=\"\",\"\",\"X\")","v":{"$error":"#REF!"}}]
[null,null,null,null,null,null,null,null,null,null,null,null,null,null,{"$f":"IF(#REF!=\"\",\"\",IF(#REF!<TODAY(),0,IF(#REF!<(TODAY()+365),1,\"X\")))","v":{"$error":"#REF!"}},{"$f":"IF(#REF!=\"\",\"\",\"X\")","v":{"$error":"#REF!"}}]
[null,null,null,null,null,null,null,null,null,null,null,null,null,null,{"$f":"IF(#REF!=\"\",\"\",IF(#REF!<TODAY(),0,IF(#REF!<(TODAY()+365),1,\"X\")))","v":{"$error":"#REF!"}},{"$f":"IF(#REF!=\"\",\"\",\"X\")","v":{"$error":"#REF!"}}]
[null,null,null,null,null,null,null,null,null,null,null,null,null,null,{"$f":"IF(#REF!=\"\",\"\",IF(#REF!<TODAY(),0,IF(#REF!<(TODAY()+365),1,\"X\")))","v":{"$error":"#REF!"}},{"$f":"IF(#REF!=\"\",\"\",\"X\")","v":{"$error":"#REF!"}}]
[null,null,null,null,null,null,null,null,null,null,null,null,null,null,{"$f":"IF(#REF!=\"\",\"\",IF(#REF!<TODAY(),0,IF(#REF!<(TODAY()+365),1,\"X\")))","v":{"$error":"#REF!"}},{"$f":"IF(#REF!=\"\",\"\",\"X\")","v":{"$error":"#REF!"}}]
[null,null,null,null,null,null,null,null,null,null,null,null,null,null,{"$f":"IF(#REF!=\"\",\"\",IF(#REF!<TODAY(),0,IF(#REF!<(TODAY()+365),1,\"X\")))","v":{"$error":"#REF!"}},{"$f":"IF(#REF!=\"\",\"\",\"X\")","v":{"$error":"#REF!"}}]
[null,null,null,null,null,null,null,null,null,null,null,null,null,null,{"$f":"IF(#REF!=\"\",\"\",IF(#REF!<TODAY(),0,IF(#REF!<(TODAY()+365),1,\"X\")))","v":{"$error":"#REF!"}},{"$f":"IF(#REF!=\"\",\"\",\"X\")","v":{"$error":"#REF!"}}]
[null,null,null,null,null,null,null,null,null,null,null,null,null,null,{"$f":"IF(#REF!=\"\",\"\",IF(#REF!<TODAY(),0,IF(#REF!<(TODAY()+365),1,\"X\")))","v":{"$error":"#REF!"}},{"$f":"IF(#REF!=\"\",\"\",\"X\")","v":{"$error":"#REF!"}}]
[null,null,null,null,null,null,null,null,null,null,null,null,null,null,{"$f":"IF(#REF!=\"\",\"\",IF(#REF!<TODAY(),0,IF(#REF!<(TODAY()+365),1,\"X\")))","v":{"$error":"#REF!"}},{"$f":"IF(#REF!=\"\",\"\",\"X\")","v":{"$error":"#REF!"}}]
[null,null,null,null,null,null,null,null,null,null,null,null,null,null,{"$f":"IF(#REF!=\"\",\"\",IF(#REF!<TODAY(),0,IF(#REF!<(TODAY()+365),1,\"X\")))","v":{"$error":"#REF!"}},{"$f":"IF(#REF!=\"\",\"\",\"X\")","v":{"$error":"#REF!"}}]
[null,null,null,null,null,null,null,null,null,null,null,null,null,null,{"$f":"IF(#REF!=\"\",\"\",IF(#REF!<TODAY(),0,IF(#REF!<(TODAY()+365),1,\"X\")))","v":{"$error":"#REF!"}},{"$f":"IF(#REF!=\"\",\"\",\"X\")","v":{"$error":"#REF!"}}]
[null,null,null,null,null,null,null,null,null,null,null,null,null,null,{"$f":"IF(#REF!=\"\",\"\",IF(#REF!<TODAY(),0,IF(#REF!<(TODAY()+365),1,\"X\")))","v":{"$error":"#REF!"}},{"$f":"IF(#REF!=\"\",\"\",\"X\")","v":{"$error":"#REF!"}}]
[null,null,null,null,null,null,null,null,null,null,null,null,null,null,{"$f":"IF(#REF!=\"\",\"\",IF(#REF!<TODAY(),0,IF(#REF!<(TODAY()+365),1,\"X\")))","v":{"$error":"#REF!"}},{"$f":"IF(#REF!=\"\",\"\",\"X\")","v":{"$error":"#REF!"}}]
[null,null,null,null,null,null,null,null,null,null,null,null,null,null,{"$f":"IF(#REF!=\"\",\"\",IF(#REF!<TODAY(),0,IF(#REF!<(TODAY()+365),1,\"X\")))","v":{"$error":"#REF!"}},{"$f":"IF(#REF!=\"\",\"\",\"X\")","v":{"$error":"#REF!"}}]
[null,null,null,null,null,null,null,null,null,null,null,null,null,null,{"$f":"IF(#REF!=\"\",\"\",IF(#REF!<TODAY(),0,IF(#REF!<(TODAY()+365),1,\"X\")))","v":{"$error":"#REF!"}},{"$f":"IF(#REF!=\"\",\"\",\"X\")","v":{"$error":"#REF!"}}]
[null,null,null,null,null,null,null,null,null,null,null,null,null,null,{"$f":"IF(#REF!=\"\",\"\",IF(#REF!<TODAY(),0,IF(#REF!<(TODAY()+365),1,\"X\")))","v":{"$error":"#REF!"}},{"$f":"IF(#REF!=\"\",\"\",\"X\")","v":{"$error":"#REF!"}}]
[null,null,null,null,null,null,null,null,null,null,null,null,null,null,{"$f":"IF(#REF!=\"\",\"\",IF(#REF!<TODAY(),0,IF(#REF!<(TODAY()+365),1,\"X\")))","v":{"$error":"#REF!"}},{"$f":"IF(#REF!=\"\",\"\",\"X\")","v":{"$error":"#REF!"}}]
[null,null,null,null,null,null,null,null,null,null,null,null,null,null,{"$f":"IF(#REF!=\"\",\"\",IF(#REF!<TODAY(),0,IF(#REF!<(TODAY()+365),1,\"X\")))","v":{"$error":"#REF!"}},{"$f":"IF(#REF!=\"\",\"\",\"X\")","v":{"$error":"#REF!"}}]
[null,null,null,null,null,null,null,null,null,null,null,null,null,null,{"$f":"IF(#REF!=\"\",\"\",IF(#REF!<TODAY(),0,IF(#REF!<(TODAY()+365),1,\"X\")))","v":{"$error":"#REF!"}},{"$f":"IF(#REF!=\"\",\"\",\"X\")","v":{"$error":"#REF!"}}]
[null,null,null,null,null,null,null,null,null,null,null,null,null,null,{"$f":"IF(#REF!=\"\",\"\",IF(#REF!<TODAY(),0,IF(#REF!<(TODAY()+365),1,\"X\")))","v":{"$error":"#REF!"}},{"$f":"IF(#REF!=\"\",\"\",\"X\")","v":{"$error":"#REF!"}}]
[null,null,null,null,null,null,null,null,null,null,null,null,null,null,{"$f":"IF(#REF!=\"\",\"\",IF(#REF!<TODAY(),0,IF(#REF!<(TODAY()+365),1,\"X\")))","v":{"$error":"#REF!"}},{"$f":"IF(#REF!=\"\",\"\",\"X\")","v":{"$error":"#REF!"}}]
[null,null,null,null,null,null,null,null,null,null,null,null,null,null,{"$f":"IF(#REF!=\"\",\"\",IF(#REF!<TODAY(),0,IF(#REF!<(TODAY()+365),1,\"X\")))","v":{"$error":"#REF!"}},{"$f":"IF(#REF!=\"\",\"\",\"X\")","v":{"$error":"#REF!"}}]
[null,null,null,null,null,null,null,null,null,null,null,null,null,null,{"$f":"IF(#REF!=\"\",\"\",IF(#REF!<TODAY(),0,IF(#REF!<(TODAY()+365),1,\"X\")))","v":{"$error":"#REF!"}},{"$f":"IF(#REF!=\"\",\"\",\"X\")","v":{"$error":"#REF!"}}]
[null,null,null,null,null,null,null,null,null,null,null,null,null,null,{"$f":"IF(#REF!=\"\",\"\",IF(#REF!<TODAY(),0,IF(#REF!<(TODAY()+365),1,\"X\")))","v":{"$error":"#REF!"}},{"$f":"IF(#REF!=\"\",\"\",\"X\")","v":{"$error":"#REF!"}}]
[null,null,null,null,null,null,null,null,null,null,null,null,null,null,{"$f":"IF(#REF!=\"\",\"\",IF(#REF!<TODAY(),0,IF(#REF!<(TODAY()+365),1,\"X\")))","v":{"$error":"#REF!"}},{"$f":"IF(#REF!=\"\",\"\",\"X\")","v":{"$error":"#REF!"}}]
[null,null,null,null,null,null,null,null,null,null,null,null,null,null,{"$f":"IF(#REF!=\"\",\"\",IF(#REF!<TODAY(),0,IF(#REF!<(TODAY()+365),1,\"X\")))","v":{"$error":"#REF!"}},{"$f":"IF(#REF!=\"\",\"\",\"X\")","v":{"$error":"#REF!"}}]
[null,null,null,null,null,null,null,null,null,null,null,null,null,null,{"$f":"IF(#REF!=\"\",\"\",IF(#REF!<TODAY(),0,IF(#REF!<(TODAY()+365),1,\"X\")))","v":{"$error":"#REF!"}},{"$f":"IF(#REF!=\"\",\"\",\"X\")","v":{"$error":"#REF!"}}]
[null,null,null,null,null,null,null,null,null,null,null,null,null,null,{"$f":"IF(#REF!=\"\",\"\",IF(#REF!<TODAY(),0,IF(#REF!<(TODAY()+365),1,\"X\")))","v":{"$error":"#REF!"}},{"$f":"IF(#REF!=\"\",\"\",\"X\")","v":{"$error":"#REF!"}}]
[null,null,null,null,null,null,null,null,null,null,null,null,null,null,{"$f":"IF(#REF!=\"\",\"\",IF(#REF!<TODAY(),0,IF(#REF!<(TODAY()+365),1,\"X\")))","v":{"$error":"#REF!"}},{"$f":"IF(#REF!=\"\",\"\",\"X\")","v":{"$error":"#REF!"}}]
[null,null,null,null,null,null,null,null,null,null,null,null,null,null,{"$f":"IF(#REF!=\"\",\"\",IF(#REF!<TODAY(),0,IF(#REF!<(TODAY()+365),1,\"X\")))","v":{"$error":"#REF!"}},{"$f":"IF(#REF!=\"\",\"\",\"X\")","v":{"$error":"#REF!"}}]
[null,null,null,null,null,null,null,null,null,null,null,null,null,null,{"$f":"IF(#REF!=\"\",\"\",IF(#REF!<TODAY(),0,IF(#REF!<(TODAY()+365),1,\"X\")))","v":{"$error":"#REF!"}},{"$f":"IF(#REF!=\"\",\"\",\"X\")","v":{"$error":"#REF!"}}]
[null,null,null,null,null,null,null,null,null,null,null,null,null,null,{"$f":"IF(#REF!=\"\",\"\",IF(#REF!<TODAY(),0,IF(#REF!<(TODAY()+365),1,\"X\")))","v":{"$error":"#REF!"}},{"$f":"IF(#REF!=\"\",\"\",\"X\")","v":{"$error":"#REF!"}}]
[null,null,null,null,null,null,null,null,null,null,null,null,null,null,{"$f":"IF(#REF!=\"\",\"\",IF(#REF!<TODAY(),0,IF(#REF!<(TODAY()+365),1,\"X\")))","v":{"$error":"#REF!"}},{"$f":"IF(#REF!=\"\",\"\",\"X\")","v":{"$error":"#REF!"}}]
[null,null,null,null,null,null,null,null,null,null,null,null,null,null,{"$f":"IF(#REF!=\"\",\"\",IF(#REF!<TODAY(),0,IF(#REF!<(TODAY()+365),1,\"X\")))","v":{"$error":"#REF!"}},{"$f":"IF(#REF!=\"\",\"\",\"X\")","v":{"$error":"#REF!"}}]
[null,null,null,null,null,null,null,null,null,null,null,null,null,null,{"$f":"IF(#REF!=\"\",\"\",IF(#REF!<TODAY(),0,IF(#REF!<(TODAY()+365),1,\"X\")))","v":{"$error":"#REF!"}},{"$f":"IF(#REF!=\"\",\"\",\"X\")","v":{"$error":"#REF!"}}]
[null,null,null,null,null,null,null,null,null,null,null,null,null,null,{"$f":"IF(#REF!=\"\",\"\",IF(#REF!<TODAY(),0,IF(#REF!<(TODAY()+365),1,\"X\")))","v":{"$error":"#REF!"}},{"$f":"IF(#REF!=\"\",\"\",\"X\")","v":{"$error":"#REF!"}}]
[null,null,null,null,null,null,null,null,null,null,null,null,null,null,{"$f":"IF(#REF!=\"\",\"\",IF(#REF!<TODAY(),0,IF(#REF!<(TODAY()+365),1,\"X\")))","v":{"$error":"#REF!"}},{"$f":"IF(#REF!=\"\",\"\",\"X\")","v":{"$error":"#REF!"}}]
[null,null,null,null,null,null,null,null,null,null,null,null,null,null,{"$f":"IF(#REF!=\"\",\"\",IF(#REF!<TODAY(),0,IF(#REF!<(TODAY()+365),1,\"X\")))","v":{"$error":"#REF!"}},{"$f":"IF(#REF!=\"\",\"\",\"X\")","v":{"$error":"#REF!"}}]
[null,null,null,null,null,null,null,null,null,null,null,null,null,null,{"$f":"IF(#REF!=\"\",\"\",IF(#REF!<TODAY(),0,IF(#REF!<(TODAY()+365),1,\"X\")))","v":{"$error":"#REF!"}},{"$f":"IF(#REF!=\"\",\"\",\"X\")","v":{"$error":"#REF!"}}]
[null,null,null,null,null,null,null,null,null,null,null,null,null,null,{"$f":"IF(#REF!=\"\",\"\",IF(#REF!<TODAY(),0,IF(#REF!<(TODAY()+365),1,\"X\")))","v":{"$error":"#REF!"}},{"$f":"IF(#REF!=\"\",\"\",\"X\")","v":{"$error":"#REF!"}}]
[null,null,null,null,null,null,null,null,null,null,null,null,null,null,{"$f":"IF(#REF!=\"\",\"\",IF(#REF!<TODAY(),0,IF(#REF!<(TODAY()+365),1,\"X\")))","v":{"$error":"#REF!"}},{"$f":"IF(#REF!=\"\",\"\",\"X\")","v":{"$error":"#REF!"}}]
[null,null,null,null,null,null,null,null,null,null,null,null,null,null,{"$f":"IF(#REF!=\"\",\"\",IF(#REF!<TODAY(),0,IF(#REF!<(TODAY()+365),1,\"X\")))","v":{"$error":"#REF!"}},{"$f":"IF(#REF!=\"\",\"\",\"X\")","v":{"$error":"#REF!"}}]
[null,null,null,null,null,null,null,null,null,null,null,null,null,null,{"$f":"IF(#REF!=\"\",\"\",IF(#REF!<TODAY(),0,IF(#REF!<(TODAY()+365),1,\"X\")))","v":{"$error":"#REF!"}},{"$f":"IF(#REF!=\"\",\"\",\"X\")","v":{"$error":"#REF!"}}]
[null,null,null,null,null,null,null,null,null,null,null,null,null,null,{"$f":"IF(#REF!=\"\",\"\",IF(#REF!<TODAY(),0,IF(#REF!<(TODAY()+365),1,\"X\")))","v":{"$error":"#REF!"}},{"$f":"IF(#REF!=\"\",\"\",\"X\")","v":{"$error":"#REF!"}}]
[null,null,null,null,null,null,null,null,null,null,null,null,null,null,{"$f":"IF(#REF!=\"\",\"\",IF(#REF!<TODAY(),0,IF(#REF!<(TODAY()+365),1,\"X\")))","v":{"$error":"#REF!"}},{"$f":"IF(#REF!=\"\",\"\",\"X\")","v":{"$error":"#REF!"}}]

{"sheet":"Synthèse de l'évaluation","index":4,"n_rows":38,"n_cols":16,"rows_kept":38,"cut":false,"hidden":false,"merged":[[32,15,32,16],[36,9,36,14],[37,9,37,14],[16,9,17,14],[20,9,21,14],[22,9,22,14],[18,9,18,14],[35,9,35,14],[32,9,32,14],[33,9,33,14],[34,9,34,14],[24,9,25,14],[27,9,28,14],[29,9,30,14],[24,15,25,16],[26,9,26,14],[31,9,31,14],[31,15,31,16],[29,15,30,16],[27,15,28,16],[26,15,26,16],[18,15,18,16],[20,15,21,16],[19,15,19,16],[23,9,23,14],[23,15,23,16],[22,15,22,16],[19,9,19,14],[0,10,0,14],[0,4,0,6],[1,4,1,6],[15,15,15,16],[16,15,17,16],[1,9,5,16],[7,10,7,14],[9,9,12,16],[15,9,15,14],[14,10,14,14],[30,0,30,1],[34,0,34,1],[38,0,38,4],[33,0,33,1],[30,5,30,6],[32,5,32,6],[37,15,37,16],[36,15,36,16],[35,15,35,16],[34,15,34,16],[33,15,33,16]]}
[null,null,null,null,"Date de saisie",null,null,null,null,null,"Consignes techniques"]
[null,"Milieux extérieurs* et montagne         * hors lacustres et souterrains",null,null,"2025-10-22T11:21:34",null,null,null,null,{"$f":"VLOOKUP('Evaluation de la mission'!T21,Tableau12[[Côte ]:[Consignes techniques]],2,FALSE)","v":"Adaptés aux conditions météo de la mission : Veste/teeshirt, pantalon/short, baskets, lunettes de soleil, casquette/couvre-chef/bonnet léger. + Adaptés au terrain: Chaussures de sport ou montantes. + Spécifiques au terrain : Chaussures de marche, gants, sous-vêtements chauds, pantalon léger, veste coupe-vent, tee-shirt respirant ou en laine,  gourde, casque et guêtres. + Techniques et équipements de protection individuel: Cordes, baudriers, eau, caleçon long respirant. + Spécifiques à la haute montagne : Ski, matériels de paroi, crampons, piolet, pantalon de haute montagne, polaire ou pull, veste Gore-Tex, paire de gants/bonnet, chaussures de montagne."}]
[]
[]
[]
[]
[null,"Organisation de la mission"]
["Lieu de la mission",{"$f":"'Evaluation de la mission'!G5","v":"Moye"},null,null,null,null,null,null,null,null,"Consignes organisationnelles"]
["Nature de la mission",{"$f":"'Evaluation de la mission'!F5","v":"test mission"}]
["Date début de la mission",{"$f":"'Evaluation de la mission'!D5","v":"2025-10-23"},null,null,null,null,null,null,null,{"$f":"VLOOKUP('Evaluation de la mission'!T21,'Consignes Organisationnelles et'!A4:B8,2,FALSE)","v":"Ordre de mission. + Nécessité d’organiser la mission / Moyens de communication adaptés pour l’appel  éventuel des secours / Formations spécifiques sur le milieu / SST obligatoire des participants. + Préparation de la mission en amont : préconisations par le responsable de mission. Présence obligatoire de deux personnes pour l’ensemble de la mission, moyens de communication entre membres de l’équipe. + Validation des équipements par le responsable de mission, prise en compte des problèmes de charge pour les portages, vérifications par le responsable de mission. + Accompagnement soit par une personne du labo ayant les compétences nécessaires et la connaissance du terrain soit par un professionnel (voir remarques).\nSonnette terrain"}]
["Date fin de la mission",{"$f":"'Evaluation de la mission'!E5","v":"2025-10-23"}]
[]
[null,null,"B","C","E(B)","Permis bateau","SST","SST","SST Milieux hostiles"]
["Responsable mission",{"$f":"'Evaluation de la mission'!B5","v":"tutu"},{"$f":"'Evaluation de la mission'!I5:K20","v":"Oui"},"Oui","Oui",{"$f":"'Evaluation de la mission'!O5:P20","v":"Oui"},"Plus"]
[{"$f":"'Evaluation de la mission'!A6:B20","v":"Opérateur non qualifié"},"toto","Oui","Non","Non","Plus","Plus",null,null,null,"Obligations"]
["Responsable scientifique de la mission","titi","Plus","Plus","Plus","Oui","Oui",null,null,"Obligations du chef de mission avant le départ de la mission",null,null,null,null,null,"Résultats"]
[0,0,0,0,0,0,0,null,null,"Une information spécifique à la mission a été dispensée. : consignes chaque jour avant le départ de mission (place et mission de chacun…)",null,null,null,null,null,{"$f":"'Evaluation de la mission'!Y6","v":"Oui"}]
[0,0,0,0,0,0,0]
[0,0,0,0,0,0,0,null,null,"Vérification du bon état du matériel et des EPI des participants.",null,null,null,null,null,{"$f":"'Evaluation de la mission'!Z6","v":"Sans objet"}]
[0,0,0,0,0,0,0,null,null,"Check de la compatibilité de la fatigue des personnelles avec la mission chaque jour.",null,null,null,null,null,{"$f":"'Evaluation de la mission'!AA6","v":"Non "}]
[0,0,0,0,0,0,0,null,null,"S’assurer avant d’embarquer que les armements des navires sont complets pour le navire et de travail et son ou ses annexes.",null,null,null,null,null,{"$f":"'Evaluation de la mission'!AB6","v":"Oui"}]
[0,0,0,0,0,0,0]
[0,0,0,0,0,0,0,null,null,"Trousse de secours terrain.",null,null,null,null,null,{"$f":"'Evaluation de la mission'!AD6","v":"Sans objet"}]
[0,0,0,0,0,0,0,null,null,"Obligations du chef de mission durant la mission"]
[0,0,0,0,0,0,0,null,null,"Il s’engage à vérifier le matériel durant la mission et à modifier celui-ci ou la mission si besoin.",null,null,null,null,null,{"$f":"'Evaluation de la mission'!AE6","v":"Sans objet"}]
[0,0,0,0,0,0,0]
[0,0,0,0,0,0,0,null,null,"S’assure en permanence de la sécurité",null,null,null,null,null,{"$f":"'Evaluation de la mission'!AF6","v":"Oui"}]
[0,0,0,0,0,0,0,null,null,"S’engage à arrêter la mission, à revenir dans un lieu sécurisé, ou à mettre en place une procédure d’urgence. Il a la seule autorité pour ces choix.",null,null,null,null,null,{"$f":"'Evaluation de la mission'!AG6","v":"Non "}]
[0,0,0,0,0,0,0]
[null,null,null,null,null,null,null,null,null,"S’engage en cas d’accident à mettre en attente de la victime, à déclencher l’alerte. Il alerte sans délai le DU, l’AP.",null,null,null,null,null,{"$f":"'Evaluation de la mission'!AH6","v":"Oui"}]
["Niveau de risque avant application des obligations du chef de mission (0 à 100)",null,null,null,null,{"$f":"'Evaluation de la mission'!R10","v":78.297352823377267}]
[null,null,null,null,null,null,null,null,null,"Intervention de personnels extérieurs au labo"]
["Niveau de risque après application des obligations du chef de mission (0 à 100)",null,null,null,null,{"$f":"'Evaluation de la mission'!R16","v":56.297352823377267},null,null,null,"Travail en commun : une convention a été signée",null,null,null,null,null,{"$f":"'Evaluation de la mission'!AI6","v":"Sans objet"}]
[null,null,{"$f":"'Evaluation de la mission'!R6","v":5},null,null,null,null,null,null,"Travaux en co-activité : un plan de prévention a-t-il été signé?",null,null,null,null,null,{"$f":"'Evaluation de la mission'!AJ6","v":"Sans objet"}]
[null,null,null,null,null,null,null,null,null,"Incidents / Accidents"]
[null,null,null,null,null,null,null,null,null,"Moyen de communication prévus.",null,null,null,null,null,{"$f":"'Evaluation de la mission'!AK6","v":"Sans objet"}]
[null,null,null,null,null,null,null,null,null,"Les membres du groupe sont SST.",null,null,null,null,null,{"$f":"'Evaluation de la mission'!AL6","v":"Sans objet"}]
[null,null,null,null,null,null,null,null,null,"Pour les missions hors UE: S assurer de moyen de sauvetage mobilisable.",null,null,null,null,null,{"$f":"'Evaluation de la mission'!AM6","v":"Non "}]